BEGIN:VCALENDAR
VERSION:2.0
PRODID:-//Stefano &quot;Cisco&quot; Bellotti - ECPv6.15.17//NONSGML v1.0//EN
CALSCALE:GREGORIAN
METHOD:PUBLISH
X-ORIGINAL-URL:https://www.ciscovox.it
X-WR-CALDESC:Eventi per Stefano &quot;Cisco&quot; Bellotti
REFRESH-INTERVAL;VALUE=DURATION:PT1H
X-Robots-Tag:noindex
X-PUBLISHED-TTL:PT1H
BEGIN:VTIMEZONE
TZID:Europe/Rome
BEGIN:DAYLIGHT
TZOFFSETFROM:+0100
TZOFFSETTO:+0200
TZNAME:CEST
DTSTART:20230326T010000
END:DAYLIGHT
BEGIN:STANDARD
TZOFFSETFROM:+0200
TZOFFSETTO:+0100
TZNAME:CET
DTSTART:20231029T010000
END:STANDARD
BEGIN:DAYLIGHT
TZOFFSETFROM:+0100
TZOFFSETTO:+0200
TZNAME:CEST
DTSTART:20240331T010000
END:DAYLIGHT
BEGIN:STANDARD
TZOFFSETFROM:+0200
TZOFFSETTO:+0100
TZNAME:CET
DTSTART:20241027T010000
END:STANDARD
BEGIN:DAYLIGHT
TZOFFSETFROM:+0100
TZOFFSETTO:+0200
TZNAME:CEST
DTSTART:20250330T010000
END:DAYLIGHT
BEGIN:STANDARD
TZOFFSETFROM:+0200
TZOFFSETTO:+0100
TZNAME:CET
DTSTART:20251026T010000
END:STANDARD
END:VTIMEZONE
BEGIN:VEVENT
DTSTART;TZID=Europe/Rome:20240921T160000
DTEND;TZID=Europe/Rome:20240921T170000
DTSTAMP:20260422T133738
CREATED:20240828T132240Z
LAST-MODIFIED:20240828T132240Z
UID:94887-1726934400-1726938000@www.ciscovox.it
SUMMARY:Incontro con Cisco tra "Musica e Parole" al cinema Fulgor di Rimini per i Glory Days
DESCRIPTION:Tra “parole e musica” in cui  Cindy Mizelle e Cisco racconteranno storie\, aneddoti e segreti della loro carriera musicale\, tra Bruce Springsteen e i Rolling Stones\, tra Withney Houston e Mariah Carey\, tra i Modena City Ramblers e la Bandabardò\, una viaggio indimenticabile\, conduce Luca De Gennaro di Radio Capital.\n\n\nProgramma: \n\nh 16\,00 “La canzone di protesta: da Bella ciao a Tom Joad\, Luca De Gennaro intervista Cisco”\nh 17\,00 “A musical journey: Luca De Gennaro intervista Cindy Mizelle”​\n\nCinema Fulgor  Corso D’Augusto 126\, Rimini centro\nInfo e ticket: http://www.glorydaysinrimini.net/prevendita\nL’ingresso costa 10 euro e comprende entrambi gli speech (tuo e di cindy mizelle)\, gratis per gli under 18\n\nInfo 348/7967063
URL:https://www.ciscovox.it/event/incontro-con-cisco-tra-musica-e-parole-al-cinema-fulgor-di-rimini-per-i-glory-days/
LOCATION:cinema Fulgor\, corso d'Augusto 162\, Rimini\, Rimini\, Italia
CATEGORIES:Acustico
ATTACH;FMTTYPE=image/png:https://www.ciscovox.it/wp-content/uploads/2024/08/Cisco-GD.png
END:VEVENT
END:VCALENDAR