BEGIN:VCALENDAR
VERSION:2.0
PRODID:-//Stefano &quot;Cisco&quot; Bellotti - ECPv6.15.17//NONSGML v1.0//EN
CALSCALE:GREGORIAN
METHOD:PUBLISH
X-ORIGINAL-URL:https://www.ciscovox.it
X-WR-CALDESC:Eventi per Stefano &quot;Cisco&quot; Bellotti
REFRESH-INTERVAL;VALUE=DURATION:PT1H
X-Robots-Tag:noindex
X-PUBLISHED-TTL:PT1H
BEGIN:VTIMEZONE
TZID:Europe/Rome
BEGIN:DAYLIGHT
TZOFFSETFROM:+0100
TZOFFSETTO:+0200
TZNAME:CEST
DTSTART:20190331T010000
END:DAYLIGHT
BEGIN:STANDARD
TZOFFSETFROM:+0200
TZOFFSETTO:+0100
TZNAME:CET
DTSTART:20191027T010000
END:STANDARD
BEGIN:DAYLIGHT
TZOFFSETFROM:+0100
TZOFFSETTO:+0200
TZNAME:CEST
DTSTART:20200329T010000
END:DAYLIGHT
BEGIN:STANDARD
TZOFFSETFROM:+0200
TZOFFSETTO:+0100
TZNAME:CET
DTSTART:20201025T010000
END:STANDARD
BEGIN:DAYLIGHT
TZOFFSETFROM:+0100
TZOFFSETTO:+0200
TZNAME:CEST
DTSTART:20210328T010000
END:DAYLIGHT
BEGIN:STANDARD
TZOFFSETFROM:+0200
TZOFFSETTO:+0100
TZNAME:CET
DTSTART:20211031T010000
END:STANDARD
BEGIN:DAYLIGHT
TZOFFSETFROM:+0100
TZOFFSETTO:+0200
TZNAME:CEST
DTSTART:20220327T010000
END:DAYLIGHT
BEGIN:STANDARD
TZOFFSETFROM:+0200
TZOFFSETTO:+0100
TZNAME:CET
DTSTART:20221030T010000
END:STANDARD
BEGIN:DAYLIGHT
TZOFFSETFROM:+0100
TZOFFSETTO:+0200
TZNAME:CEST
DTSTART:20230326T010000
END:DAYLIGHT
BEGIN:STANDARD
TZOFFSETFROM:+0200
TZOFFSETTO:+0100
TZNAME:CET
DTSTART:20231029T010000
END:STANDARD
BEGIN:DAYLIGHT
TZOFFSETFROM:+0100
TZOFFSETTO:+0200
TZNAME:CEST
DTSTART:20240331T010000
END:DAYLIGHT
BEGIN:STANDARD
TZOFFSETFROM:+0200
TZOFFSETTO:+0100
TZNAME:CET
DTSTART:20241027T010000
END:STANDARD
END:VTIMEZONE
BEGIN:VEVENT
DTSTART;TZID=Europe/Rome:20230226T190000
DTEND;TZID=Europe/Rome:20230226T210000
DTSTAMP:20260420T235930
CREATED:20230118T081552Z
LAST-MODIFIED:20230118T081552Z
UID:93729-1677438000-1677445200@www.ciscovox.it
SUMMARY:Soliera MO\, Il Merlo\, Cisco dal vivo in acustico inizio tardo pomeriggio ore 19:00
DESCRIPTION:Domenica 26 febbraio \, suoneremo dal vivo a Soliera in provincia di Modena \, in un piccolo locale chiamato il Merlo\, in un concerto in formato acustico insieme a Max Frignani\, Mario Shetl e Enrico Pasini circondato dal calore del pubblico.\nIl posto è molto contenuto ma molto caloroso è fortemente consigliata la prenotazione presso il locale stesso.\nil concerto è previsto per le 19:00 circa\, con ingresso gratuito ma consigliata la consumazione.\nVi aspettiamo
URL:https://www.ciscovox.it/event/soliera-mo-il-merlo-cisco-dal-vivo-in-acustico-inizio-tardo-pomeriggio-ore-1900/
LOCATION:il merlo\, Soliera\, Soliera\, Modena\, Italia
CATEGORIES:Acustico
END:VEVENT
BEGIN:VEVENT
DTSTART;TZID=Europe/Rome:20230127T210000
DTEND;TZID=Europe/Rome:20230127T230000
DTSTAMP:20260420T235930
CREATED:20230108T173754Z
LAST-MODIFIED:20230109T045220Z
UID:93655-1674853200-1674860400@www.ciscovox.it
SUMMARY:Carrara\, Teatro Palco 38 Blanca Teatro\, Cisco in concerto acustico per il giorno della Memoria!
DESCRIPTION:Venerdì 27 gennaio torneremo dal vivo con uno spettacolo speciale per il giorno della memoria dal titolo :\n“La memoria rende Liberi”\nSarà un Concerto in trio acustico con Max Frignani alle chitarre e Massimo Giuntini al Bouzouky\, Flauti e Uillian Pipe\, con  interventi di letture a tema \, recitati da Matteo Procuranti. \nNei prossimi giorni metteremo tutte le info per prenotare i oposti per la serata ma vi avvisiamo che saranno disponibili solo 80 posti prenotabili \, quindi state sul pezzo ! \nVenerdì 27 gennaio\nCarrara Teatro Palco 38\nLa memoria rende Liberi \, per il giorno della memoria ! \ninizio pre 21\,00
URL:https://www.ciscovox.it/event/carrara-teatro-palco-38-blanca-teatro-cisco-in-concerto-acusti-per-il-giorno-della-memoria/
LOCATION:teatro Palco 38\, via carriona 70\, Carrara\, Massa Carrara\, Italia
CATEGORIES:Acustico
END:VEVENT
BEGIN:VEVENT
DTSTART;TZID=Europe/Rome:20221223T210000
DTEND;TZID=Europe/Rome:20221223T230000
DTSTAMP:20260420T235930
CREATED:20221130T074628Z
LAST-MODIFIED:20221130T074628Z
UID:93615-1671829200-1671836400@www.ciscovox.it
SUMMARY:Manciano GR\, Nuovo cinema moderno\, Cisco dal vivo in trio acustico con Max Frignani e Massimo Giuntini
DESCRIPTION:NUOVA DATA!!\nIl venerdì 23 DICEMBRE si torna a suonare a Manciano  in provincia di Grosseto.\nDopo il grande concerto di questa estate\, con la Bandabardò\, della scorsa edizione del Manciano Street Music Festival @mancianostreetmusicfestival\, si tornerà in trio acustico\, in una location più raccolta\, per festeggiare i nostri trent’anni +1 di carriera.\nPer l’occasione ci esibiremo con una formazione davvero speciale con Max Frignani alle chitarre e Massimo Giuntini al Bouzouki e Ullian pipe per un concerto davvero imperdibile\,\nL’appuntamento sarà al Nuovo Cinema Moderno\, con possibilità di prenotare ai numeri 3395208601 – 3393074206 📲\nINGRESSO GRATUITO.\nPOSTI LIMITATI SOLO 180 DISPONIBILI !
URL:https://www.ciscovox.it/event/manciano-gr-nuovo-cinema-moderno-cisco-dal-vivo-in-trio-acustico-con-max-frignani-e-massimo-giuntini/
LOCATION:Nuovo cinema teatro moderno\, Manciano\, Manciano\, Grosseto\, Italia
CATEGORIES:Acustico
END:VEVENT
BEGIN:VEVENT
DTSTART;TZID=Europe/Rome:20221209T210000
DTEND;TZID=Europe/Rome:20221209T230000
DTSTAMP:20260420T235930
CREATED:20221116T160750Z
LAST-MODIFIED:20221116T160828Z
UID:93589-1670619600-1670626800@www.ciscovox.it
SUMMARY:Teatro Comunale Laura Betti\, Casalecchio di Reno BO\, Per sempre giovani\, Cisco dal vivo in quartetto acustico
DESCRIPTION:Siamo molto felici di comunicarvi che venerdì 9 dicembre suoneremo a Casalecchio di Reno (BO) in occasione delle manifestazioni per 32°anniversario della strage\, dell’Istituto Salvemini.\nSuoneremo in formazione acustica con @max_frignani @enricopasini e @mariosehtl\nIl concerto si svolgerà alle ore 20\, 45 al Teatro Comunale Laura Betti @teatro_betti\nIngresso libero fino ad esaurimento posti –\nPer Informazioni mail a trentennale.salvemini@gmail.com
URL:https://www.ciscovox.it/event/teatro-comunale-laura-betti-casalecchio-di-reno-bo-per-sempre-giovani-cisco-dal-vivo-in-quartetto-acustico/
LOCATION:Teatro Comunale\, Belluno\, Belluno\, Belluno\, Italy
CATEGORIES:Acustico
END:VEVENT
BEGIN:VEVENT
DTSTART;TZID=Europe/Rome:20210926T150000
DTEND;TZID=Europe/Rome:20210926T170000
DTSTAMP:20260420T235930
CREATED:20210826T075106Z
LAST-MODIFIED:20210925T225159Z
UID:66799-1632668400-1632675600@www.ciscovox.it
SUMMARY:Annullata la data di Cima Grappa TV\, Bassano del Grappa Vi\, Cisco dal vivo in trio acustico\, presso il Monumento al Partigiano sul monte Grappa
DESCRIPTION:Domenica 26 settembre\, torneremo a suonare vicino a Bassano del Grappa per un evento davvero speciale.\nInfatti suoneremo al pomeriggio alle ore 15\, presso il monumento al Partigiano che si trova sul monte Grappa\, a Cima Grappa\, nel comune di Pieve del Grappa (TV) \, per la ricorrenza del rastrellamento e dell’eccidio del Grappa.\nSarà un concerto rigorosamente in formazione acustica con l’esecuzione di canzoni significative per il posto e per la ricorrenza. \nIngresso libero con green pass\ninizio concerto ore 15;00 \nCima Grappa \, Monumento al Partigiano\, Pieve del Grappa\, TV\nDomenica 26 settembre\nPer prenotazioni chiamare: 3339661793
URL:https://www.ciscovox.it/event/bassano-del-grappa-vi-cisco-dal-vivo-in-trio-acustico-presso-il-monumento-al-partigiano-sul-monte-grappa/
LOCATION:monte grappa\, Monte Grappa\, Bassano del Grappa\, Vicenza\, Italia
CATEGORIES:Acustico
END:VEVENT
BEGIN:VEVENT
DTSTART;TZID=Europe/Rome:20210731T183000
DTEND;TZID=Europe/Rome:20210731T203000
DTSTAMP:20260420T235930
CREATED:20210611T080729Z
LAST-MODIFIED:20210727T182406Z
UID:61136-1627756200-1627763400@www.ciscovox.it
SUMMARY:Fosdinovo MS\, Fino al cuore della rivolta Festival\, Cisco dal vivo in acustico
DESCRIPTION:Sabato 31 luglio\, torneremo a suonare dai nostri cari amici del museo audiovisivo della Resistenza a Fosdinovo in provincia di Massa Carrara per il Festival “Fino al cuore della rivolta”\nSarà una giornata speciale dedicata a Peppino Impastato\, con vari ospite e concerto finale nostro sul tardo pomeriggio ! \nPer l’occaisone saremo in formazione speciale che presto vi annunceremo! \nIngresso gratuito\, inizio pomeridiano ore 18\,30 ! \n 
URL:https://www.ciscovox.it/event/fosdinovo-ms-fino-al-cuore-della-rivolta-festival-cisco-dal-vivo-in-acustico/
LOCATION:Museo Audiovisivo della Resistenza\, Fosdinovo\, Fosdinovo\, Massa Carrara\, Italia
CATEGORIES:Acustico
END:VEVENT
BEGIN:VEVENT
DTSTART;TZID=Europe/Rome:20210708T180000
DTEND;TZID=Europe/Rome:20210708T200000
DTSTAMP:20260420T235930
CREATED:20210701T132401Z
LAST-MODIFIED:20210701T132401Z
UID:62655-1625767200-1625774400@www.ciscovox.it
SUMMARY:Monte Sole\, Marzabotto\, BO Partecipazione in acustico di Cisco alla manifestazione antifascista!
DESCRIPTION:Anpi\, dalla commemorazione di Marzabotto il messaggio sul caso Vattani: “Nessun fascista può rappresentare la Repubblica”\nGiovedi 8 luglio ore 18\nPresso il prato del Poggiolo \, Rifugio Resistente\nManifestazione antifascista con la partecipazione di : \nValentina Cuppi \, sindaca di Marzabotto\nFlora Monti\, Staffetta partigiana\nRoberto Morassut deputato\nGianfranco Pagliarulo Presidente nazzionale dell’ANPI\nMaurizio Verona \, Sindaco di Stazzema \nCoordina Anna Cocchi presidente dell’ANPI Bologna \nPartecipazione in acustico di Cisco con alcune canzoni resistenti ! \ntardo pomeriggio !! \n 
URL:https://www.ciscovox.it/event/monte-sole-marzabotto-bo-partecipazione-in-acustico-di-cisco-alla-manifestazione-antifascista/
LOCATION:Monte Sole\, Marzabotto\, Marzabotto\, Bologna\, Italia
CATEGORIES:Acustico
END:VEVENT
BEGIN:VEVENT
DTSTART;TZID=Europe/Rome:20210703T180000
DTEND;TZID=Europe/Rome:20210703T200000
DTSTAMP:20260420T235930
CREATED:20210527T103404Z
LAST-MODIFIED:20210608T173900Z
UID:60020-1625335200-1625342400@www.ciscovox.it
SUMMARY:Pontebba\, UD Malga Glazzat\, Cisco dal vivo in trio acustico !
DESCRIPTION:Sabato 03 Luglio suoneremo dal vivo in un posto meraviglioso ai confini con l’Austria\, per la precisione alla Malga Glazzat a Pontebba in provincia di Udine. \nSarà davvero una occasione speciale per vederci dal vivo in Friuli e in quelle zone poco battute dai nostri tour.\novviamente ci saranno pochi posti da prenotare attraverso la malga stessa.\nL’ingresso sarà gratuito e l’inizio del concerto è previsto per le ore 18\,00 ! \nPer l’occasione  saremo in formazione acustica con Max Frignani alle chitarre e Simone Copellini alla tromba . \nVi aspettiamo numerosi ! \nIl “Baci e Abbracci Tour” raggiunge le alte quote delle montagne friulane inerpicandosi fino ai confini dell’Austria nello splendido scenario della Malga Glazzat a Pontebba (UD).\nSarà un concerto pomeridiano inedito e imperdibile in trio acustico con Max Frignani alle chitarre e Simone Copellini alla tromba. \nPrenotazione obbligatoria per misure anti covid. \n PRENOTAZIONE:\nPer partecipare al concerto è necessario compilare il form qui sotto con i propri contatti:\nhttps://forms.gle/ffm7CwyY2mEwYYTK9 \n COME ARRIVARE\n è altamente consigliato raggiungere la Malga a piedi\, con una passeggiata di circa 4\,5 km (1 ora) lasciando l’auto in Sella Cereschiatis (vedi info dettagliate nella foto);\n per chi ha necessità di arrivare in auto\, la strada da Sella Cereschiatis prosegue per 4\,5 km di strada bianca con alcuni brevi tratti dissestati. Si consiglia in ogni caso di partire con anticipo poiché la strada dal primo pomeriggio sarà chiusa al transito fino alla conclusione dell’evento. \n IN CASO DI MALTEMPO\n vestirsi con abbigliamento adatto alla montagna perché spesso in quota ci sono temporali improvvisi e la sera può fare freddo;\n il concerto non sarà rinviato\, seguite la pagina facebook Malga Glazzat per tenervi aggiornati su eventuali comunicazioni in merito. \n INFORMAZIONI GENERALI\n potete portare una coperta da pic nic per sedervi sui prati;\n per questioni di sicurezza non sarà possibile portare cani;\n il ristoro sarà aperto sia a pranzo che a cena;\n non sarà possibile pernottare in quanto l’intera struttura sarà occupata. Se avete necessità di pernottare\, contattate la Malga per indicazioni di altre strutture ricettive sul territorio;\n non sarà consentito portare bottiglie in vetro e lattine nella zona concerto. \nPer maggiori info:\n– pm alla pagina facebook Malga Glazzat\n– telefono 3338727991 \n 
URL:https://www.ciscovox.it/event/pontebba-ud-malga-glazzat-cisco-dal-vivo-in-trio-acustico/
LOCATION:malga Glazzat\, Malga Glazzzat\, Pontebba\, Udine\, Italia
CATEGORIES:Acustico
END:VEVENT
BEGIN:VEVENT
DTSTART;TZID=Europe/Rome:20210626T210000
DTEND;TZID=Europe/Rome:20210626T223000
DTSTAMP:20260420T235930
CREATED:20210527T100550Z
LAST-MODIFIED:20210527T100550Z
UID:60018-1624741200-1624746600@www.ciscovox.it
SUMMARY:Carpi MO\, Cortile di San Rocco\, Cisco dal vivo in acustico.
DESCRIPTION:Sabato 26 giugno !| Dal vivo a Carpi al cortile di San Rocco! \nCome lo scorso anno riprenderemo le date all’aperto dalla nostra Carpi \, sempre al cortile di San Rocco e sempre in formazione acustica. Anche quest’anno saranno messi a disposizione un centinaio di posti a sedere da prenotare .\nIngresso 10 euro \, Nei prossimi giorni vi aggiorneremo sui modi di prenotazione. \nInizio ore 21\,00 \nVi aspettiamo numerosi per quanto possibile !
URL:https://www.ciscovox.it/event/carpi-mo-cortile-di-san-rocco-cisco-dal-vivo-in-acustico/
LOCATION:cortile San Rocco\, Carpi\, Carpi\, Modena\, Italia
CATEGORIES:Acustico
END:VEVENT
BEGIN:VEVENT
DTSTART;TZID=Europe/Rome:20200910T213000
DTEND;TZID=Europe/Rome:20200910T233000
DTSTAMP:20260420T235930
CREATED:20200907T091514Z
LAST-MODIFIED:20200907T091514Z
UID:40647-1599773400-1599780600@www.ciscovox.it
SUMMARY:Bologna\, Parco di villa Angeletti\, partecipazione acustica alla Festa irlandese edizione estiva!
DESCRIPTION:Concerto last minute\, a Bologna \, giovedi 10 settembre per la festa irlandese in edizione speciale estiva\, che si terrà presso il parco di Villa Angeletti!\nsaremo in formazione acustica con :\nMax Frignani alle chitarre\nEnrico Pasini alla tromba e fisa\nMario Sehtl al violino \ngiovedì 10 settembre\ninizio ore 21\, 30 ingresso gratuito\nparco villa Angeletti\nBologna \n\n\n\n\nIrlanda In Festa A Bologna\n14ima Edizione – 2020\nDa Giovedì 10 a Domenica 13 Settembre 2020 – dalle ore 19:00\nParco Villa Angeletti – Bologna (BO)\n\n\nVi avevamo promesso che qualcosa ci saremmo inventati per non dover aspettare fino a Marzo 2021\, ed eccoci qua!\nLo splendido Parco di Villa Angeletti si animerà dal 10 al 13 Settembre\, delle note e dei colori d’Irlanda.\nPurtroppo non potremo abbracciarci e ballare sotto al palco\, come in tutte le altre 15 edizioni. Sarà necessario stare a debita distanza e rispettare i protocolli ma non per questo ci mancherà la voglia di festeggiare il nostro santo preferito.\nNei quattro giorni di Irlanda in Festa si alterneranno sul palco solo favolose band acustiche che ascolteremo seduti sul prato o nei tavoli\, ovviamente con una Guinness in mano.\nCome al solito\, non mancherà la buona cucina irlandese e un’area di street food dove assaporare piatti italiani e da diverse nazioni! E non mancherà neanche il mercatino di artigianato tipico. \nL’INGRESSO A IRLANDA IN FESTA E’ SEMPRE GRATUITO!
URL:https://www.ciscovox.it/event/bologna-parco-di-villa-angeletti-partecipazione-acustica-alla-festa-irlandese-edizione-estiva/
LOCATION:parco villa Angeletti\, bologna\, Bologna\, Bologna\, Italia
CATEGORIES:Acustico
END:VEVENT
BEGIN:VEVENT
DTSTART;TZID=Europe/Rome:20200909T213000
DTEND;TZID=Europe/Rome:20200909T233000
DTSTAMP:20260420T235930
CREATED:20200707T145643Z
LAST-MODIFIED:20200707T145643Z
UID:36131-1599687000-1599694200@www.ciscovox.it
SUMMARY:Desio MB\, Villa Tittoni \, Festival Cisco dal vivo in trio acustico
DESCRIPTION:Nuova data in trio acustico per questa estate 2020\, questa volta saremo in una location unica e prestigiosa come il Parco di Villa Tittoni a Desio in provincia di Monza-Brianza.\nSarà una serata speciale in una cornice speciale\, una delle poche date di quest’anno in Lombardia \, con posti distanziati e da prenotare\, assolutamente da non mancare. \nPresto le info per prenotazioni  posti. \nMercoledì 09 settembre\nDesio MB\nParco Villa Tittoni
URL:https://www.ciscovox.it/event/desio-mb-villa-tittoni-festival-cisco-dal-vivo-in-trio-acustico/
LOCATION:villa Tittoni\, Desio\, Desio\, Monza Brianza\, Italia
CATEGORIES:Acustico
END:VEVENT
BEGIN:VEVENT
DTSTART;TZID=Europe/Rome:20200801T180000
DTEND;TZID=Europe/Rome:20200801T193000
DTSTAMP:20260420T235930
CREATED:20200722T081142Z
LAST-MODIFIED:20200723T143436Z
UID:37216-1596304800-1596310200@www.ciscovox.it
SUMMARY:Fosdinovo MS\, Museo audiovisivo della Resistenza\, Cisco in acustico in una giornata dedicata a Luis Sepulveda!
DESCRIPTION:Siamo lieti di annunciarvi che sabato primo agosto\, suoneremo dal vivo a Fosdinovo in provincia di Massa\, per gli amici del Museo audiovisivo della Resistenza.\nSarà un concerto\, in veste acustica\,  pomeridiano\, dedicato all’amico e grande scrittore recentemente scomparso Luis “Lucho” Sepulveda. Il titolo della serata sarà “Il vecchio che scriveva romanzi d’amore“\, parafrasando il titolo di uno dei suoi libri più belli e coinvolgenti. Con noi sul palco a ricordare “Lucho” ci sarà Matteo Procuranti che leggerà brani di articoli e libri del grande scrittore scomparso per colpa del covid19.\nPresto le info per prenotare i posti e per gli orari precisi. Tenetevi liberi ! \nSabato 01 agosto \nSabato 01 agosto\nFosdinovo MS\, Museo audiovisivo della Resistenza\nOrario Pomeridiano\nIngresso su prenotazione.
URL:https://www.ciscovox.it/event/fosdinovo-ms-museo-audiovisivo-della-resistenza-cisco-in-acustico-in-una-giornata-dedicata-a-luis-sepulveda/
LOCATION:fosdinovo\, museo audiovisivo della Resistenza\, Fosdinovo\, Massa\, Italia
CATEGORIES:Acustico
END:VEVENT
BEGIN:VEVENT
DTSTART;TZID=Europe/Rome:20200711T213000
DTEND;TZID=Europe/Rome:20200711T233000
DTSTAMP:20260420T235930
CREATED:20200626T082505Z
LAST-MODIFIED:20200629T152253Z
UID:35289-1594503000-1594510200@www.ciscovox.it
SUMMARY:Carpi MO\, Chiostro di San Rocco\, Cisco dal vivo in acustico per la rassegna Coccobello estate.
DESCRIPTION:Una nuova buona notizia in questo balordo 2020\, infatti siamo lieti di annunciarvi che ci è stata confermata una nuova data\, da fare prima di quella prevista per il 16 luglio a Bologna\, data tra l’altro gia esaurita!\nInfatti sabato 11 luglio suoneremo dal vivo nella nostra Carpi \, presso lo splendido Chiostro di San Rocco\, per la rassegna estiva Coccobello.\nSarà un’esibizione acustica in formazione di quartetto\, con Max Frignani alle chitarre\, Mario Sehtl al violino ede Enrico Pasini alla tromba e fisarmonica.\nOvviamente l’ingresso sarà contigentato e a pagamento per soli 92 ingressi al costo di 10 euro l’uno.\necco il link per la prenotazione dei posti per la serata: \nhttps://www.mailticket.it/manifestazione/XT29/CISCO_BELLOTTI \n 
URL:https://www.ciscovox.it/event/carpi-mo-chiostro-di-san-rocco-cisco-dal-vivo-in-acustico-per-la-rassegna-coccobello-estate/
LOCATION:chiostro san rocco\, chiostro San Rocco\, Carpi\, Modena\, 41012\, Italia
CATEGORIES:Acustico
END:VEVENT
END:VCALENDAR