BEGIN:VCALENDAR
VERSION:2.0
PRODID:-//Stefano &quot;Cisco&quot; Bellotti - ECPv6.15.17//NONSGML v1.0//EN
CALSCALE:GREGORIAN
METHOD:PUBLISH
X-ORIGINAL-URL:https://www.ciscovox.it
X-WR-CALDESC:Eventi per Stefano &quot;Cisco&quot; Bellotti
REFRESH-INTERVAL;VALUE=DURATION:PT1H
X-Robots-Tag:noindex
X-PUBLISHED-TTL:PT1H
BEGIN:VTIMEZONE
TZID:Europe/Rome
BEGIN:DAYLIGHT
TZOFFSETFROM:+0100
TZOFFSETTO:+0200
TZNAME:CEST
DTSTART:20200329T010000
END:DAYLIGHT
BEGIN:STANDARD
TZOFFSETFROM:+0200
TZOFFSETTO:+0100
TZNAME:CET
DTSTART:20201025T010000
END:STANDARD
BEGIN:DAYLIGHT
TZOFFSETFROM:+0100
TZOFFSETTO:+0200
TZNAME:CEST
DTSTART:20210328T010000
END:DAYLIGHT
BEGIN:STANDARD
TZOFFSETFROM:+0200
TZOFFSETTO:+0100
TZNAME:CET
DTSTART:20211031T010000
END:STANDARD
BEGIN:DAYLIGHT
TZOFFSETFROM:+0100
TZOFFSETTO:+0200
TZNAME:CEST
DTSTART:20220327T010000
END:DAYLIGHT
BEGIN:STANDARD
TZOFFSETFROM:+0200
TZOFFSETTO:+0100
TZNAME:CET
DTSTART:20221030T010000
END:STANDARD
END:VTIMEZONE
BEGIN:VEVENT
DTSTART;TZID=Europe/Rome:20210718T210000
DTEND;TZID=Europe/Rome:20210718T230000
DTSTAMP:20260420T190949
CREATED:20210527T103849Z
LAST-MODIFIED:20210527T103849Z
UID:60026-1626642000-1626649200@www.ciscovox.it
SUMMARY:Bolzano \, Parco delle Semirurali \, Cisco dal vivo con il Baci abbracci Tour !
DESCRIPTION:MANDELA DAY & concerto di Cisco Bellotti (ex- Modena City Ramblers) \nData: Domenica 18 Luglio dalle ore 17:00 in poi \nLuogo: Parco delle Semirurali (via Alessandria\, Bolzano) \nIn caso di pioggia l’evento sarà spostato presso il Teatro Rainerum (Piazza Domenicani 15\, Bolzano) \nProgramma: \nOre 17.00: lettura di fiabe africane \nQueste fiabe\, le “storie più care” di Mandela\, daranno ai più piccoli la possibilità di imparare qualcosa in più sulla cultura e sulle tradizioni di altri popoli. – In collaborazione con YoungCaritas \nOre 20.00: Presentazione del libro “When the revolution comes” con gli autori Giovanna Frisoli e Amerigo Sallusti \nDallo schiavismo fino al movimento Black Lives Matters: la musica come strumento di resistenza della cultura afroamericana e delle lotte antirazziali. – In collaborazione con la Biblioteca Culture del Mondo e Cooltour \nOre 21.00: “Baci e abbracci tour” \nCisco\, ex cantante dei Modena City Ramblers\, e la sua band. \nCisco Bellotti deve la sua formazione alla grande passione per la musica e quel mondo fertile del cantautorato nazionale ed internazionale con cui è cresciuto\, oltre che per l’attitudine al viaggio che gli ha permesso di incontrare nuove culture ed allargare gli orizzonti viaggiando per tutta l’Europa fino alla solitaria in Patagonia. \n“Baci e abbracci” è il nuovo singolo\, che vede la featuring di Simone Cristicchi; un brano di buon auspicio che nasce come reazione all’atmosfera di tristezza e di distanziamento causata dalla pandemia di Covid. Con l’augurio di tornare a divertirci insieme\, ad abbracciarci e baciarci di nuovo. \n 
URL:https://www.ciscovox.it/event/bolzano-parco-delle-semirurali-cisco-dal-vivo-con-il-baci-abbracci-tour/
LOCATION:Parco delle Semirurali\, Bolzano\, Bolzano\, Bolzano\, Italia
CATEGORIES:Baci abbracci Tour
END:VEVENT
BEGIN:VEVENT
DTSTART;TZID=Europe/Rome:20210710T213000
DTEND;TZID=Europe/Rome:20210710T233000
DTSTAMP:20260420T190949
CREATED:20210623T144443Z
LAST-MODIFIED:20210625T085556Z
UID:62061-1625952600-1625959800@www.ciscovox.it
SUMMARY:Ghilarza\, Oristano\, Piazza San Palmerio torre Aragonese\, Cisco dal vivo con il Baci e abbracci Tour
DESCRIPTION:Finalmente dopo tanto tempo\, torneremo in terra di Sardegna con un live del Baci e abbracci tour e per la precisione saremo a Ghilarza in Piazza San Palmerio terre Aragonese in provincia di Oristano. \nSarà una serata con tutta la band al completo per un concerto del tour estivo insieme a : \nMax Frignani  alle chitarre\nBruno Bonarrico al basso\nMario Sehtl  al violino\nEnrico Paso Pasini alla tromba e tastiere\nKaba Cavazzuti alla batteria\nCisco alla vox e chitarra\nvi aspettiamo numerosi \nInizio ore 21.30  ingresso gratuito \n 
URL:https://www.ciscovox.it/event/ghilarza-oristino-piazza-san-palmerio-torre-aragonese-cisco-dal-vivo-con-il-baci-e-abbracci-tour/
LOCATION:Ghilarza\, Piazza San Palmerio torre Aragonese\, Ghilarza\, oristano\, Italia
CATEGORIES:Baci abbracci Tour
END:VEVENT
BEGIN:VEVENT
DTSTART;TZID=Europe/Rome:20210709T213000
DTEND;TZID=Europe/Rome:20210709T233000
DTSTAMP:20260420T190949
CREATED:20210611T075013Z
LAST-MODIFIED:20210624T131033Z
UID:61131-1625866200-1625873400@www.ciscovox.it
SUMMARY:Arzago BG \, Piazza San Lorenzo \, Cisco dal vivo con il Baci e abbracci Tour
DESCRIPTION:Venerdì 09 Luglio torneremo in provincia di Bergamo per la precisione ad Arzago d’Adda\, per un concerto in  piazza S Lorenzo per la rassegna Arzago Rock. \nSarà una buona occasione per vedere la band al completo impegnata nel tour estivo di Baci e abbracci ! \nIngresso gratuito\, inizio ore 22:00 \nGli organizzatori segnalano che sarà ingresso libero fino a raggiunta capienza senza prenotazioni. \n 
URL:https://www.ciscovox.it/event/arzago-bg-piazza-san-lorenzo-cisco-dal-vivo-con-il-baci-e-abbracci-tour/
LOCATION:Arzago d’Adda\, Piazza San Lorenzo\, Arzago d'Adda\, Bergamo\, Italia
CATEGORIES:Baci abbracci Tour
END:VEVENT
BEGIN:VEVENT
DTSTART;TZID=Europe/Rome:20210523T180000
DTEND;TZID=Europe/Rome:20210523T200000
DTSTAMP:20260420T190949
CREATED:20210511T174249Z
LAST-MODIFIED:20210511T174723Z
UID:58793-1621792800-1621800000@www.ciscovox.it
SUMMARY:Longiano FC\, Teatro Petrella\, Baci abbracci tour.
DESCRIPTION:Finalmente ci siamo!!!\nE’ con molta emozione che possiamo comunicarvi la prima data di questo 2021 con la presenza del pubblico.\nEsordiremo domenica 23 maggio al Teatro Petrella di Longiano (FC)\, ore 18\,30\, un orario un po’ insolito che permetterà anche a chi non abita proprio vicinissimo di venire a festeggiare questo ritorno alle scene.\nChiaramente la prenotazione è obbligatoria e troverete i biglietti (euro 10\,00) su\nhttps://www.vivaticket.com/…/cisco-baci-e-abbracci/155772\nPer attenersi alle regole sanitarie vigenti lo storico teatro longianese sarà allestito\, grazie alla sua versatilità\, in versione music club. Il concerto sarà video registrato per Viralissima/Lepida TV\, in collaborazione con Regione Emilia-Romagna e ATER Circuito Regionale Multidisciplinare“.\nFaremo festa con:\nBruno Bonarrigo\nMassimiliano Frignani\nEnrico Pasini\nMario Sehtl
URL:https://www.ciscovox.it/event/longiano-fc-teatro-petrella-baci-abbracci-tour/
LOCATION:Teatro Petrella\, Longiano\, Longiano\, Forlì Cesena\, Italia
CATEGORIES:Baci abbracci Tour
END:VEVENT
END:VCALENDAR