BEGIN:VCALENDAR
VERSION:2.0
PRODID:-//Stefano &quot;Cisco&quot; Bellotti - ECPv6.15.17//NONSGML v1.0//EN
CALSCALE:GREGORIAN
METHOD:PUBLISH
X-WR-CALNAME:Stefano &quot;Cisco&quot; Bellotti
X-ORIGINAL-URL:https://www.ciscovox.it
X-WR-CALDESC:Eventi per Stefano &quot;Cisco&quot; Bellotti
REFRESH-INTERVAL;VALUE=DURATION:PT1H
X-Robots-Tag:noindex
X-PUBLISHED-TTL:PT1H
BEGIN:VTIMEZONE
TZID:Europe/Rome
BEGIN:DAYLIGHT
TZOFFSETFROM:+0100
TZOFFSETTO:+0200
TZNAME:CEST
DTSTART:20230326T010000
END:DAYLIGHT
BEGIN:STANDARD
TZOFFSETFROM:+0200
TZOFFSETTO:+0100
TZNAME:CET
DTSTART:20231029T010000
END:STANDARD
BEGIN:DAYLIGHT
TZOFFSETFROM:+0100
TZOFFSETTO:+0200
TZNAME:CEST
DTSTART:20240331T010000
END:DAYLIGHT
BEGIN:STANDARD
TZOFFSETFROM:+0200
TZOFFSETTO:+0100
TZNAME:CET
DTSTART:20241027T010000
END:STANDARD
BEGIN:DAYLIGHT
TZOFFSETFROM:+0100
TZOFFSETTO:+0200
TZNAME:CEST
DTSTART:20250330T010000
END:DAYLIGHT
BEGIN:STANDARD
TZOFFSETFROM:+0200
TZOFFSETTO:+0100
TZNAME:CET
DTSTART:20251026T010000
END:STANDARD
END:VTIMEZONE
BEGIN:VEVENT
DTSTART;TZID=Europe/Rome:20241005T213000
DTEND;TZID=Europe/Rome:20241005T230000
DTSTAMP:20260422T171448
CREATED:20240724T074104Z
LAST-MODIFIED:20240724T074104Z
UID:94849-1728163800-1728169200@www.ciscovox.it
SUMMARY:FIRENZE - Tuscany Hall - Cisco dal vivo con gli amici della Bandabardò per la festa di chiusura dell'Ultimo Tango Tour!
DESCRIPTION:Sabato 05 ottobre \, grande festa di chiusura dell’Ultimo tango tour di Cisco insieme alla Bandabardò a Firenze al Tuscany Hall. \nSarà davvero una data speciale per tutti noi \, infatti non c’è  luogo e modo migliore per salutare tutti gli amici che ci hanno seguito e che verranno a salutarci nella sala concerti piu prestigiosa e importante di Firenze! \nE chissà magari ci verranno a trovare anche altri amici che suoneranno insime a noi per festeggiare insieme la conclusione di questo lungo tour estivo dell’Ultimo tango tour!\nVi aspettiamo numerosi e calorosi come sempre. \nSabato 05 ottobre\nFirenze – Tuscany Hall\nInizio ore 21:30 – Ingresso a pagamento
URL:https://www.ciscovox.it/event/firenze-tuscany-hall-cisco-dal-vivo-con-gli-amici-della-bandabardo-per-la-festa-di-chiusura-dellultimo-tango-tour/
LOCATION:Tuscany hall\, Firenze\, Firenze\, Firenze\, Italia
CATEGORIES:Cisco & Bandabardò
ATTACH;FMTTYPE=image/jpeg:https://www.ciscovox.it/wp-content/uploads/2024/04/FB_IMG_1721383285996.jpg
END:VEVENT
BEGIN:VEVENT
DTSTART;TZID=Europe/Rome:20241006T180000
DTEND;TZID=Europe/Rome:20241006T210000
DTSTAMP:20260422T171448
CREATED:20240724T075322Z
LAST-MODIFIED:20240724T075500Z
UID:94851-1728237600-1728248400@www.ciscovox.it
SUMMARY:FAENZA (RA) - Piazza del Popolo - Cisco dal vivo con gli amici della Bandabardò per il Festival MEI
DESCRIPTION:Domenica 6 ottobre \, festa di chiusura del tour insieme alla Bandabardò presso l’importante MEI\, Meeting Etichette Indipendenti di Faenza in provincia di Ravenna. Il Concerto si terrà in Piazza del Popolo a Feanza per la chiusura del Festival !\nVi aspettiamo per festeggiare tutti insieme la chiusura dell’Ultimo Tango Tour che ci ha visto protagonisti insieme per tutta l’estate con gli amici della Bandabardò! \nDomenica 06 ottobre\nFaenza RA – Piazza del Popolo\nFestival MEI\nConcerto pomeridiano – Ingresso gratuito
URL:https://www.ciscovox.it/event/faenza-ra-piazza-del-popolo-cisco-dal-vivo-con-gli-amici-della-bandabardo-per-il-festival-mei/
LOCATION:piazza del Popolo\, Faenza\, Faenza\, Forlì Cesena\, Italia
CATEGORIES:Cisco & Bandabardò
ATTACH;FMTTYPE=image/jpeg:https://www.ciscovox.it/wp-content/uploads/2024/06/FB_IMG_1714816052567.jpg
END:VEVENT
END:VCALENDAR