BEGIN:VCALENDAR
VERSION:2.0
PRODID:-//Stefano &quot;Cisco&quot; Bellotti - ECPv6.15.17//NONSGML v1.0//EN
CALSCALE:GREGORIAN
METHOD:PUBLISH
X-ORIGINAL-URL:https://www.ciscovox.it
X-WR-CALDESC:Eventi per Stefano &quot;Cisco&quot; Bellotti
REFRESH-INTERVAL;VALUE=DURATION:PT1H
X-Robots-Tag:noindex
X-PUBLISHED-TTL:PT1H
BEGIN:VTIMEZONE
TZID:Europe/Rome
BEGIN:DAYLIGHT
TZOFFSETFROM:+0100
TZOFFSETTO:+0200
TZNAME:CEST
DTSTART:20210328T010000
END:DAYLIGHT
BEGIN:STANDARD
TZOFFSETFROM:+0200
TZOFFSETTO:+0100
TZNAME:CET
DTSTART:20211031T010000
END:STANDARD
BEGIN:DAYLIGHT
TZOFFSETFROM:+0100
TZOFFSETTO:+0200
TZNAME:CEST
DTSTART:20220327T010000
END:DAYLIGHT
BEGIN:STANDARD
TZOFFSETFROM:+0200
TZOFFSETTO:+0100
TZNAME:CET
DTSTART:20221030T010000
END:STANDARD
BEGIN:DAYLIGHT
TZOFFSETFROM:+0100
TZOFFSETTO:+0200
TZNAME:CEST
DTSTART:20230326T010000
END:DAYLIGHT
BEGIN:STANDARD
TZOFFSETFROM:+0200
TZOFFSETTO:+0100
TZNAME:CET
DTSTART:20231029T010000
END:STANDARD
END:VTIMEZONE
BEGIN:VEVENT
DTSTART;TZID=Europe/Rome:20220813T213000
DTEND;TZID=Europe/Rome:20220813T233000
DTSTAMP:20260421T111044
CREATED:20220721T131111Z
LAST-MODIFIED:20220721T131111Z
UID:92007-1660426200-1660433400@www.ciscovox.it
SUMMARY:Casciana Terme Lari\, Festa Rossa Cisco dal vivo insieme agli amici della Bandabardò con il "Non fa paura Tour"
DESCRIPTION:Dal primo di maggio per tutta l’estate\, fino ai primi di ottobre\, saremo impegnati con questo nuovo e meraviglioso tour insieme agli amici della Bandabardò.\nVi consigliamo di non perdere le date del tour\, cliccate sul link per rimanere sempre aggiornati: \n\n\n\n\n\nIl tour con gli amici della Bandabardò si arricchisce di nuove date! \nTutte le info su https://www.otrlive.it/tour-dates/non-fa-paura-tour-2022/
URL:https://www.ciscovox.it/event/casciana-terme-lari-festa-rossa-cisco-dal-vivo-insieme-agli-amici-della-bandabardo-con-il-non-fa-paura-tour/
LOCATION:festa rossa\, Casciana Terme\, Lari\, Pisa\, Italia
CATEGORIES:Cisco & Bandabardò
END:VEVENT
BEGIN:VEVENT
DTSTART;TZID=Europe/Rome:20220812T213000
DTEND;TZID=Europe/Rome:20220812T233000
DTSTAMP:20260421T111044
CREATED:20220703T160823Z
LAST-MODIFIED:20220703T160823Z
UID:90609-1660339800-1660347000@www.ciscovox.it
SUMMARY:Ripatransone AP\, Teatro delle Fonti\, 17Festival\, Cisco e Bandabardò insieme con il "Non fa paura Tour"
DESCRIPTION:Dal primo di maggio per tutta l’estate\, fino ai primi di ottobre\, saremo impegnati con questo nuovo e meraviglioso tour insieme agli amici della Bandabardò.\nVi consigliamo di non perdere le date del tour\, cliccate sul link per rimanere sempre aggiornati: \n\n\n\n\n\nIl tour con gli amici della Bandabardò si arricchisce di nuove date! \nTutte le info su https://www.otrlive.it/tour-dates/non-fa-paura-tour-2022/
URL:https://www.ciscovox.it/event/ripatransone-ap-teatro-delle-fonti-17festival-cisco-e-bandabardo-insieme-con-il-non-fa-paura-tour/
LOCATION:teatro delle fonti\, ripatransone\, Ripatransone\, Ascoli Piceno\, Italia
CATEGORIES:Cisco & Bandabardò
END:VEVENT
BEGIN:VEVENT
DTSTART;TZID=Europe/Rome:20220809T213000
DTEND;TZID=Europe/Rome:20220809T233000
DTSTAMP:20260421T111044
CREATED:20220422T084907Z
LAST-MODIFIED:20220703T162504Z
UID:84857-1660080600-1660087800@www.ciscovox.it
SUMMARY:Carpino FG\, Carpino in Folk\, Cisco e Bandabardò insieme dal vivo con il "Non fa paura Tour"
DESCRIPTION:Dal primo di maggio per tutta l’estate\, fino ai primi di ottobre\, saremo impegnati con questo nuovo e meraviglioso tour insieme agli amici della Bandabardò.\nVi consigliamo di non perdere le date del tour\, cliccate sul link per tutte le info e rimanere sempre aggiornati: \n\n\n\n\n\nIl tour con gli amici della Bandabardò si arricchisce di nuove date! \nTutte le info su https://www.otrlive.it/tour-dates/non-fa-paura-tour-2022/
URL:https://www.ciscovox.it/event/carpino-fg-carpino-folk-festival-cisco-e-bandabardo-insieme-con-il-non-fa-paura-tour/
LOCATION:Carpino Folk Festival\, Carpino\, Carpino\, Foggia\, Italia
CATEGORIES:Cisco & Bandabardò
END:VEVENT
BEGIN:VEVENT
DTSTART;TZID=Europe/Rome:20220808T213000
DTEND;TZID=Europe/Rome:20220808T233000
DTSTAMP:20260421T111044
CREATED:20220422T084621Z
LAST-MODIFIED:20220422T084621Z
UID:84854-1659994200-1660001400@www.ciscovox.it
SUMMARY:Castrignano De' Greci LE\, Kascignana Music Fest\, Cisco e Bandabardò insieme con il "Non fa paura Tour"
DESCRIPTION:Dal primo di maggio per tutta l’estate\, fino ai primi di ottobre\, saremo impegnati con questo nuovo e meraviglioso tour insieme agli amici della Bandabardò.\nVi consigliamo di non perdere le date del tour\, cliccate sul link per tutte le info e rimanere sempre aggiornati: \n\n\n\n\n\nIl tour con gli amici della Bandabardò si arricchisce di nuove date! \nTutte le info su https://www.otrlive.it/tour-dates/non-fa-paura-tour-2022/
URL:https://www.ciscovox.it/event/castrignano-de-greci-le-kascignana-music-fest-cisco-e-bandabardo-insieme-con-il-non-fa-paura-tour/
LOCATION:Kascignana Music Fest\, Castrignano de' Greci\, Castrignano de' Greci\, Lecce\, Italia
CATEGORIES:Cisco & Bandabardò
END:VEVENT
BEGIN:VEVENT
DTSTART;TZID=Europe/Rome:20220807T213000
DTEND;TZID=Europe/Rome:20220807T233000
DTSTAMP:20260421T111044
CREATED:20220422T082923Z
LAST-MODIFIED:20220422T082923Z
UID:84851-1659907800-1659915000@www.ciscovox.it
SUMMARY:Francavilla al Mare\, Chieti\, Cisco e Bandabardò insieme con il "Non fa paura Tour"
DESCRIPTION:Dal primo di maggio per tutta l’estate\, fino ai primi di ottobre\, saremo impegnati con questo nuovo e meraviglioso tour insieme agli amici della Bandabardò.\nVi consigliamo di non perdere le date del tour\, cliccate sul link per tutte le info e rimanere sempre aggiornati: \n\n\n\n\n\nIl tour con gli amici della Bandabardò si arricchisce di nuove date! \nTutte le info su https://www.otrlive.it/tour-dates/non-fa-paura-tour-2022/
URL:https://www.ciscovox.it/event/francavilla-al-mare-chieti-cisco-e-bandabardo-insieme-con-il-non-fa-paura-tour/
LOCATION:Blubar Summer Festival\, Francavilla al Mare\, Francavilla al Mare\, Chieti\, Italia
CATEGORIES:Cisco & Bandabardò
END:VEVENT
BEGIN:VEVENT
DTSTART;TZID=Europe/Rome:20220806T220000
DTEND;TZID=Europe/Rome:20220806T233000
DTSTAMP:20260421T111044
CREATED:20220609T140841Z
LAST-MODIFIED:20220609T140841Z
UID:88791-1659823200-1659828600@www.ciscovox.it
SUMMARY:Marsala TP\, Piazza della Repubblica\, Notte Bianca\, Cisco e Bandabardò insieme con il “Non fa paura tour”
DESCRIPTION:Dal primo di maggio per tutta l’estate\, fino ai primi di ottobre\, saremo impegnati con questo nuovo e meraviglioso tour insieme agli amici della Bandabardò.\nVi consigliamo di non perdere le date del tour\, cliccate sul link per rimanere sempre aggiornati: \n\n\n\n\n\nIl tour con gli amici della Bandabardò si arricchisce di nuove date! \nTutte le info su https://www.otrlive.it/tour-dates/non-fa-paura-tour-2022/
URL:https://www.ciscovox.it/event/marsala-tp-piazza-della-repubblica-notte-bianca-cisco-e-bandabardo-insieme-con-il-non-fa-paura-tour/
LOCATION:PIazza della Repubblica\, Piazza della Repubblica\, Marsala\, Trapani\, Italia
CATEGORIES:Cisco & Bandabardò
END:VEVENT
BEGIN:VEVENT
DTSTART;TZID=Europe/Rome:20220729T213000
DTEND;TZID=Europe/Rome:20220729T233000
DTSTAMP:20260421T111044
CREATED:20220422T082540Z
LAST-MODIFIED:20220422T082540Z
UID:84846-1659130200-1659137400@www.ciscovox.it
SUMMARY:Treviso\, Suoni di Marca\, Cisco e Bandabardò insieme con il "Non fa paura Tour"
DESCRIPTION:Dal primo di maggio per tutta l’estate\, fino ai primi di ottobre\, saremo impegnati con questo nuovo e meraviglioso tour insieme agli amici della Bandabardò.\nVi consigliamo di non perdere le date del tour\, cliccate sul link per tutte le info e rimanere sempre aggiornati: \n\n\n\n\n\nIl tour con gli amici della Bandabardò si arricchisce di nuove date! \nTutte le info su https://www.otrlive.it/tour-dates/non-fa-paura-tour-2022/
URL:https://www.ciscovox.it/event/treviso-suoni-di-marca-cisco-e-bandabardo-insieme-con-il-non-fa-paura-tour/
LOCATION:suoni di Marca\, Treviso\, Treviso\, Treviso\, Italy
CATEGORIES:Cisco & Bandabardò
END:VEVENT
BEGIN:VEVENT
DTSTART;TZID=Europe/Rome:20220725T213000
DTEND;TZID=Europe/Rome:20220725T233000
DTSTAMP:20260421T111044
CREATED:20220513T163114Z
LAST-MODIFIED:20220513T163149Z
UID:86511-1658784600-1658791800@www.ciscovox.it
SUMMARY:San Giovanni Valdarno AR\, Festival Orientoccidente\, Piazza Masaccio Cisco & Bandabardò insieme con il “Non fa paura Tour”
DESCRIPTION:Dal primo di maggio per tutta l’estate\, fino ai primi di ottobre\, saremo impegnati con questo nuovo e meraviglioso tour insieme agli amici della Bandabardò.\nVi consigliamo di non perdere le date del tour\, cliccate sul link per tutte le info e rimanere sempre aggiornati: \n\n\n\n\n\nIl tour con gli amici della Bandabardò si arricchisce di nuove date! \nTutte le info su https://www.otrlive.it/tour-dates/non-fa-paura-tour-2022/
URL:https://www.ciscovox.it/event/san-giovanni-valdarno-ar-festival-orientoccidente-piazza-masaccio-cisco-bandabardo-insieme-con-il-non-fa-paura-tour/
LOCATION:Piazza Masaccio\, San Giovanni Valdarno\, San Giovanni Valdarno\, Arezzo\, Italia
CATEGORIES:Cisco & Bandabardò
END:VEVENT
BEGIN:VEVENT
DTSTART;TZID=Europe/Rome:20220724T213000
DTEND;TZID=Europe/Rome:20220724T233000
DTSTAMP:20260421T111044
CREATED:20220422T082227Z
LAST-MODIFIED:20220422T082227Z
UID:84840-1658698200-1658705400@www.ciscovox.it
SUMMARY:Manciano GR\, Street Festival\, Cisco e Bandabardò insieme con il "Non fa paura Tour"
DESCRIPTION:Dal primo di maggio per tutta l’estate\, fino ai primi di ottobre\, saremo impegnati con questo nuovo e meraviglioso tour insieme agli amici della Bandabardò.\nVi consigliamo di non perdere le date del tour\, cliccate sul link per tutte le info e rimanere sempre aggiornati: \n\n\n\n\n\nIl tour con gli amici della Bandabardò si arricchisce di nuove date! \nTutte le info su https://www.otrlive.it/tour-dates/non-fa-paura-tour-2022/
URL:https://www.ciscovox.it/event/manciano-gr-street-festival-cisco-e-bandabardo-insieme-con-il-non-fa-paura-tour/
LOCATION:Street Festival\, Manciano\, Manciano\, Grosseto\, Italia
CATEGORIES:Cisco & Bandabardò
END:VEVENT
BEGIN:VEVENT
DTSTART;TZID=Europe/Rome:20220723T213000
DTEND;TZID=Europe/Rome:20220723T233000
DTSTAMP:20260421T111044
CREATED:20220422T081954Z
LAST-MODIFIED:20220422T082317Z
UID:84837-1658611800-1658619000@www.ciscovox.it
SUMMARY:Veroli FR\, Tarantelliri\, Cisco e Bandabardò insieme con il "Non fa paura Tour"
DESCRIPTION:Dal primo di maggio per tutta l’estate\, fino ai primi di ottobre\, saremo impegnati con questo nuovo e meraviglioso tour insieme agli amici della Bandabardò.\nVi consigliamo di non perdere le date del tour\, cliccate sul link per tutte le info e rimanere sempre aggiornati: \n\n\n\n\n\nIl tour con gli amici della Bandabardò si arricchisce di nuove date! \nTutte le info su https://www.otrlive.it/tour-dates/non-fa-paura-tour-2022/
URL:https://www.ciscovox.it/event/veroli-fr-tarantelliri-cisco-e-bandabardo-insieme-con-il-non-fa-paura-tour/
LOCATION:Tarantelliri\, Veroli\, Veroli\, Frosinone\, Italia
CATEGORIES:Cisco & Bandabardò
END:VEVENT
BEGIN:VEVENT
DTSTART;TZID=Europe/Rome:20220721T213000
DTEND;TZID=Europe/Rome:20220721T233000
DTSTAMP:20260421T111044
CREATED:20220422T081750Z
LAST-MODIFIED:20220623T151041Z
UID:84834-1658439000-1658446200@www.ciscovox.it
SUMMARY:Mantova\, Bike In\, Cisco e Bandabardò insieme con il "Non fa paura Tour"
DESCRIPTION:ATTENZIONE IL CONCERTO DI MANTOVA PREVISTO PER IL 16 LUGLIO È STATO SPOSTATO AL 21 LUGLIO!\nIl concerto diventa gratuito\, info nell’evento per il rimborso del biglietto!\n\n\n\n\n\nDal primo di maggio per tutta l’estate\, fino ai primi di ottobre\, saremo impegnati con questo nuovo e meraviglioso tour insieme agli amici della Bandabardò.\nVi consigliamo di non perdere le date del tour\, cliccate sul link per tutte le info e rimanere sempre aggiornati: \n\n\n\n\n\nIl tour con gli amici della Bandabardò si arricchisce di nuove date! \nTutte le info su https://www.otrlive.it/tour-dates/non-fa-paura-tour-2022/
URL:https://www.ciscovox.it/event/mantova-bike-in-cisco-e-bandabardo-insieme-con-il-non-fa-paura-tour/
LOCATION:Bike In\, Mantova\, Mantova\, Mantova\, Italia
CATEGORIES:Cisco & Bandabardò
END:VEVENT
BEGIN:VEVENT
DTSTART;TZID=Europe/Rome:20220712T213000
DTEND;TZID=Europe/Rome:20220712T233000
DTSTAMP:20260421T111044
CREATED:20220422T081427Z
LAST-MODIFIED:20220422T081547Z
UID:84830-1657661400-1657668600@www.ciscovox.it
SUMMARY:ROMA\, Cavea\, Auditorium Parco della musica\, Cisco e Bandabardò insieme con il "Non fa paura Tour"
DESCRIPTION:Dal primo di maggio per tutta l’estate\, fino ai primi di ottobre\, saremo impegnati con questo nuovo e meraviglioso tour insieme agli amici della Bandabardò.\nVi consigliamo di non perdere le date del tour\, cliccate sul link per tutte le info e rimanere sempre aggiornati: \n\n\n\n\n\nIl tour con gli amici della Bandabardò si arricchisce di nuove date! \nTutte le info su https://www.otrlive.it/tour-dates/non-fa-paura-tour-2022/
URL:https://www.ciscovox.it/event/roma-cavea-auditorium-parco-della-musica-cisco-e-bandabardo-insieme-con-il-non-fa-paura-tour/
LOCATION:Parco della Musica\, Roma\, Roma\, Roma\, Italia
CATEGORIES:Cisco & Bandabardò
END:VEVENT
BEGIN:VEVENT
DTSTART;TZID=Europe/Rome:20220709T213000
DTEND;TZID=Europe/Rome:20220709T233000
DTSTAMP:20260421T111044
CREATED:20220422T080948Z
LAST-MODIFIED:20220422T081143Z
UID:84827-1657402200-1657409400@www.ciscovox.it
SUMMARY:Bergamo\, NXT Station\, Piazzale degli Alpini\, Cisco e Bandabardò insieme con il "Non fa paura Tour"
DESCRIPTION:Dal primo di maggio per tutta l’estate\, fino ai primi di ottobre\, saremo impegnati con questo nuovo e meraviglioso tour insieme agli amici della Bandabardò.\nVi consigliamo di non perdere le date del tour\, cliccate sul link per rimanere sempre aggiornati: \n\n\n\n\n\nIl tour con gli amici della Bandabardò si arricchisce di nuove date! \nTutte le info su https://www.otrlive.it/tour-dates/non-fa-paura-tour-2022/
URL:https://www.ciscovox.it/event/bergamo-nxt-station-piazzale-degli-alpini-cisco-e-bandabardo-insieme-con-il-non-fa-paura-tour/
LOCATION:NXT Station\, Piazzale degli Alpini\, Bergamo\, BERGAMO\, Italy
CATEGORIES:Cisco & Bandabardò
END:VEVENT
BEGIN:VEVENT
DTSTART;TZID=Europe/Rome:20220707T213000
DTEND;TZID=Europe/Rome:20220707T233000
DTSTAMP:20260421T111044
CREATED:20220422T080703Z
LAST-MODIFIED:20220422T080703Z
UID:84823-1657229400-1657236600@www.ciscovox.it
SUMMARY:Prato\, Anfiteatro Santa Lucia\, Cisco e Bandabardò insieme con il "Non fa paura Tour"
DESCRIPTION:Dal primo di maggio per tutta l’estate\, fino ai primi di ottobre\, saremo impegnati con questo nuovo e meraviglioso tour insieme agli amici della Bandabardò.\nVi consigliamo di non perdere le date del tour\, cliccate sul link per rimanere sempre aggiornati: \n\n\n\n\n\nIl tour con gli amici della Bandabardò si arricchisce di nuove date! \nTutte le info su https://www.otrlive.it/tour-dates/non-fa-paura-tour-2022/
URL:https://www.ciscovox.it/event/prato-anfiteatro-santa-lucia-cisco-e-bandabardo-insieme-con-il-non-fa-paura-tour/
LOCATION:Anfiteatro Santa Lucia\, Prato\, Prato\, Prato\, Italia
CATEGORIES:Cisco & Bandabardò
END:VEVENT
BEGIN:VEVENT
DTSTART;TZID=Europe/Rome:20220702T213000
DTEND;TZID=Europe/Rome:20220702T233000
DTSTAMP:20260421T111044
CREATED:20220603T093630Z
LAST-MODIFIED:20220603T093723Z
UID:88309-1656797400-1656804600@www.ciscovox.it
SUMMARY:Pesaro\, Catarraduno \, Cisco e Bandabardò insieme con il “Non fa paura tour”
DESCRIPTION:Dal primo di maggio per tutta l’estate\, fino ai primi di ottobre\, saremo impegnati con questo nuovo e meraviglioso tour insieme agli amici della Bandabardò.\nVi consigliamo di non perdere le date del tour\, cliccate sul link per rimanere sempre aggiornati: \n\n\n\n\n\nIl tour con gli amici della Bandabardò si arricchisce di nuove date! \nTutte le info su https://www.otrlive.it/tour-dates/non-fa-paura-tour-2022/
URL:https://www.ciscovox.it/event/pesaro-cataraduno-cisco-e-bandabardo-insieme-con-il-non-fa-paura-tour/
LOCATION:catarraduno\, catarraduno\, Pesaro\, Pesaro\, Italia
CATEGORIES:Cisco & Bandabardò
END:VEVENT
BEGIN:VEVENT
DTSTART;TZID=Europe/Rome:20220701T213000
DTEND;TZID=Europe/Rome:20220701T233000
DTSTAMP:20260421T111044
CREATED:20220603T092846Z
LAST-MODIFIED:20220603T092846Z
UID:88306-1656711000-1656718200@www.ciscovox.it
SUMMARY:Torino\, Parco della Tesoriera\,  Cisco e Bandabardò insieme con il “Non fa paura tour”
DESCRIPTION:Dal primo di maggio per tutta l’estate\, fino ai primi di ottobre\, saremo impegnati con questo nuovo e meraviglioso tour insieme agli amici della Bandabardò.\nVi consigliamo di non perdere le date del tour\, cliccate sul link per rimanere sempre aggiornati: \n\n\n\n\n\nIl tour con gli amici della Bandabardò si arricchisce di nuove date! \nTutte le info su https://www.otrlive.it/tour-dates/non-fa-paura-tour-2022/
URL:https://www.ciscovox.it/event/torino-parco-della-tesoriera-cisco-e-bandabardo-insieme-con-il-non-fa-paura-tour/
LOCATION:parco della tesoriera\, parco della tesoriera\, Torino\, Torino\, Italia
CATEGORIES:Cisco & Bandabardò
END:VEVENT
BEGIN:VEVENT
DTSTART;TZID=Europe/Rome:20220622T213000
DTEND;TZID=Europe/Rome:20220622T233000
DTSTAMP:20260421T111044
CREATED:20220422T080429Z
LAST-MODIFIED:20220422T080429Z
UID:84820-1655933400-1655940600@www.ciscovox.it
SUMMARY:Bologna\, BOtanique\, Cisco e Bandabardò insieme con il "Non fa paura tour"
DESCRIPTION:Dal primo di maggio per tutta l’estate\, fino ai primi di ottobre\, saremo impegnati con questo nuovo e meraviglioso tour insieme agli amici della Bandabardò.\nVi consigliamo di non perdere le date del tour\, cliccate sul link per rimanere sempre aggiornati: \n\n\n\n\n\nIl tour con gli amici della Bandabardò si arricchisce di nuove date! \nTutte le info su https://www.otrlive.it/tour-dates/non-fa-paura-tour-2022/
URL:https://www.ciscovox.it/event/bologna-botanique-cisco-e-bandabardo-insieme-con-il-non-fa-paura-tour/
LOCATION:Botanique\, Bologna\, Bologna\, Bologna\, Italia
CATEGORIES:Cisco & Bandabardò
END:VEVENT
BEGIN:VEVENT
DTSTART;TZID=Europe/Rome:20220601T213000
DTEND;TZID=Europe/Rome:20220601T233000
DTSTAMP:20260421T111044
CREATED:20220422T080135Z
LAST-MODIFIED:20220422T080135Z
UID:84817-1654119000-1654126200@www.ciscovox.it
SUMMARY:Livorno\, Straborgo\, Cisco e la Bandabardò insieme con il " Non fa paura tour"
DESCRIPTION:Dal primo di maggio per tutta l’estate\, fino ai primi di ottobre\, saremo impegnati con questo nuovo e meraviglioso tour insieme agli amici della Bandabardò.\nVi consigliamo di non perdere le date del tour\, cliccate sul link per rimanere sempre aggiornati: \n\n\n\n\n\nIl tour con gli amici della Bandabardò si arricchisce di nuove date! \nTutte le info su https://www.otrlive.it/tour-dates/non-fa-paura-tour-2022/
URL:https://www.ciscovox.it/event/livorno-straborgo-cisco-e-la-bandabardo-insieme-con-il-non-fa-paura-tour/
LOCATION:Straborgo\, Livorno\, Livorno\, Livorno\, Italia
CATEGORIES:Cisco & Bandabardò
END:VEVENT
BEGIN:VEVENT
DTSTART;TZID=Europe/Rome:20220528T213000
DTEND;TZID=Europe/Rome:20220528T233000
DTSTAMP:20260421T111044
CREATED:20220422T075806Z
LAST-MODIFIED:20220513T163318Z
UID:84813-1653773400-1653780600@www.ciscovox.it
SUMMARY:Larino CB\, Piazza Duomo\, Cisco & Bandabardò insieme con il "Non fa paura Tour"
DESCRIPTION:Dal primo di maggio per tutta l’estate\, fino ai primi di ottobre\, saremo impegnati con questo nuovo e meraviglioso tour insieme agli amici della Bandabardò.\nVi consigliamo di non perdere le date del tour\, cliccate sul link per rimanere sempre aggiornati: \n\n\n\n\n\nIl tour con gli amici della Bandabardò si arricchisce di nuove date! \nTutte le info su https://www.otrlive.it/tour-dates/non-fa-paura-tour-2022/
URL:https://www.ciscovox.it/event/larino-cb-piazza-duomo-cisco-bandabardo-insieme-con-il-non-fa-pura-tour/
LOCATION:Larino\, Piazza Duomo\, Larino\, Campobasso\, Italia
CATEGORIES:Cisco & Bandabardò
END:VEVENT
BEGIN:VEVENT
DTSTART;TZID=Europe/Rome:20220511T213000
DTEND;TZID=Europe/Rome:20220511T233000
DTSTAMP:20260421T111044
CREATED:20220422T090310Z
LAST-MODIFIED:20220422T090310Z
UID:84870-1652304600-1652311800@www.ciscovox.it
SUMMARY:Pietragalla PZ\, Cisco e Bandabardò insieme con il "Non fa paura Tour"
DESCRIPTION:Dal primo di maggio per tutta l’estate\, fino ai primi di ottobre\, saremo impegnati con questo nuovo e meraviglioso tour insieme agli amici della Bandabardò.\nVi consigliamo di non perdere le date del tour\, cliccate sul link per tutte le info e rimanere sempre aggiornati: \n\n\n\n\n\nIl tour con gli amici della Bandabardò si arricchisce di nuove date! \nTutte le info su https://www.otrlive.it/tour-dates/non-fa-paura-tour-2022/
URL:https://www.ciscovox.it/event/pietragalla-pz-cisco-e-bandabardo-insieme-con-il-non-fa-paura-tour/
LOCATION:Pietragalla\, Pietragalla\, Pietragalla\, Potenza\, Italia
CATEGORIES:Cisco & Bandabardò
END:VEVENT
END:VCALENDAR