BEGIN:VCALENDAR
VERSION:2.0
PRODID:-//Stefano &quot;Cisco&quot; Bellotti - ECPv6.15.17//NONSGML v1.0//EN
CALSCALE:GREGORIAN
METHOD:PUBLISH
X-ORIGINAL-URL:https://www.ciscovox.it
X-WR-CALDESC:Eventi per Stefano &quot;Cisco&quot; Bellotti
REFRESH-INTERVAL;VALUE=DURATION:PT1H
X-Robots-Tag:noindex
X-PUBLISHED-TTL:PT1H
BEGIN:VTIMEZONE
TZID:Europe/Rome
BEGIN:DAYLIGHT
TZOFFSETFROM:+0100
TZOFFSETTO:+0200
TZNAME:CEST
DTSTART:20180325T010000
END:DAYLIGHT
BEGIN:STANDARD
TZOFFSETFROM:+0200
TZOFFSETTO:+0100
TZNAME:CET
DTSTART:20181028T010000
END:STANDARD
BEGIN:DAYLIGHT
TZOFFSETFROM:+0100
TZOFFSETTO:+0200
TZNAME:CEST
DTSTART:20190331T010000
END:DAYLIGHT
BEGIN:STANDARD
TZOFFSETFROM:+0200
TZOFFSETTO:+0100
TZNAME:CET
DTSTART:20191027T010000
END:STANDARD
BEGIN:DAYLIGHT
TZOFFSETFROM:+0100
TZOFFSETTO:+0200
TZNAME:CEST
DTSTART:20200329T010000
END:DAYLIGHT
BEGIN:STANDARD
TZOFFSETFROM:+0200
TZOFFSETTO:+0100
TZNAME:CET
DTSTART:20201025T010000
END:STANDARD
END:VTIMEZONE
BEGIN:VEVENT
DTSTART;TZID=Europe/Rome:20191220T210000
DTEND;TZID=Europe/Rome:20191220T230000
DTSTAMP:20260421T105723
CREATED:20191011T071611Z
LAST-MODIFIED:20191011T071611Z
UID:17162-1576875600-1576882800@www.ciscovox.it
SUMMARY:Bagnacavallo RA\, Teatro Goldoni\, Combat Folk Tour Cisco con Fry Moneti e Luca Lanzi
DESCRIPTION:Per festeggiare la maggiore età del disco “Novecento” uscito nel 2001 con successo di pubblico e di critica con la relativa fortunata tournée\, Stefano Cisco Bellotti\, allora front man dei MCR e Luca Lanzi\, musicista e cantante della Casa Del Vento tornano a calcare i palchi assieme. \nE come “collante” non poteva che esserci Francesco “Fry” Moneti che proprio con il gruppo aretino mosse i suoi primi passi nel mondo musicale per poi passare ai Modena di cui è ancora colonna portante. \nIl tour avrà un nome significativo ed evocativo per sottolineare la provenienza comune: “Combat Folk”\, termine nato negli anni ’90 per indicare quel fenomeno musicale che portò nella musica la voglia di cambiamento e di libertà di quel periodo di cui Cisco\, Luca e Francesco furono capostipiti. \nMa con l’età adulta cambiano anche gli scenari e il tour abbandonerà i luoghi dedicato al “pogo “ per approdare in spazi più piccoli e raccolti per assaporare meglio un concerto che sa già di evento. \nVenerdì 20 dicembre\nTeatro Goldoni\nBagnacavallo RA\nFesta della Liberazione di Bagnacavallo \, organizzato dall’ANPI\nConcerto inizio ore 21:00\nPresto le info per prevendita biglietti\nbagnacavalloanpi@gnail.com\ntel: 389 0003321
URL:https://www.ciscovox.it/event/bagnacavallo-ra-teatro-goldoni-combat-folk-tour-cisco-con-fry-moneti-e-luca-lanzi/
LOCATION:teatro Goldoni\, Bagnacavallo\, Ravenna\, Italia
CATEGORIES:Combat folk tour
END:VEVENT
BEGIN:VEVENT
DTSTART;TZID=Europe/Rome:20191215T180000
DTEND;TZID=Europe/Rome:20191215T200000
DTSTAMP:20260421T105723
CREATED:20191014T201408Z
LAST-MODIFIED:20191016T072736Z
UID:17338-1576432800-1576440000@www.ciscovox.it
SUMMARY:Cherasco Cuneo\, Teatro Salomone\, Combat Folk Tour Cisco con Fry Moneti e Luca Lanzi
DESCRIPTION:Per festeggiare la maggiore età del disco “Novecento” uscito nel 2001 con successo di pubblico e di critica con la relativa fortunata tournée\, Stefano Cisco Bellotti\, allora front man dei MCR e Luca Lanzi\, musicista e cantante della Casa Del Vento tornano a calcare i palchi assieme. \nE come “collante” non poteva che esserci Francesco “Fry” Moneti che proprio con il gruppo aretino mosse i suoi primi passi nel mondo musicale per poi passare ai Modena di cui è ancora colonna portante. \nIl tour avrà un nome significativo ed evocativo per sottolineare la provenienza comune: “Combat Folk”\, termine nato negli anni ’90 per indicare quel fenomeno musicale che portò nella musica la voglia di cambiamento e di libertà di quel periodo di cui Cisco\, Luca e Francesco furono capostipiti. \nMa con l’età adulta cambiano anche gli scenari e il tour abbandonerà i luoghi dedicato al “pogo “ per approdare in spazi più piccoli e raccolti per assaporare meglio un concerto che sa già di evento. \ndomenica 15 dicembre\nTeatro Salomone\nCherasco \, Cuneo\nConcerto pomeridiano inizio ore 18:00  ingresso 15 in cassa\nPresto le info per prevendita biglietti:       tel 0172427052 \,   335 7325498 \n 
URL:https://www.ciscovox.it/event/cherasco-cuneo-teatro-salomone-combat-folk-tour-cisco-con-fry-moneti-e-luca-lanzi/
LOCATION:teatro Salomone\, Cherasco\, Cuneo\, Italia
CATEGORIES:Combat folk tour
END:VEVENT
BEGIN:VEVENT
DTSTART;TZID=Europe/Rome:20191214T210000
DTEND;TZID=Europe/Rome:20191214T230000
DTSTAMP:20260421T105723
CREATED:20191003T083148Z
LAST-MODIFIED:20191003T083148Z
UID:16763-1576357200-1576364400@www.ciscovox.it
SUMMARY:Aosta\, Teatro Splendor\, Philippe Milleret & Cisco dal vivo nel Combat Folk tour con a Fry Moneti e Luca Lanzi
DESCRIPTION:Per festeggiare la maggiore età del disco “Novecento” uscito nel 2001 con successo di pubblico e di critica con la relativa fortunata tournée\, Stefano Cisco Bellotti\, allora front man dei MCR e Luca Lanzi\, musicista e cantante della Casa Del Vento tornano a calcare i palchi assieme. \nE come “collante” non poteva che esserci Francesco “Fry” Moneti che proprio con il gruppo aretino mosse i suoi primi passi nel mondo musicale per poi passare ai Modena di cui è ancora colonna portante. \nIl tour avrà un nome significativo ed evocativo per sottolineare la provenienza comune: “Combat Folk”\, termine nato negli anni ’90 per indicare quel fenomeno musicale che portò nella musica la voglia di cambiamento e di libertà di quel periodo di cui Cisco\, Luca e Francesco furono capostipiti. \nMa con l’età adulta cambiano anche gli scenari e il tour abbandonerà i luoghi dedicato al “pogo “ per approdare in spazi più piccoli e raccolti per assaporare meglio un concerto che sa già di evento. \nsabato 14 dicembre\nAosta \, Teatro Splendor\nSerata speciale con Philippe Milleret e il trio di Combat Folk\nConcerto inizio ore 21:00\nPresto le info per prezzo e prevendita biglietti
URL:https://www.ciscovox.it/event/aosta-teatro-splendor-philippe-milleret-cisco-dal-vivo-nel-combat-folk-tour-con-a-fry-moneti-e-luca-lanzi/
LOCATION:teatro splendor\, Aosta\, Aosta\, Italia
CATEGORIES:Combat folk tour
END:VEVENT
BEGIN:VEVENT
DTSTART;TZID=Europe/Rome:20191207T210000
DTEND;TZID=Europe/Rome:20191207T230000
DTSTAMP:20260421T105723
CREATED:20191001T072531Z
LAST-MODIFIED:20191001T072531Z
UID:16655-1575752400-1575759600@www.ciscovox.it
SUMMARY:Teatro di Banco\, Bedigliora\, Ticino\, Svizzera\, Combat Folk Tour con Cisco\, Fry Moneti e Luca Lanzi
DESCRIPTION:Per festeggiare la maggiore età del disco “Novecento” uscito nel 2001 con successo di pubblico e di critica con la relativa fortunata tournée\, Stefano Cisco Bellotti\, allora front man dei MCR e Luca Lanzi\, musicista e cantante della Casa Del Vento tornano a calcare i palchi assieme. \nE come “collante” non poteva che esserci Francesco “Fry” Moneti che proprio con il gruppo aretino mosse i suoi primi passi nel mondo musicale per poi passare ai Modena di cui è ancora colonna portante. \nIl tour avrà un nome significativo ed evocativo per sottolineare la provenienza comune: “Combat Folk”\, termine nato negli anni ’90 per indicare quel fenomeno musicale che portò nella musica la voglia di cambiamento e di libertà di quel periodo di cui Cisco\, Luca e Francesco furono capostipiti. \nMa con l’età adulta cambiano anche gli scenari e il tour abbandonerà i luoghi dedicato al “pogo “ per approdare in spazi più piccoli e raccolti per assaporare meglio un concerto che sa già di evento. \nsabato 07 dicembre\nTeatri di Banco \, Bedigliora\,\nCanton Ticino \, Svizzera\nInizio ore 21:00 ingresso non specificato\nper prevendita\, presto le info !
URL:https://www.ciscovox.it/event/teatro-di-banco-bedigliora-ticino-svizzera-combat-folk-tour-con-cisco-fry-moneti-e-luca-lanzi/
LOCATION:teatro di Banco\, Bedigliora\, Ticino\, Svizzera
CATEGORIES:Combat folk tour
END:VEVENT
BEGIN:VEVENT
DTSTART;TZID=Europe/Rome:20191206T220000
DTEND;TZID=Europe/Rome:20191206T233000
DTSTAMP:20260421T105723
CREATED:20191204T092800Z
LAST-MODIFIED:20191204T092930Z
UID:20087-1575669600-1575675000@www.ciscovox.it
SUMMARY:Salice Terme PV - Soqquadro Pub - Combat folk tour con Cisco insieme a Fry Moneti e Luca Lanzi
DESCRIPTION:Siamo molto felici di annunciarvi che all’ultimo minuto è entrata una data in sostituzione di quelle saltata a Cantù\, in provincia di Como\, prevista venerdì 6 dicembre! \nInfatti arriveremo con il nostro Combat Folk Tour a Salice Terme in provincia di Pavia\, presso il Soqquadro Pub.\nGli organizzatori ci dicono che il posto può contenere circa 100 persone ed essendo l’ingresso gratuito\, chi prima arriva meglio alloggia.\nComunque per sentire meglio contattare il locale stesso! \nSalice Terme PV\nSoqquadro Pub\nIngresso gratuito inizio ore 22:00
URL:https://www.ciscovox.it/event/salice-terme-pv-soqquadro-pub-combato-folk-tour-con-cisco-insieme-a-fry-moneti-e-luca-lanzi/
LOCATION:soqquadro pub\, salice terme\, salice terme\, Pavia\, Italia
CATEGORIES:Combat folk tour
END:VEVENT
BEGIN:VEVENT
DTSTART;TZID=Europe/Rome:20191206T220000
DTEND;TZID=Europe/Rome:20191206T233000
DTSTAMP:20260421T105723
CREATED:20191011T075734Z
LAST-MODIFIED:20191203T132313Z
UID:17166-1575669600-1575675000@www.ciscovox.it
SUMMARY:Cantù CO\, All'una e 35 circa\, ANNULLATA !!!
DESCRIPTION:PURTROPPO SIAMO COSTRETTI AD ANNULLARE LA DATA PREVISTA A CANTU’\, PER QUESTIONI BUROCRATICHE\, CHE IMPEDISCONO AL LOCALE DI ESSERE APERTO PER LA DATA DEL CONCERTO!!! \nSperiamo di recuperare la data piu avanti nel calendario ! \n  \n 
URL:https://www.ciscovox.it/event/cantu-co-alluna-e-35-circa-combat-folk-tour-cisco-con-fry-moneti-e-luca-lanzi/
LOCATION:all’una e 35 circa\, Cantù\, Como\, Italia
CATEGORIES:Combat folk tour
END:VEVENT
BEGIN:VEVENT
DTSTART;TZID=Europe/Rome:20191205T180000
DTEND;TZID=Europe/Rome:20191205T193000
DTSTAMP:20260421T105723
CREATED:20191025T082430Z
LAST-MODIFIED:20191025T082430Z
UID:17886-1575568800-1575574200@www.ciscovox.it
SUMMARY:Napoli\, Museo Archeologico\, Combat Folk Tour con Cisco insieme a Fry Moneti e Luca Lanzi
DESCRIPTION:Per festeggiare la maggiore età del disco “Novecento” uscito nel 2001 con successo di pubblico e di critica con la relativa fortunata tournée\, Stefano Cisco Bellotti\, allora front man dei MCR e Luca Lanzi\, musicista e cantante della Casa Del Vento tornano a calcare i palchi assieme. \nE come “collante” non poteva che esserci Francesco “Fry” Moneti che proprio con il gruppo aretino mosse i suoi primi passi nel mondo musicale per poi passare ai Modena di cui è ancora colonna portante. \nIl tour avrà un nome significativo ed evocativo per sottolineare la provenienza comune: “Combat Folk”\, termine nato negli anni ’90 per indicare quel fenomeno musicale che portò nella musica la voglia di cambiamento e di libertà di quel periodo di cui Cisco\, Luca e Francesco furono capostipiti. \nMa con l’età adulta cambiano anche gli scenari e il tour abbandonerà i luoghi dedicato al “pogo “ per approdare in spazi più piccoli e raccolti per assaporare meglio un concerto che sa già di evento. \ngiovedì 05 dicembre \, concerto pomeridiano\nNapoli – Museo Archeologico\nInizio ore 18:00 ingresso con il biglietto del museo
URL:https://www.ciscovox.it/event/napoli-museo-archeologico-combat-folk-tour-con-cisco-insieme-a-fry-moneti-e-luca-lanzi/
LOCATION:museo archeologico\, Napoli\, Napoli\, Italia
CATEGORIES:Combat folk tour
END:VEVENT
BEGIN:VEVENT
DTSTART;TZID=Europe/Rome:20191130T200000
DTEND;TZID=Europe/Rome:20191130T230000
DTSTAMP:20260421T105723
CREATED:20190930T092658Z
LAST-MODIFIED:20191030T171946Z
UID:16630-1575144000-1575154800@www.ciscovox.it
SUMMARY:Fosdinovo MS \, Museo della Resistenza\, Combat Folk Tour con Cisco\, Fry Moneti e Luca Lanzi
DESCRIPTION:Per festeggiare la maggiore età del disco “Novecento” uscito nel 2001 con successo di pubblico e di critica con la relativa fortunata tournée\, Stefano Cisco Bellotti\, allora front man dei MCR e Luca Lanzi\, musicista e cantante della Casa Del Vento tornano a calcare i palchi assieme. \nE come “collante” non poteva che esserci Francesco “Fry” Moneti che proprio con il gruppo aretino mosse i suoi primi passi nel mondo musicale per poi passare ai Modena di cui è ancora colonna portante. \nIl tour avrà un nome significativo ed evocativo per sottolineare la provenienza comune: “Combat Folk”\, termine nato negli anni ’90 per indicare quel fenomeno musicale che portò nella musica la voglia di cambiamento e di libertà di quel periodo di cui Cisco\, Luca e Francesco furono capostipiti. \nMa con l’età adulta cambiano anche gli scenari e il tour abbandonerà i luoghi dedicato al “pogo “ per approdare in spazi più piccoli e raccolti per assaporare meglio un concerto che sa già di evento. \nsabato 30 novembre\nFosdinovo MS\nMuseo audiovisivo della Resistenza\nCena – Concerto inizio ore 21:00\nper le prenotazioni posti per la cena\, sentire direttamente i ragazzi del museo.
URL:https://www.ciscovox.it/event/fosdinovo-ms-museo-della-resistenza-cisco-dal-vivo-con-combat-folk-tour/
LOCATION:museo della resistenza\, fino al cuore della rivolta\, Fosdinovo\, Massa\, Italia
CATEGORIES:Combat folk tour
END:VEVENT
BEGIN:VEVENT
DTSTART;TZID=Europe/Rome:20191129T220000
DTEND;TZID=Europe/Rome:20191129T233000
DTSTAMP:20260421T105723
CREATED:20190927T171230Z
LAST-MODIFIED:20191001T071554Z
UID:16549-1575064800-1575070200@www.ciscovox.it
SUMMARY:Cavriglia AR\, Officina Klee\, Combat Folk tour con Cisco\, Fry Moneti e Luca Lanzi
DESCRIPTION:Per festeggiare la maggiore età del disco “Novecento” uscito nel 2001 con successo di pubblico e di critica con la relativa fortunata tournée\, Stefano Cisco Bellotti\, allora front man dei MCR e Luca Lanzi\, musicista e cantante della Casa Del Vento tornano a calcare i palchi assieme. \nE come “collante” non poteva che esserci Francesco “Fry” Moneti che proprio con il gruppo aretino mosse i suoi primi passi nel mondo musicale per poi passare ai Modena di cui è ancora colonna portante. \nIl tour avrà un nome significativo ed evocativo per sottolineare la provenienza comune: “Combat Folk”\, termine nato negli anni ’90 per indicare quel fenomeno musicale che portò nella musica la voglia di cambiamento e di libertà di quel periodo di cui Cisco\, Luca e Francesco furono capostipiti. \nMa con l’età adulta cambiano anche gli scenari e il tour abbandonerà i luoghi dedicato al “pogo “ per approdare in spazi più piccoli e raccolti per assaporare meglio un concerto che sa già di evento. \nvenerdì 29 novembre\nOfficina Klee Cavriglia Arezzo\norario 21:30  biglietto 12 euro\nlink per prevendite:\nhttps://www.produzionidalbasso.com/projects/23168/support?funding_amount=12.00&reward_id=34862&support_quotas=&project_id=23168
URL:https://www.ciscovox.it/event/cavriglia-ar-officina-klee-combat-folk-tour-con-cisco-fry-moneti-e-luca-lanzi/
LOCATION:Officina Klee\, Cavriglia\, Arezzo\, Italia
CATEGORIES:Combat folk tour
END:VEVENT
BEGIN:VEVENT
DTSTART;TZID=Europe/Rome:20191124T180000
DTEND;TZID=Europe/Rome:20191124T200000
DTSTAMP:20260421T105723
CREATED:20191015T074626Z
LAST-MODIFIED:20191031T103227Z
UID:17380-1574618400-1574625600@www.ciscovox.it
SUMMARY:Buti\, Pisa Teatro Bartolo\, Combat Folk Tour\, Cisco con Fry Moneti e Luca Lanzi
DESCRIPTION:Per festeggiare la maggiore età del disco “Novecento” uscito nel 2001 con successo di pubblico e di critica con la relativa fortunata tournée\, Stefano Cisco Bellotti\, allora front man dei MCR e Luca Lanzi\, musicista e cantante della Casa Del Vento tornano a calcare i palchi assieme. \nE come “collante” non poteva che esserci Francesco “Fry” Moneti che proprio con il gruppo aretino mosse i suoi primi passi nel mondo musicale per poi passare ai Modena di cui è ancora colonna portante. \nIl tour avrà un nome significativo ed evocativo per sottolineare la provenienza comune: “Combat Folk”\, termine nato negli anni ’90 per indicare quel fenomeno musicale che portò nella musica la voglia di cambiamento e di libertà di quel periodo di cui Cisco\, Luca e Francesco furono capostipiti. \nMa con l’età adulta cambiano anche gli scenari e il tour abbandonerà i luoghi dedicato al “pogo “ per approdare in spazi più piccoli e raccolti per assaporare meglio un concerto che sa già di evento. \nDomenica 24 novembre\nButi \, Pisa\nteatro Bartolo\nConcerto pomeridiano inizio ore 18:00\nPresto le info per prevendita biglietti 9 euro\nPer prenotare il posti chiamare il numero 392 5483698
URL:https://www.ciscovox.it/event/buti-pisa-teatro-bartolo-combat-folk-tour-cisco-con-fry-moneti-e-luca-lanzi/
LOCATION:teatro Bartolo\, Buti\, Pisa\, Italia
CATEGORIES:Combat folk tour
END:VEVENT
BEGIN:VEVENT
DTSTART;TZID=Europe/Rome:20191123T213000
DTEND;TZID=Europe/Rome:20191123T233000
DTSTAMP:20260421T105723
CREATED:20191001T074816Z
LAST-MODIFIED:20191007T064357Z
UID:16663-1574544600-1574551800@www.ciscovox.it
SUMMARY:Silvi Marina TE\, Tendone sul lungo mare\, Combat Folk Tour con Cisco\, Fry Moneti\, Luca Lanzi
DESCRIPTION:Per festeggiare la maggiore età del disco “Novecento” uscito nel 2001 con successo di pubblico e di critica con la relativa fortunata tournée\, Stefano Cisco Bellotti\, allora front man dei MCR e Luca Lanzi\, musicista e cantante della Casa Del Vento tornano a calcare i palchi assieme. \nE come “collante” non poteva che esserci Francesco “Fry” Moneti che proprio con il gruppo aretino mosse i suoi primi passi nel mondo musicale per poi passare ai Modena di cui è ancora colonna portante. \nIl tour avrà un nome significativo ed evocativo per sottolineare la provenienza comune: “Combat Folk”\, termine nato negli anni ’90 per indicare quel fenomeno musicale che portò nella musica la voglia di cambiamento e di libertà di quel periodo di cui Cisco\, Luca e Francesco furono capostipiti. \nMa con l’età adulta cambiano anche gli scenari e il tour abbandonerà i luoghi dedicato al “pogo “ per approdare in spazi più piccoli e raccolti per assaporare meglio un concerto che sa già di evento. \nsabato 23 novembre\nSilvi Marina\nTendone sul lungo mare\nInizio ore 21:30 ingresso 11 euro \ninfo biglietti :\nhttps://www.eventbrite.it/e/biglietti-combat-folk-cisco-moneti-lanzi-75454140365?aff=efbeventtix
URL:https://www.ciscovox.it/event/silvi-marina-te-tendone-sul-lungo-mare-combat-folk-tour-con-cisco-fry-moneti-luca-lanzi/
LOCATION:tendone lungo mare\, Silvi Marina\, Teramo\, Italia
CATEGORIES:Combat folk tour
END:VEVENT
BEGIN:VEVENT
DTSTART;TZID=Europe/Rome:20191115T220000
DTEND;TZID=Europe/Rome:20191115T233000
DTSTAMP:20260421T105723
CREATED:20191004T180321Z
LAST-MODIFIED:20191031T102605Z
UID:16834-1573855200-1573860600@www.ciscovox.it
SUMMARY:Perugia \, Rework\, Combat Folk Tour Cisco con Fry Moneti e Luca Lanzi
DESCRIPTION:Per festeggiare la maggiore età del disco “Novecento” uscito nel 2001 con successo di pubblico e di critica con la relativa fortunata tournée\, Stefano Cisco Bellotti\, allora front man dei MCR e Luca Lanzi\, musicista e cantante della Casa Del Vento tornano a calcare i palchi assieme. \nE come “collante” non poteva che esserci Francesco “Fry” Moneti che proprio con il gruppo aretino mosse i suoi primi passi nel mondo musicale per poi passare ai Modena di cui è ancora colonna portante. \nIl tour avrà un nome significativo ed evocativo per sottolineare la provenienza comune: “Combat Folk”\, termine nato negli anni ’90 per indicare quel fenomeno musicale che portò nella musica la voglia di cambiamento e di libertà di quel periodo di cui Cisco\, Luca e Francesco furono capostipiti. \nMa con l’età adulta cambiano anche gli scenari e il tour abbandonerà i luoghi dedicato al “pogo “ per approdare in spazi più piccoli e raccolti per assaporare meglio un concerto che sa già di evento. \nvenerdì 15 novembre\nRework Perugia\nConcerto inizio ore 22:00 ingresso concerto 10 euro\npossibilità di cenare con gli artisti prima del concerto. costo 25 euro \, inizio cena ore 20:00\nprenotazioni presso pagina di Rework Club\noppure chiamando i numeri :\n3928243703\n3489125905
URL:https://www.ciscovox.it/event/perugia-rework-combat-folk-tour-cisco-con-fry-moneti-e-luca-lanzi/
LOCATION:Rework\, Perugia\, Perugia\, Italia
CATEGORIES:Combat folk tour
END:VEVENT
BEGIN:VEVENT
DTSTART;TZID=Europe/Rome:20191110T203000
DTEND;TZID=Europe/Rome:20191110T223000
DTSTAMP:20260421T105723
CREATED:20191030T171250Z
LAST-MODIFIED:20191030T171250Z
UID:18159-1573417800-1573425000@www.ciscovox.it
SUMMARY:La Spezia\, Skaletta Rock Club\, Combat Folk Tour con Cisco insieme a Fry Moneti e Luca Lanzi
DESCRIPTION:Per festeggiare la maggiore età del disco “Novecento” uscito nel 2001 con successo di pubblico e di critica con la relativa fortunata tournée\, Stefano Cisco Bellotti\, allora front man dei MCR e Luca Lanzi\, musicista e cantante della Casa Del Vento tornano a calcare i palchi assieme. \nE come “collante” non poteva che esserci Francesco “Fry” Moneti che proprio con il gruppo aretino mosse i suoi primi passi nel mondo musicale per poi passare ai Modena di cui è ancora colonna portante. \nIl tour avrà un nome significativo ed evocativo per sottolineare la provenienza comune: “Combat Folk”\, termine nato negli anni ’90 per indicare quel fenomeno musicale che portò nella musica la voglia di cambiamento e di libertà di quel periodo di cui Cisco\, Luca e Francesco furono capostipiti. \nMa con l’età adulta cambiano anche gli scenari e il tour abbandonerà i luoghi dedicato al “pogo “ per approdare in spazi più piccoli e raccolti per assaporare meglio un concerto che sa già di evento. \ndomenica 10 novembre\nLa Spezia – Skaletta Rock Club\nConcerto inizio ore 20:30 fine concerto 22:30\nConcerto gratuito\, il posto è piccolo e consigliamo di venire solo se interessati\,  con il rischio di rimanere fuori. Non ci saranno prenotazioni posti.
URL:https://www.ciscovox.it/event/la-spezia-skaletta-rock-club-combat-folk-tour-con-cisco-insieme-a-fry-moneti-e-luca-lanzi/
LOCATION:Skaletta Rock Club\, La Spezia\, La Spezia\, Italia
CATEGORIES:Combat folk tour
END:VEVENT
BEGIN:VEVENT
DTSTART;TZID=Europe/Rome:20191109T220000
DTEND;TZID=Europe/Rome:20191109T233000
DTSTAMP:20260421T105723
CREATED:20190927T170603Z
LAST-MODIFIED:20191030T171431Z
UID:16546-1573336800-1573342200@www.ciscovox.it
SUMMARY:Cavriago\, RE Circolo Kessel - Combat Folk Tour\, con Cisco\, Fry Moneti e Luca Lanzi
DESCRIPTION:Per festeggiare la maggiore età del disco “Novecento” uscito nel 2001 con successo di pubblico e di critica con la relativa fortunata tournée\, Stefano Cisco Bellotti\, allora front man dei MCR e Luca Lanzi\, musicista e cantante della Casa Del Vento tornano a calcare i palchi assieme. \nE come “collante” non poteva che esserci Francesco “Fry” Moneti che proprio con il gruppo aretino mosse i suoi primi passi nel mondo musicale per poi passare ai Modena di cui è ancora colonna portante. \nIl tour avrà un nome significativo ed evocativo per sottolineare la provenienza comune: “Combat Folk”\, termine nato negli anni ’90 per indicare quel fenomeno musicale che portò nella musica la voglia di cambiamento e di libertà di quel periodo di cui Cisco\, Luca e Francesco furono capostipiti. \nMa con l’età adulta cambiano anche gli scenari e il tour abbandonerà i luoghi dedicato al “pogo “ per approdare in spazi più piccoli e raccolti per assaporare meglio un concerto che sa già di evento. \nsabato 09 novembre\nCavriago RE\nCircolo Kessel\nInizio ore 22:00 ingresso 15 euro\nlink per prevendita :\nhttps://www.eventbrite.it/e/biglietti-cisco-combat-folk-tour-cavriago-re-091119-74673782293
URL:https://www.ciscovox.it/event/cavriago-re-circolo-kessel-combat-folk-tour-con-cisco-fry-moneti-e-luca-lanzi/
LOCATION:Circolo Kessel\, Cavriago\, Reggio Emilia\, Italia
CATEGORIES:Combat folk tour
END:VEVENT
BEGIN:VEVENT
DTSTART;TZID=Europe/Rome:20191101T213000
DTEND;TZID=Europe/Rome:20191101T233000
DTSTAMP:20260421T105723
CREATED:20191003T081016Z
LAST-MODIFIED:20191003T081238Z
UID:16757-1572643800-1572651000@www.ciscovox.it
SUMMARY:Villanovaforru\, VS Medio Campidano Combat Folk Tour con Cisco\, Fry Moneti e Luca Lanzi
DESCRIPTION:Per festeggiare la maggiore età del disco “Novecento” uscito nel 2001 con successo di pubblico e di critica con la relativa fortunata tournée\, Stefano Cisco Bellotti\, allora front man dei MCR e Luca Lanzi\, musicista e cantante della Casa Del Vento tornano a calcare i palchi assieme. \nE come “collante” non poteva che esserci Francesco “Fry” Moneti che proprio con il gruppo aretino mosse i suoi primi passi nel mondo musicale per poi passare ai Modena di cui è ancora colonna portante. \nIl tour avrà un nome significativo ed evocativo per sottolineare la provenienza comune: “Combat Folk”\, termine nato negli anni ’90 per indicare quel fenomeno musicale che portò nella musica la voglia di cambiamento e di libertà di quel periodo di cui Cisco\, Luca e Francesco furono capostipiti. \nMa con l’età adulta cambiano anche gli scenari e il tour abbandonerà i luoghi dedicato al “pogo “ per approdare in spazi più piccoli e raccolti per assaporare meglio un concerto che sa già di evento. \nvenerdì 01 novembre\nAspettando LiberaFesta\nFuntana noa \, Sa Jana\nVillanovaforru  VS\nMedio Campidano\nConcerto inizio ore 21:30  ingresso 10 euro\nInfo biglietti:\nBruno Carboni 348 6059394
URL:https://www.ciscovox.it/event/villanovaforru-vs-medio-campidano-combat-folk-tour-con-cisco-fry-moneti-e-luca-lanzi/
LOCATION:funtana noa \, sa jana\, villanovaforru\, medio campidano\, Italia
CATEGORIES:Combat folk tour
END:VEVENT
END:VCALENDAR