BEGIN:VCALENDAR
VERSION:2.0
PRODID:-//Stefano &quot;Cisco&quot; Bellotti - ECPv6.15.17//NONSGML v1.0//EN
CALSCALE:GREGORIAN
METHOD:PUBLISH
X-WR-CALNAME:Stefano &quot;Cisco&quot; Bellotti
X-ORIGINAL-URL:https://www.ciscovox.it
X-WR-CALDESC:Eventi per Stefano &quot;Cisco&quot; Bellotti
REFRESH-INTERVAL;VALUE=DURATION:PT1H
X-Robots-Tag:noindex
X-PUBLISHED-TTL:PT1H
BEGIN:VTIMEZONE
TZID:Europe/Rome
BEGIN:DAYLIGHT
TZOFFSETFROM:+0100
TZOFFSETTO:+0200
TZNAME:CEST
DTSTART:20180325T010000
END:DAYLIGHT
BEGIN:STANDARD
TZOFFSETFROM:+0200
TZOFFSETTO:+0100
TZNAME:CET
DTSTART:20181028T010000
END:STANDARD
BEGIN:DAYLIGHT
TZOFFSETFROM:+0100
TZOFFSETTO:+0200
TZNAME:CEST
DTSTART:20190331T010000
END:DAYLIGHT
BEGIN:STANDARD
TZOFFSETFROM:+0200
TZOFFSETTO:+0100
TZNAME:CET
DTSTART:20191027T010000
END:STANDARD
BEGIN:DAYLIGHT
TZOFFSETFROM:+0100
TZOFFSETTO:+0200
TZNAME:CEST
DTSTART:20200329T010000
END:DAYLIGHT
BEGIN:STANDARD
TZOFFSETFROM:+0200
TZOFFSETTO:+0100
TZNAME:CET
DTSTART:20201025T010000
END:STANDARD
BEGIN:DAYLIGHT
TZOFFSETFROM:+0100
TZOFFSETTO:+0200
TZNAME:CEST
DTSTART:20210328T010000
END:DAYLIGHT
BEGIN:STANDARD
TZOFFSETFROM:+0200
TZOFFSETTO:+0100
TZNAME:CET
DTSTART:20211031T010000
END:STANDARD
BEGIN:DAYLIGHT
TZOFFSETFROM:+0100
TZOFFSETTO:+0200
TZNAME:CEST
DTSTART:20220327T010000
END:DAYLIGHT
BEGIN:STANDARD
TZOFFSETFROM:+0200
TZOFFSETTO:+0100
TZNAME:CET
DTSTART:20221030T010000
END:STANDARD
BEGIN:DAYLIGHT
TZOFFSETFROM:+0100
TZOFFSETTO:+0200
TZNAME:CEST
DTSTART:20230326T010000
END:DAYLIGHT
BEGIN:STANDARD
TZOFFSETFROM:+0200
TZOFFSETTO:+0100
TZNAME:CET
DTSTART:20231029T010000
END:STANDARD
BEGIN:DAYLIGHT
TZOFFSETFROM:+0100
TZOFFSETTO:+0200
TZNAME:CEST
DTSTART:20240331T010000
END:DAYLIGHT
BEGIN:STANDARD
TZOFFSETFROM:+0200
TZOFFSETTO:+0100
TZNAME:CET
DTSTART:20241027T010000
END:STANDARD
BEGIN:DAYLIGHT
TZOFFSETFROM:+0100
TZOFFSETTO:+0200
TZNAME:CEST
DTSTART:20250330T010000
END:DAYLIGHT
BEGIN:STANDARD
TZOFFSETFROM:+0200
TZOFFSETTO:+0100
TZNAME:CET
DTSTART:20251026T010000
END:STANDARD
BEGIN:DAYLIGHT
TZOFFSETFROM:+0100
TZOFFSETTO:+0200
TZNAME:CEST
DTSTART:20260329T010000
END:DAYLIGHT
BEGIN:STANDARD
TZOFFSETFROM:+0200
TZOFFSETTO:+0100
TZNAME:CET
DTSTART:20261025T010000
END:STANDARD
END:VTIMEZONE
BEGIN:VEVENT
DTSTART;TZID=Europe/Rome:20250117T210000
DTEND;TZID=Europe/Rome:20250117T230000
DTSTAMP:20260420T235749
CREATED:20241226T082821Z
LAST-MODIFIED:20241226T082821Z
UID:95149-1737147600-1737154800@www.ciscovox.it
SUMMARY:Lama di Reno\, Bologna presso il Cellulosa\,  incontro con Cisco tra musica e parole .
DESCRIPTION:-17 GENNAIO 2025- CISCO –\nTalking to Cisco Bellotti \nIn occasione dei 30 anni di “Riportando tutto a casa” CISCO si racconta tra storie\, leggende\, anedotti e musica.\n\n\nIl tutto per una sera a CELLULOSA. Un anno dopo\n\n\nPER ACCEDERE AD OSTERIA:\nIl servizio osteria sarà aperto e disponibile pre-spettacolo dalle 18:00 alle 20:30 e post-spettacolo\ndalle 23:00 alle 00:30.\nLa prenotazione del tavolo osteria è obbligatorio per accedere al servizio al numero 051-0532044.\n\n\n APERTURA PORTE EVENTO:\nDalle ore 20:00 è possibile accedere alla zona eventi.\n\n\n INIZIO EVENTO:\nL’evento avrà inzio alle ore 21:00\n\n\nPRENOTAZIONI POSTI:\nLe prenotazioni dei posti sono da inviare a culturaeventi@scoiattolo.org\n\n\nIL BIGLIETTO:\nIl biglietto è acquistabile solo la sera dell’evento ed avrà un costo di 10\,00€.\n\n\nPagabile con contanti\, carte/bancomat\, satispay\n\n\nINFO A: culturaeventi@scoiattolo.org\n\n\nDOVE:Via Lama di Reno\, 30\, 40043 Lama di Reno BO\n——————————————————————-\nparcheggio in loco\nparcheggio/accesso/servizi facilitati\n\n\n#followers #CISCO #ciscobellotti #mcr #riportandotuttoacasa #apericena #cenabologna #apericinema #Evento #Marzabotto #Lamadireno #Monzuno #Excartiera #CartieraLamaDiReno #Sassomarconi #Casalecchio #Bologna #comunedimarzabotto #Unionecomuniappennino #CittàMetropolitanadiBologna #bolognawelcome #iatmarzabotto #cooperativesociali #LoScoiattolo #Cellulosa
URL:https://www.ciscovox.it/event/lama-di-reno-bologna-presso-il-cellulosa-incontro-con-cisco-tra-musica-e-parole/
LOCATION:cellulosa\, Via Lama di Reno 30\, Lama di reno\, Bologna\, Italy
CATEGORIES:Eventi
ATTACH;FMTTYPE=image/jpeg:https://www.ciscovox.it/wp-content/uploads/2024/12/471144909_6591347231481_5588012710927495105_n.jpg
END:VEVENT
BEGIN:VEVENT
DTSTART;TZID=Europe/Rome:20230225T210000
DTEND;TZID=Europe/Rome:20230225T223000
DTSTAMP:20260420T235749
CREATED:20230110T073814Z
LAST-MODIFIED:20230110T073814Z
UID:93694-1677358800-1677364200@www.ciscovox.it
SUMMARY:Verona\, Laboratorio Autogestito Paratodos\, serata incontro-intervista con Cisco
DESCRIPTION:Sabato 25 febbraio serata speciale in compagnia di Cisco con un incontro intervista a Verona presso il Laboratorio Autogestito Paratodos in Corso Venezia 51 \nCi teniamo a sottolineare che non sarà un concerto ma semplicemente un incontro intervista dove fare due chicchiere insieme e scoprire qualche curiosità della oramai trentennale carriera di Cisco \nInizio ore 21:00 ingresso su prenotazione \n 
URL:https://www.ciscovox.it/event/verona-laboratorio-autogestito-paratodos-serata-incontro-intervista-con-cisco/
LOCATION:laboratorio autogestito paratodos\, corso Venezia 51\, verona\, Verona\, Italia
CATEGORIES:Eventi
END:VEVENT
BEGIN:VEVENT
DTSTART;TZID=Europe/Rome:20230131T110000
DTEND;TZID=Europe/Rome:20230131T130000
DTSTAMP:20260420T235749
CREATED:20230108T201000Z
LAST-MODIFIED:20230119T081927Z
UID:93665-1675162800-1675170000@www.ciscovox.it
SUMMARY:Forlì\, La fabbrica delle candele\, Incontro musicale con gli studenti sulla legalità
DESCRIPTION:Martedì 31 gennaio\, parteciperemo ad un incontro con gli studenti\, aperto al pubblico\, a Forlì presso la Sala Melozzo\, piazza Melozzo degli Ambrogi 7 \, spazio che contiene 120 posti circa.\nSarà una chicchierata sulla legalità\, accompagnata da un po di musica suonata dal vivo\, con le scuole superiori della città\, insime al giornalista scrittore Paolo Bonacini \, esperto di infiltrazioni mafiose in Emilia. \ninizio ore 11:00 del mattino ingresso gratuito \nForlì \, Sala Melozzo \nMartedì 31 gennaio
URL:https://www.ciscovox.it/event/forli-la-fabbrica-delle-candele-incontro-musicale-con-gli-studenti-sulla-legalita/
LOCATION:sala Melozzo\, Piazza Melozzo\, Forlì\, Forlì
CATEGORIES:Eventi
END:VEVENT
BEGIN:VEVENT
DTSTART;TZID=Europe/Rome:20230123T210000
DTEND;TZID=Europe/Rome:20230123T230000
DTSTAMP:20260420T235749
CREATED:20230108T174808Z
LAST-MODIFIED:20230108T174808Z
UID:93658-1674507600-1674514800@www.ciscovox.it
SUMMARY:Cavriago\, Multisala Novecento\, Cisco insieme a Beppe Carletti incontro parlato per "Il giorno della Memoria"
DESCRIPTION:Lunedì 23 gennaio\, saremo alla Multisala Novecento di Cavriago in provincia di Reggio Emilia per un incontro parlato con l’amico Beppe Carletti dei Nomadi\, per la giornata della Memoria.\nTorneremo con i ricordi e le parole\, metaforicamente sul treno della Memoria\,  che per anni ci ha accompagnato ad Auschwitz insieme agli studenti delle scuole superiori della provincia di Modena. A dirigere la serata ci sarà l’amico giornalista Pierluigi Senatore di Radio Bruno. \ninizio ore 21:00 ingresso gratuito\nCavriago RE Multisala Novecento
URL:https://www.ciscovox.it/event/cavriago-multisala-novecento-cisco-insieme-a-beppe-carletti-incontro-parlato-per-il-giorno-della-memoria/
LOCATION:Multisala Novecento\, via Del Cristo 5\, Cavriago\, Reggio Emilia\, Italia
CATEGORIES:Eventi
END:VEVENT
BEGIN:VEVENT
DTSTART;TZID=Europe/Rome:20230106T213000
DTEND;TZID=Europe/Rome:20230106T233000
DTSTAMP:20260420T235749
CREATED:20221122T095921Z
LAST-MODIFIED:20221130T142417Z
UID:93601-1673040600-1673047800@www.ciscovox.it
SUMMARY:Carpi MO\, Kalinka grande festa di inizio anno\, Cisco dal vivo con ospiti a sorpresa!
DESCRIPTION:Venerdì 6 gennaio ritorna la tradizionale festa di inizio anno al Kalinka di Carpi \, per festeggiare i 30+1 anni di carriera di Cisco.\nCome al solito sarà un concerto evento con grandi ospiti e amici \, che interverranno che trasformerà la serata in  una festa imperdibile. \nVenerdì 6 gennaio 2023\nInizio ore 22:00 ingresso 15 euro + diritti di prevendita\nKalinka a Carpi in via Tassoni \nVi aspettiamo numerosi \nhttps://dice.fm/event/rb8wq-cisco-al-kalinka-6th-jan-circolo-kalinka-carpi-tickets
URL:https://www.ciscovox.it/event/carpi-mo-kalinka-grande-festa-di-inizio-anno-cisco-dal-vivo-con-ospiti-a-sorpresa/
LOCATION:kalinka\, Carpi\, Carpi\, Modena\, Italy
CATEGORIES:Eventi
ATTACH;FMTTYPE=image/jpeg:https://www.ciscovox.it/wp-content/uploads/2022/11/cisco-kalika-2.jpg
END:VEVENT
BEGIN:VEVENT
DTSTART;TZID=Europe/Rome:20220527T210000
DTEND;TZID=Europe/Rome:20220527T233000
DTSTAMP:20260420T235749
CREATED:20220503T115607Z
LAST-MODIFIED:20220503T115607Z
UID:85722-1653685200-1653694200@www.ciscovox.it
SUMMARY:Firenze\, Anfiteatro delle Cascine\, grande festa-concerto in ricordo di Erriquez con un mare di ospiti-amici!
DESCRIPTION:Mentre fervono i preparativi in vista dell’uscita del nuovo disco e del tour estivo\, continuiamo a ricevere commoventi manifestazioni di affetto\, riconoscenza e stima rivolte al nostro Erriquez. Oggi siamo felici di comunicare un’altra bellissima novità: il Comune di Firenze ha deciso di intitolare “L’Estate Fiorentina” a Enrico e\, contestualmente\, di organizzare un evento speciale a lui dedicato. Sarà un concerto unico intitolato “Tre passi avanti” e si terrà venerdì 27 maggio presso l’ Ultravox Firenze – Anfiteatro delle Cascine Ernesto de Pascale\, con tanti ospiti accompagnati sul palco dalla Bandabardò. Inutile dire che – oltre che emozionati – siamo immensamente grati a chi ha lavorato in queste settimane per consentirci di festeggiare così\, insieme a tutti voi\, il ricordo del nostro compagno. Un abbraccio che circonda.\nBandabardò\n\n\nL’ingresso all’evento è gratuito su prenotazione: https://www.ticketone.it/artist/bandabardo/?affiliate=PIT\n\n\nTRE PASSI AVANTI è prodotto da OTRlive e realizzato con il contributo del Comune di Firenze.\n\n\nCittà di Firenze Cisco Bellotti Giobbe Covatta Carmen Consoli Ginevra Di Marco Jacopo Fo Folcast Enzo iacchetti Max Gazzè Gabriella Martinelli Mirkoeilcane Erica Mou Negrita Saverio Tommasi Paola Turci Piero Pelù
URL:https://www.ciscovox.it/event/firenze-anfiteatro-delle-cascine-grande-festa-concerto-in-ricordo-di-erriquez-con-un-mare-di-ospiti-amici/
LOCATION:anfiteatro  delle Cascine\, Firenze\, Firenze\, Firenze\, Italia
CATEGORIES:Eventi
END:VEVENT
BEGIN:VEVENT
DTSTART;TZID=Europe/Rome:20220425T170000
DTEND;TZID=Europe/Rome:20220425T193000
DTSTAMP:20260420T235749
CREATED:20220321T121707Z
LAST-MODIFIED:20220321T121707Z
UID:82467-1650906000-1650915000@www.ciscovox.it
SUMMARY:25 APRILE FESTA DELLA LIBERAZIONE\, Finalmente di nuovo tutti insieme a CASA MUSEO CERVI !
DESCRIPTION:Casa Cervi.\nL’ Istituto Alcide Cervi è anche uno dei luoghi del nostro cuore e darvi questa notizia ci emoziona molto.\nSono già in corso i preparativi per il grande evento che\, come ogni anno\, è pronto ad accogliere gli amici da tutta Italia.\nProssimamente verrà pubblicato il programma con tutti i dettagli.\nIl 25 aprile vi aspettiamo tutti per festeggiare di nuovo insieme!\n\n\n\nConcerto pomeridiano gratuito !\nCon Gang \, e tanti altri ospiti !
URL:https://www.ciscovox.it/event/25-aprile-festa-della-liberazione-finalmente-di-nuovo-tutti-insieme-a-casa-museo-cervi/
LOCATION:museo Cervi\, Gattatico\, Gattatico\, Reggio Emilia\, Italia
CATEGORIES:Eventi
END:VEVENT
BEGIN:VEVENT
DTSTART;TZID=Europe/Rome:20220105T210000
DTEND;TZID=Europe/Rome:20220105T230000
DTSTAMP:20260420T235749
CREATED:20211119T103032Z
LAST-MODIFIED:20211125T074044Z
UID:73385-1641416400-1641423600@www.ciscovox.it
SUMMARY:Carpi MO\,  Kalinka\,  Festa per i 30 anni di carriera di Cisco!
DESCRIPTION:Mercoledì 5 gennaio torneremo a suonare dal vivo \, covid permettendo\, al mitico Kalinka di Carpi in provincia di Modena.\nSarà una serata davvero speciale \, perchè festeggeremo i 30 anni di carriera di Cisco che iniziò a cantare proprio al “vecchio Kalinka ” una sera di febbraio del 1992 ! \nIngressi contingentati solo su prenotazione \, affrettatevi a prenotare il vostro posto. vi aspettiamo numerosi ! \n\n\n\n\n\n\nCarpi\, Kalinka\nMercoledì 5 gennaio 2022\nFesta per i 30 anni di carriera di Cisco\, dal Kalinka al Kalinka\nprenotazione obbligatoria \, clicca sul link qui di seguito\nhttps://link.dice.fm/cad66d5a47f8
URL:https://www.ciscovox.it/event/carpi-mo-kalinka-festa-per-i-30-anni-di-carriera-di-cisco/
LOCATION:kalinka\, Carpi\, Carpi\, Modena\, Italy
CATEGORIES:Eventi
END:VEVENT
BEGIN:VEVENT
DTSTART;TZID=Europe/Rome:20211210T210000
DTEND;TZID=Europe/Rome:20211210T230000
DTSTAMP:20260420T235749
CREATED:20211119T102426Z
LAST-MODIFIED:20211125T073544Z
UID:73382-1639170000-1639177200@www.ciscovox.it
SUMMARY:Rovigo \, Cinema teatro Duomo\,  serata per Amnesty International partecipazione incontro con Cisco
DESCRIPTION:Venerdì 10 dicembre\, Cisco parteciperà alla serata dedicata ad Amnesty International\, che si terrà a Rovigo.\nCisco interverrà rispondendo ad alcune domande dei moderatori\, intervallando le risposte con interventi musicali del suo repertorio. \nPrima verrà proiettato il docufilm sui 60 anni di Amnesty International con la presenza del regista Fabio Masi\, a seguire “l’intervista musicale” con Cisco. \nRovigo\, Cinema Teatro Duomo\nInizio ore 21\,00 circa \nIngresso libero su prenotazione
URL:https://www.ciscovox.it/event/rovigo-serata-per-amnesty-international-partecipazione-incontro-con-cisco/
LOCATION:Teatro Cineman\, Rovigo\, Rovigo\, Rovigo\, Italia
CATEGORIES:Eventi
END:VEVENT
BEGIN:VEVENT
DTSTART;TZID=Europe/Rome:20211206T210000
DTEND;TZID=Europe/Rome:20211206T230000
DTSTAMP:20260420T235749
CREATED:20211119T101909Z
LAST-MODIFIED:20211125T073931Z
UID:73379-1638824400-1638831600@www.ciscovox.it
SUMMARY:Casalecchio di Reno BO \, Teatro comunale Laura Betti\, partecipazione alle celebrazioni della strage dei ragazzi del Salvemini
DESCRIPTION:Lunedì 6 dicembre \, parteciperemo in duo acustico \, insieme a Max Frignani\, alle celebrazioni\, a distanza di 31 anni\, della strage dei ragazzi del Salvemini\, ovviamente proponendo il brano dal vivo “Per sempre giovani” canzone del nuovo disco dedicato ai ragazzi e alle loro famiglie che hanno vissuto quel terribile evento. \nL’esibizione avverrà al termine della proiezione del docufilm “Per sempre giovani ” realizzato dal giornalista Stefano Ferrari \nCasalecchio di Reno\nCinema teatro Laura Betti\nInizio ore 20\,30\nIngresso gratuito con obbligo di prenotazione \nper prenotare scrivere a :\npersempregiovani2021@gmail.com
URL:https://www.ciscovox.it/event/casalecchio-di-reno-bo-partecipazione-alle-celebrazioni-della-strage-dei-ragazzi-del-salvemini/
LOCATION:Cinema teatro\, Casalecchio di Reno\, Casalecchio di Reno\, Italia
CATEGORIES:Eventi
END:VEVENT
BEGIN:VEVENT
DTSTART;TZID=Europe/Rome:20210720T160000
DTEND;TZID=Europe/Rome:20210720T170000
DTSTAMP:20260420T235749
CREATED:20210611T083343Z
LAST-MODIFIED:20210611T083343Z
UID:61146-1626796800-1626800400@www.ciscovox.it
SUMMARY:Genova\, Piazza Alimonda\, celebrazioni per i vent'anni dei fatti di Genova
DESCRIPTION:Martedì 20 luglio\, parteciperemo alla manifestazione per i vent’anni dei fatti di Genova durante il G8 del 2001\, e ricorderemo i terribili fatti di quesi giorni! \nSarà una manifestazione con vari artisti che si terrà in piazza Alimonda\, il nostro set in acustico è previsto per le ore 16\,00 circa del pomeriggio. \nVi aspettiamo numerosi \n 
URL:https://www.ciscovox.it/event/genova-piazza-alimonda-celebrazioni-per-i-ventanni-dei-fatti-di-genova/
LOCATION:Piazza Alimonda\, Piazza Alimonda\, Genova\, Genova\, Italia
CATEGORIES:Eventi
END:VEVENT
BEGIN:VEVENT
DTSTART;TZID=Europe/Rome:20210625T203000
DTEND;TZID=Europe/Rome:20210625T220000
DTSTAMP:20260420T235749
CREATED:20210527T095205Z
LAST-MODIFIED:20210528T100633Z
UID:60011-1624653000-1624658400@www.ciscovox.it
SUMMARY:Casalecchio di Reno BO\, proiezione del docufilm "Per sempre giovani"\, sulla strage del Salvemini.
DESCRIPTION:Venerdì 25 giugno saremo presenti alla prima proiezione ufficiale del docufilm di Stefano Ferrari sul terribile evento del Salvemini \, avvenuto il 6 dicembre 1990 proprio a Casalecchio.\nIl docufilm prevede la colonna sonora di Cisco con anche la presentazione di un brano inedito dal titolo “Per sempre giovani” che a sua volta  da il titolo al docufilm\, brano che per l’occasione eseguiremo dal vivo alla fine del film ! \nIngresso gratuito su prenotazione \n 
URL:https://www.ciscovox.it/event/casalecchio-di-reno-bo-proiezione-del-docufilm-per-sempre-giovani-sulla-strage-del-salvemini/
LOCATION:Casalecchio di Reno\, Casalecchio\, Casalecchio di Reno\, Bologna\, Italia
CATEGORIES:Eventi
END:VEVENT
BEGIN:VEVENT
DTSTART;TZID=Europe/Rome:20201003T160000
DTEND;TZID=Europe/Rome:20201003T183000
DTSTAMP:20260420T235749
CREATED:20200914T081032Z
LAST-MODIFIED:20200914T081032Z
UID:41149-1601740800-1601749800@www.ciscovox.it
SUMMARY:Marzabotto BO\, ricorrenza dell'eccidio di Marzabotto\, Cisco dal vivo con lo spettacolo dedicato a Lucho Sepulveda!
DESCRIPTION:In occasione della ricorrenza del terribile eccidio nazifascista\, di Marzabotto in provincia di Bologna avvenuto nel 1944\, ci esibiremo a Monte Sole\, con lo spettacolo dedicato a Luis Sepulveda insieme alla Band al completo e all’attore Matteo Procuranti. \nLo spettacolo si terrà al pomeriggio tra le 16 e le 18 per permettere la partecipazione di famiglie e di piu gente possibile \, sperando nel bel tempo . \nPresto vidaremo più informazioni dettagliate. \nVi aspettiamo a Monte Sole\, Marzabotto BO\nSabato 03 ottobre \, ore 16\,00\nIngresso gratuito
URL:https://www.ciscovox.it/event/marzabotto-bo-ricorrenza-delleccidio-di-marzabotto-cisco-dal-vivo-con-lo-spettacolo-dedicato-a-lucho-sepulveda/
LOCATION:Monte Sole\, Marzabotto\, Marzabotto\, Bologna\, Italia
CATEGORIES:Eventi
END:VEVENT
BEGIN:VEVENT
DTSTART;TZID=Europe/Rome:20200912T180000
DTEND;TZID=Europe/Rome:20200912T233000
DTSTAMP:20260420T235749
CREATED:20200905T060325Z
LAST-MODIFIED:20200905T060325Z
UID:40488-1599933600-1599953400@www.ciscovox.it
SUMMARY:Bologna\, piazza Maggiore\, concerto per "gli invisibili" partecipazione di Cisco con la sua band!
DESCRIPTION:Bologna\, Il folk\, il rock\, il pop\, l’indie\, la musica classica\, l’opera e la canzone d’autore sabato 12 settembre in piazza Maggiore a Bologna in solidarietà dei lavoratori e degli operatori dello spettacolo. L’ iniziativa\, a ingresso gratuito\, vedrà sul palco tanti artisti e il pubblico in presenza\, anche se fortemente limitato dalle disposizioni Covid-19. \nDopo la nascita del manifesto “Per gli invisibili”\, per dare voce al settore dello spettacolo dal vivo e sollecitare iniziative per sostenerlo dopo la crisi profonda causata dal Covid-19\, ora il concerto di solidarietà che è la prima iniziativa del tavolo degli operatori della musica dal vivo che si riconoscono in Per (Promoter Emilia Romagna)\, realizzata con il sostegno della Regione\,  la collaborazione del Comune\, di Ater e il Patrocinio di Siae. Direzione Nazionale. \nGli artisti\nSul palco\, presentati da Stefano Massini\, si alterneranno Alice\, Angela Baraldi\, Alberto Bertoli\, Bonaveri\, Cisco\, Dodi Battaglia\, Duo Bucolico\, Extraliscio\, Immanuel Casto\, Modena City Ramblers\, Gianni Morandi\, NYV\, Federico Paciotti\, Rovere\, The Good Fellas\, Massimo Zamboni. Daranno il loro contributo in collegamento streaming Paolo Belli\, Benny Benassi\, Luca Carboni\, Beppe Carletti e i Nomadi\, Enzo Avitabile\, Andrea Griminelli\, Patty Pravo\, Vinicio Capossela.  \nI posti saranno a sedere e numerati e per accedere alla platea è obbligatorio prenotarsi tramite il sito www.boxerticket.it  da sabato 5 settembre\, a partire dalle 11. Il concerto è gratuito. Le persone diversamente abili possono richiedere il posto a loro riservato scrivendo all’indirizzo mail   diversamente.abili.per@gmail.com
URL:https://www.ciscovox.it/event/bologna-piazza-maggiore-concerto-per-gli-invisibili-partecipazione-di-cisco-con-la-sua-band/
LOCATION:piazza Maggiore\, bologna\, Bologna\, Bologna\, Italia
CATEGORIES:Eventi
END:VEVENT
BEGIN:VEVENT
DTSTART;TZID=Europe/Rome:20191019T210000
DTEND;TZID=Europe/Rome:20191019T230000
DTSTAMP:20260420T235749
CREATED:20190930T092129Z
LAST-MODIFIED:20190930T092129Z
UID:16626-1571518800-1571526000@www.ciscovox.it
SUMMARY:Firenze \, Teatro Cantiere Florida \, Cisco ospite dell'Orchestra Multietnica d'Arezzo
DESCRIPTION:Sabato 19 ottobre alle ore 21.00 al Teatro Cantiere Florida di Firenze Cisco sarà ospite dell’Orchestra Multietnica di Arezzo per la PRESENTAZIONE DEL NUOVO CD CULTURE CONTRO LA PAURA.\nInsieme agli amici dell’Orchestra Multietnica d’Arezzo saranno ospiti ;\nErriquez (Enrico Greppi)\, Dente\, Alessandro Fiori e Amanda Sandrelli e Paolo Benvegnù !\nUna serata da non perdee assolutamente. \nSabato 19 ottobre\nFirenze Teatro Cantiere Florida\nInizio ore 21 :00
URL:https://www.ciscovox.it/event/firenze-teatro-cantiere-florida-cisco-ospite-dellorchestra-multietnica-darezzo/
LOCATION:Teatro Cantiere Florida\, firenze\, firenze\, Italia
CATEGORIES:Eventi
END:VEVENT
BEGIN:VEVENT
DTSTART;TZID=Europe/Rome:20190829T100000
DTEND;TZID=Europe/Rome:20190829T230000
DTSTAMP:20260420T235749
CREATED:20190806T101227Z
LAST-MODIFIED:20190806T101522Z
UID:14463-1567072800-1567119600@www.ciscovox.it
SUMMARY:Ferrara Buskers Festival - Cisco ospite in acutico con la sua band !
DESCRIPTION:Giovedì 29 agosto\, Cisco sarà ospite del prestigioso Buskers Festival di Ferrara\, insieme alla sua band \, versione buskers\, ovvero completamente in acustico !\nNon sappiamo ancora in che postazione ci esibiremo\, l’orario dovrebbe essere quello dell 22:00 per un’ora circa\, appena avremo maggiori info le comunicheremo qui sul sito ! \nSarà davvero un’occasione unica per vederci in azione in modo completamente diverso dal solito\, alla “vecchia” \, senza impianto e senza palco ma con la sola strada come amica.\nOvviamente vi aspettiamo numerosi e calorosi per sostenerci in questo concerto piu unico che raro ! \nSaremo come sempre al completo con :\nSimone Copellini alla tromba\nMax Frignani alla chitarra\nBruno Bonarrigo al basso\nKaba Cavazzuti alla batteria \nNon escludiamo ospiti a sorpresa dell’ultimo minuto ! \nFerrara\nBuskers Festival\ninizio 22:00\ningresso gratuito al cappello ! \n 
URL:https://www.ciscovox.it/event/ferrara-buskers-festival-cisco-ospite-in-acutico-con-la-sua-band/
LOCATION:ferrara\, ferrara Buskers Festival\, Ferrara
CATEGORIES:Eventi
END:VEVENT
BEGIN:VEVENT
DTSTART;TZID=Europe/Rome:20190614T103000
DTEND;TZID=Europe/Rome:20190614T123000
DTSTAMP:20260420T235749
CREATED:20190514T164537Z
LAST-MODIFIED:20190527T160105Z
UID:12374-1560508200-1560515400@www.ciscovox.it
SUMMARY:Milano Piazza Duomo Sciopero Generale metalmeccanici \, Cisco dal vivo con Indiani e Cowboy
DESCRIPTION:Venerdì mattino 14 giugno \, suoneremo a Milano in piazza Duomo \, per lo sciopero generale dei metalmeccanici\,\nOvviamente saremo solo una piccola parte musicale della manifestazioni che si terrà in tarda mattinata con termine alle 12:30 \nManifestazione Sciopero dei metalmeccanici\nMilano Piazza Duomo\nVenerdì 14 giugno\ninizio ore 10:30 \n 
URL:https://www.ciscovox.it/event/milano-piazza-duomo-sciopero-generale-fiom-cisco-dal-vivo-con-indiani-e-cowboy/
LOCATION:piazza Duomo\, piazza Duomo\, Milano
CATEGORIES:Eventi
END:VEVENT
BEGIN:VEVENT
DTSTART;TZID=Europe/Rome:20190513T213000
DTEND;TZID=Europe/Rome:20190513T213000
DTSTAMP:20260420T235749
CREATED:20190502T110114Z
LAST-MODIFIED:20190506T164458Z
UID:12320-1557783000-1557783000@www.ciscovox.it
SUMMARY:Calangianus OT Olbia Tempio - Cisco dal vivo con Super formazione speciale !
DESCRIPTION:Lunedì 13 maggio\, saremo in terra di Sardegna e per la precisione a Calangianus in provincia di Olbia Tempio\,  per una serata tutta speciale con una super formazione speciale.\nInfatti ci esibiremo dal vivo insieme a :\nFrancesco Moneti al violino \nMassimo Giuntini al Bouzouki \nKaba Cavazzuti alla batteria\nBruno Bonarrigo al basso \nCome detto sarà sicuramente una data speciale con una scaletta tutta speciale dove presenteremo alcuni brani del nuovo album “Indiani e Cowboy” ma sopratutto ripercorreremo la quasi trentennale carriera di Cisco \, prima con i Modena City Ramblers e poi da solista. \nMi raccomando non potete mancare! \nCalangianus OT\nFesta di Santa Giusta\nLunedi 13 maggio\nInizio ore 21:30 ingresso gratuito \n 
URL:https://www.ciscovox.it/event/calangianus-ot-olbia-tempio-cisco-dal-vivo-con-super-formazione-speciale/
LOCATION:Calangianus\, Festa di Santa Giusta\, Calangianus\, Sardegna\, Italia
CATEGORIES:Eventi
END:VEVENT
BEGIN:VEVENT
DTSTART;TZID=Europe/Rome:20190413T103000
DTEND;TZID=Europe/Rome:20190413T123000
DTSTAMP:20260420T235749
CREATED:20190407T225254Z
LAST-MODIFIED:20190407T231258Z
UID:11986-1555151400-1555158600@www.ciscovox.it
SUMMARY:Cisco ospite dell’iniziativa dell’ANPI “Con Armando nel cuore”
DESCRIPTION:Sabato 13 aprile alla mattina alle 10:30 circa \, Cisco sarà ospite in una iniziativa live organizzata dall’ANPI dal titolo “Con Armando nel cuore”\, che si terrà a Modena presso il teatro San Carlo in via S. Carlo 5\nSarà un evento dove si parlerà di storia e Resistenza \, con Cisco che si esibirà in 4-5 brani a tema\, tra un intervento e l’altro.
URL:https://www.ciscovox.it/event/cisco-ospite-delliniziativa-dellanpi-con-armando-nel-cuore/
LOCATION:Teatro S. Carlo\, Via S. Carlo\, 5\, Modena\, Italia
CATEGORIES:Eventi
END:VEVENT
END:VCALENDAR