BEGIN:VCALENDAR
VERSION:2.0
PRODID:-//Stefano &quot;Cisco&quot; Bellotti - ECPv6.15.17//NONSGML v1.0//EN
CALSCALE:GREGORIAN
METHOD:PUBLISH
X-ORIGINAL-URL:https://www.ciscovox.it
X-WR-CALDESC:Eventi per Stefano &quot;Cisco&quot; Bellotti
REFRESH-INTERVAL;VALUE=DURATION:PT1H
X-Robots-Tag:noindex
X-PUBLISHED-TTL:PT1H
BEGIN:VTIMEZONE
TZID:Europe/Rome
BEGIN:DAYLIGHT
TZOFFSETFROM:+0100
TZOFFSETTO:+0200
TZNAME:CEST
DTSTART:20240331T010000
END:DAYLIGHT
BEGIN:STANDARD
TZOFFSETFROM:+0200
TZOFFSETTO:+0100
TZNAME:CET
DTSTART:20241027T010000
END:STANDARD
BEGIN:DAYLIGHT
TZOFFSETFROM:+0100
TZOFFSETTO:+0200
TZNAME:CEST
DTSTART:20250330T010000
END:DAYLIGHT
BEGIN:STANDARD
TZOFFSETFROM:+0200
TZOFFSETTO:+0100
TZNAME:CET
DTSTART:20251026T010000
END:STANDARD
BEGIN:DAYLIGHT
TZOFFSETFROM:+0100
TZOFFSETTO:+0200
TZNAME:CEST
DTSTART:20260329T010000
END:DAYLIGHT
BEGIN:STANDARD
TZOFFSETFROM:+0200
TZOFFSETTO:+0100
TZNAME:CET
DTSTART:20261025T010000
END:STANDARD
END:VTIMEZONE
BEGIN:VEVENT
DTSTART;TZID=Europe/Rome:20250117T210000
DTEND;TZID=Europe/Rome:20250117T230000
DTSTAMP:20260423T001018
CREATED:20241226T082821Z
LAST-MODIFIED:20241226T082821Z
UID:95149-1737147600-1737154800@www.ciscovox.it
SUMMARY:Lama di Reno\, Bologna presso il Cellulosa\,  incontro con Cisco tra musica e parole .
DESCRIPTION:-17 GENNAIO 2025- CISCO –\nTalking to Cisco Bellotti \nIn occasione dei 30 anni di “Riportando tutto a casa” CISCO si racconta tra storie\, leggende\, anedotti e musica.\n\n\nIl tutto per una sera a CELLULOSA. Un anno dopo\n\n\nPER ACCEDERE AD OSTERIA:\nIl servizio osteria sarà aperto e disponibile pre-spettacolo dalle 18:00 alle 20:30 e post-spettacolo\ndalle 23:00 alle 00:30.\nLa prenotazione del tavolo osteria è obbligatorio per accedere al servizio al numero 051-0532044.\n\n\n APERTURA PORTE EVENTO:\nDalle ore 20:00 è possibile accedere alla zona eventi.\n\n\n INIZIO EVENTO:\nL’evento avrà inzio alle ore 21:00\n\n\nPRENOTAZIONI POSTI:\nLe prenotazioni dei posti sono da inviare a culturaeventi@scoiattolo.org\n\n\nIL BIGLIETTO:\nIl biglietto è acquistabile solo la sera dell’evento ed avrà un costo di 10\,00€.\n\n\nPagabile con contanti\, carte/bancomat\, satispay\n\n\nINFO A: culturaeventi@scoiattolo.org\n\n\nDOVE:Via Lama di Reno\, 30\, 40043 Lama di Reno BO\n——————————————————————-\nparcheggio in loco\nparcheggio/accesso/servizi facilitati\n\n\n#followers #CISCO #ciscobellotti #mcr #riportandotuttoacasa #apericena #cenabologna #apericinema #Evento #Marzabotto #Lamadireno #Monzuno #Excartiera #CartieraLamaDiReno #Sassomarconi #Casalecchio #Bologna #comunedimarzabotto #Unionecomuniappennino #CittàMetropolitanadiBologna #bolognawelcome #iatmarzabotto #cooperativesociali #LoScoiattolo #Cellulosa
URL:https://www.ciscovox.it/event/lama-di-reno-bologna-presso-il-cellulosa-incontro-con-cisco-tra-musica-e-parole/
LOCATION:cellulosa\, Via Lama di Reno 30\, Lama di reno\, Bologna\, Italy
CATEGORIES:Eventi
ATTACH;FMTTYPE=image/jpeg:https://www.ciscovox.it/wp-content/uploads/2024/12/471144909_6591347231481_5588012710927495105_n.jpg
END:VEVENT
END:VCALENDAR