BEGIN:VCALENDAR
VERSION:2.0
PRODID:-//Stefano &quot;Cisco&quot; Bellotti - ECPv6.15.17//NONSGML v1.0//EN
CALSCALE:GREGORIAN
METHOD:PUBLISH
X-WR-CALNAME:Stefano &quot;Cisco&quot; Bellotti
X-ORIGINAL-URL:https://www.ciscovox.it
X-WR-CALDESC:Eventi per Stefano &quot;Cisco&quot; Bellotti
REFRESH-INTERVAL;VALUE=DURATION:PT1H
X-Robots-Tag:noindex
X-PUBLISHED-TTL:PT1H
BEGIN:VTIMEZONE
TZID:Europe/Rome
BEGIN:DAYLIGHT
TZOFFSETFROM:+0100
TZOFFSETTO:+0200
TZNAME:CEST
DTSTART:20230326T010000
END:DAYLIGHT
BEGIN:STANDARD
TZOFFSETFROM:+0200
TZOFFSETTO:+0100
TZNAME:CET
DTSTART:20231029T010000
END:STANDARD
BEGIN:DAYLIGHT
TZOFFSETFROM:+0100
TZOFFSETTO:+0200
TZNAME:CEST
DTSTART:20240331T010000
END:DAYLIGHT
BEGIN:STANDARD
TZOFFSETFROM:+0200
TZOFFSETTO:+0100
TZNAME:CET
DTSTART:20241027T010000
END:STANDARD
BEGIN:DAYLIGHT
TZOFFSETFROM:+0100
TZOFFSETTO:+0200
TZNAME:CEST
DTSTART:20250330T010000
END:DAYLIGHT
BEGIN:STANDARD
TZOFFSETFROM:+0200
TZOFFSETTO:+0100
TZNAME:CET
DTSTART:20251026T010000
END:STANDARD
END:VTIMEZONE
BEGIN:VEVENT
DTSTART;TZID=Europe/Rome:20240915T210000
DTEND;TZID=Europe/Rome:20240915T233000
DTSTAMP:20260422T223402
CREATED:20240828T140311Z
LAST-MODIFIED:20240828T140311Z
UID:94891-1726434000-1726443000@www.ciscovox.it
SUMMARY:Cisco ospite della festa dei Mitici Gang a Filottrano AN \, il 15 Settembre !
DESCRIPTION:DOmenica 15 settembre \, saremo felici di partecipare alla festa dei 40 anni dei GANG a casa loro e per la precisione a Filottrano in provincia di Ancona. \nSaremo loro ospiti per alcuni brani da suonare insieme e per festeggiare la piu grande Rock Band d ‘Italia ! \nTanti auguri ragazzi e 100 di questi giorni !!! \n 
URL:https://www.ciscovox.it/event/cisco-ospite-della-festa-dei-mitici-gang-a-filottrano-an-il-15-settembre/
LOCATION:GANG 40 ANNI\, Filottrano\, Filottrano\, Ancona\, Italia
CATEGORIES:Ospite
ATTACH;FMTTYPE=image/jpeg:https://www.ciscovox.it/wp-content/uploads/2024/08/418280833_967651951393925_3531427272004629057_n.jpg
END:VEVENT
END:VCALENDAR