BEGIN:VCALENDAR
VERSION:2.0
PRODID:-//Stefano &quot;Cisco&quot; Bellotti - ECPv6.15.17//NONSGML v1.0//EN
CALSCALE:GREGORIAN
METHOD:PUBLISH
X-WR-CALNAME:Stefano &quot;Cisco&quot; Bellotti
X-ORIGINAL-URL:https://www.ciscovox.it
X-WR-CALDESC:Eventi per Stefano &quot;Cisco&quot; Bellotti
REFRESH-INTERVAL;VALUE=DURATION:PT1H
X-Robots-Tag:noindex
X-PUBLISHED-TTL:PT1H
BEGIN:VTIMEZONE
TZID:Europe/Rome
BEGIN:DAYLIGHT
TZOFFSETFROM:+0100
TZOFFSETTO:+0200
TZNAME:CEST
DTSTART:20230326T010000
END:DAYLIGHT
BEGIN:STANDARD
TZOFFSETFROM:+0200
TZOFFSETTO:+0100
TZNAME:CET
DTSTART:20231029T010000
END:STANDARD
BEGIN:DAYLIGHT
TZOFFSETFROM:+0100
TZOFFSETTO:+0200
TZNAME:CEST
DTSTART:20240331T010000
END:DAYLIGHT
BEGIN:STANDARD
TZOFFSETFROM:+0200
TZOFFSETTO:+0100
TZNAME:CET
DTSTART:20241027T010000
END:STANDARD
BEGIN:DAYLIGHT
TZOFFSETFROM:+0100
TZOFFSETTO:+0200
TZNAME:CEST
DTSTART:20250330T010000
END:DAYLIGHT
BEGIN:STANDARD
TZOFFSETFROM:+0200
TZOFFSETTO:+0100
TZNAME:CET
DTSTART:20251026T010000
END:STANDARD
END:VTIMEZONE
BEGIN:VEVENT
DTSTART;TZID=Europe/Rome:20241012T213000
DTEND;TZID=Europe/Rome:20241012T223000
DTSTAMP:20260422T153653
CREATED:20240928T035201Z
LAST-MODIFIED:20240928T035201Z
UID:94969-1728768600-1728772200@www.ciscovox.it
SUMMARY:Serata speciale a Rosignano Solvay (LI) Cisco live insieme ad una SUPER BAND presenta Manuela Bollani!
DESCRIPTION:Sabato 12 ottobre saremo\, a ROSIGNANO SOLVAY in provincia di Livorno al Ristorante 4 con Circolo canottieri solvay @circolocanottierisolvay nell’ambito della manifestazione #chicantaconlebalene Show.\nRacconteremo del disco e dell’incredibile coinvolgimento popolare che ha permesso la sua realizzazione\, storie\, aneddoti e qualche segreto sulla nostra carriera musicale e\, come sempre\, ci sarà spazio per la musica con una serata speciale \, infatti Cisco sarà accompagnato da una SUPER BAND di musicisti incredibili che arrangeranno una decina di brani storici di Cisco!\nPresenterà la serata Manuela Bollani !\nFormazione:\nManuela Bollani\nNico Gori  \, Clarinetto\nMauro Della Rocca \, Basso\nMeme Lucarelli \, Chitarra\nFrancesco Ceri \, Mandolino\nGennaro Scarpato \, Batteria e Percussioni\nInfo e prenotazioni\n0586767360
URL:https://www.ciscovox.it/event/serata-speciale-a-rosignano-solvay-li-cisco-live-insieme-ad-una-super-band-presenta-manuela-bollani/
LOCATION:4con Circolo Canottieri\, via Oberdan Chiesa 14\, Rosignano Solvay\, Livorno\, Italy
CATEGORIES:Ospite
ATTACH;FMTTYPE=image/jpeg:https://www.ciscovox.it/wp-content/uploads/2024/09/460983236_1124632942362491_6219823459205953542_n.jpg
END:VEVENT
END:VCALENDAR