BEGIN:VCALENDAR
VERSION:2.0
PRODID:-//Stefano &quot;Cisco&quot; Bellotti - ECPv6.15.17//NONSGML v1.0//EN
CALSCALE:GREGORIAN
METHOD:PUBLISH
X-WR-CALNAME:Stefano &quot;Cisco&quot; Bellotti
X-ORIGINAL-URL:https://www.ciscovox.it
X-WR-CALDESC:Eventi per Stefano &quot;Cisco&quot; Bellotti
REFRESH-INTERVAL;VALUE=DURATION:PT1H
X-Robots-Tag:noindex
X-PUBLISHED-TTL:PT1H
BEGIN:VTIMEZONE
TZID:Europe/Rome
BEGIN:DAYLIGHT
TZOFFSETFROM:+0100
TZOFFSETTO:+0200
TZNAME:CEST
DTSTART:20250330T010000
END:DAYLIGHT
BEGIN:STANDARD
TZOFFSETFROM:+0200
TZOFFSETTO:+0100
TZNAME:CET
DTSTART:20251026T010000
END:STANDARD
BEGIN:DAYLIGHT
TZOFFSETFROM:+0100
TZOFFSETTO:+0200
TZNAME:CEST
DTSTART:20260329T010000
END:DAYLIGHT
BEGIN:STANDARD
TZOFFSETFROM:+0200
TZOFFSETTO:+0100
TZNAME:CET
DTSTART:20261025T010000
END:STANDARD
BEGIN:DAYLIGHT
TZOFFSETFROM:+0100
TZOFFSETTO:+0200
TZNAME:CEST
DTSTART:20270328T010000
END:DAYLIGHT
BEGIN:STANDARD
TZOFFSETFROM:+0200
TZOFFSETTO:+0100
TZNAME:CET
DTSTART:20271031T010000
END:STANDARD
END:VTIMEZONE
BEGIN:VEVENT
DTSTART;TZID=Europe/Rome:20260228T213000
DTEND;TZID=Europe/Rome:20260228T213000
DTSTAMP:20260421T105623
CREATED:20251217T153109Z
LAST-MODIFIED:20260121T220048Z
UID:95721-1772314200-1772314200@www.ciscovox.it
SUMMARY:Carpi Kalinka MO-  Festa di Inizio Tour di Reduci - Cisco con la "Grande famiglia" ritrovata tutti sul palco del KALINKA a Carpi
DESCRIPTION:Come sempre accade da una decina di anni \, anche quest’anno partiremo con una grande festa al Kalinka di Carpi per inaugurare il nuovo tour e il nuovo disco “Reduci” .\nSarà come sempre una grande festa tra vecchi amici e con la “Grande Famiglia” ritrovata dopo il tour di Riportando tutto a casa 30 anni dopo! \nSabato 28 febbraio presso il Kalinka di Carpi MO \nInizio ore 21:30 \nPrevendita presso i soliti canali abituali . non potete mancare !
URL:https://www.ciscovox.it/event/carpi-kalinka-mo-festa-di-inizio-tour-di-reduci-cisco-con-la-grande-famiglia-ritrovata-tutti-sul-palco-del-kalinka-a-carpi/
LOCATION:kalinka\, Carpi\, Carpi\, Modena\, Italy
CATEGORIES:reduci
ATTACH;FMTTYPE=image/jpeg:https://www.ciscovox.it/wp-content/uploads/2025/12/882ae585-8254-4f07-b8f0-2a2bf280859e.jpg
END:VEVENT
END:VCALENDAR