BEGIN:VCALENDAR
VERSION:2.0
PRODID:-//Stefano &quot;Cisco&quot; Bellotti - ECPv6.15.17//NONSGML v1.0//EN
CALSCALE:GREGORIAN
METHOD:PUBLISH
X-ORIGINAL-URL:https://www.ciscovox.it
X-WR-CALDESC:Eventi per Stefano &quot;Cisco&quot; Bellotti
REFRESH-INTERVAL;VALUE=DURATION:PT1H
X-Robots-Tag:noindex
X-PUBLISHED-TTL:PT1H
BEGIN:VTIMEZONE
TZID:Europe/Rome
BEGIN:DAYLIGHT
TZOFFSETFROM:+0100
TZOFFSETTO:+0200
TZNAME:CEST
DTSTART:20250330T010000
END:DAYLIGHT
BEGIN:STANDARD
TZOFFSETFROM:+0200
TZOFFSETTO:+0100
TZNAME:CET
DTSTART:20251026T010000
END:STANDARD
BEGIN:DAYLIGHT
TZOFFSETFROM:+0100
TZOFFSETTO:+0200
TZNAME:CEST
DTSTART:20260329T010000
END:DAYLIGHT
BEGIN:STANDARD
TZOFFSETFROM:+0200
TZOFFSETTO:+0100
TZNAME:CET
DTSTART:20261025T010000
END:STANDARD
BEGIN:DAYLIGHT
TZOFFSETFROM:+0100
TZOFFSETTO:+0200
TZNAME:CEST
DTSTART:20270328T010000
END:DAYLIGHT
BEGIN:STANDARD
TZOFFSETFROM:+0200
TZOFFSETTO:+0100
TZNAME:CET
DTSTART:20271031T010000
END:STANDARD
END:VTIMEZONE
BEGIN:VEVENT
DTSTART;TZID=Europe/Rome:20260423T213000
DTEND;TZID=Europe/Rome:20260423T233000
DTSTAMP:20260421T065912
CREATED:20251217T162148Z
LAST-MODIFIED:20260121T215405Z
UID:95739-1776979800-1776987000@www.ciscovox.it
SUMMARY:Torino - Hiroshima - REDUCI Cisco con al Grande famiglia ritrovata dal vivo in Tour!
DESCRIPTION:Giovedì 23 aprile\nHiroshima mon amour – Torino \nInizio ore 21:30  ingresso a pagamento\nprevendite presso il circuito ufficiale di prevendita \n  \nSTEFANO “CISCO” BELLOTTI :“REDUCI “ TOUR 2026\nEcco il nuovo tour e il nuovo disco “Reduci”\, in tour con la “GRANDE FAMIGLIA” ritrovata ed allargata…\nReduci non è solo un disco\, non è solo un tour. È un atto di memoria\, un gesto di resistenza\, un modo per\naffermare che la musica può ancora raccontare\, unire e far riflettere\, che i concerti possono essere un\ngesto collettivo di consapevolezza\, oltre che\, ovviamente\, di divertimento e liberazione.\nSiamo reduci di un mondo che non c’è più: quello delle sale prove\, dei vinili consumati\, dei concerti sudati\,\ndelle idee portate avanti anche quando non era conveniente. Abbiamo attraversato stagioni difficili\,\ncombattuto le nostre battaglie culturali e sociali\, e oggi sentiamo il dovere – e il diritto – di raccontarle. Il\nnuovo progetto nasce proprio da qui: un doppio album con due anime che dialogano tra loro. Da una parte\nle storie della Resistenza\, di donne e uomini comuni che hanno scelto la libertà rischiando tutto. Dall’altra le\nstorie della vita\, degli incontri\, dei maestri\, delle figure luminose e delle persone quotidiane che ci hanno\nispirato e che continuano a dare senso al nostro cammino\, e un live che unirà tutto questo ai successi del\npassato…\n“I reduci siamo noi o tutti quelli come noi.\nQuelli che hanno combattuto battaglie\, ognuno a suo modo\, con la stessa passione e la stessa ostinazione\ndi chi crede davvero in qualcosa. Abbiamo fatto le nostre “guerre”\, non quelle con le armi\, ma quelle della\nvita: le battaglie sociali\, culturali\, personali. Ora\, arrivati intorno ai sessant’anni (o anche oltre)\, guardiamo\nindietro e continuiamo a farle\, convinti che sia stato giusto farle.\nMa lo facciamo con orgoglio\, non con rimpianto; perché ogni ferita è la prova di averci provato e di non\nesserci mai tirati indietro\, di non esserci mai arresi.\nSiamo consapevoli di aver perso diverse di queste battaglie. Ma siamo altrettanto consapevoli che valeva la\npena di combatterle. Abbiamo lottato per i nostri ideali\, per le nostre idee\, per un modo di vivere e di\npensare libero\, sincero e coerente.\nCon la consapevolezza di essere forse fuori tempo massimo crediamo però che il mondo abbia ancora\nbisogno di noi\, di reduci come noi\, di coloro che sanno raccontare le storie che hanno vissuto.\nIl reduce (di guerra) è colui che racconta e ha la forza per comunicare ai giovani l’orrore e la bruttura della\nguerra\, per trasmetterli alle nuove generazioni perché non si ripetano vicende come lui ha vissuto: questa\ncosa per noi è fondamentale.\nÈ grazie a chi ci ha preceduto se conosciamo le vicende dei partigiani\, i racconti della guerra\, le esperienze\ndi chi ha attraversato epoche difficili e ne ha custodito la memoria. Oggi sentiamo di avere lo stesso\ncompito: raccontare il nostro tempo\, quello di un mondo che non c’è più.\nNel mondo della musica è stato lo stesso; come musicisti\, ci riconosciamo come reduci di un mondo che non\nesiste più\, un mondo fatto di strumenti\, sale prove\, concerti\, vinili\, giradischi\, incontri e passioni che non si\nmisurano solo in visualizzazioni o algoritmi.\nOggi la musica è andata altrove\, e questo va accettato. Ma proprio per questo sentiamo e abbiamo il\ndovere e il desiderio di raccontare ciò che è stato\, di trasmettere quella memoria viva\, quel modo di sentire\,\ncreare e vivere la musica che ci ha formati.\nCi siamo tuffati più di trent’anni fa con un approccio controcorrente\, non allineato al sistema\, rifiutando le\nmode e le regole imposte dal mercato. Per questo\, forse\, siamo stati “sputati fuori”: non abbiamo seguito la\ntendenza e la stessa ci ha lasciati ai margini. Ma non ci siamo mai arresi.\nEssere “Reduci” significa questo: aver vissuto (oppure essere rimasti noi stessi\, oppure aver trovato il nostro\nposto) in un mondo che spesso non ci ha capiti\, ma che non è riuscito a zittirci.\nSiamo ancora qui\, con la stessa voglia di far sentire la nostra voce\, di raccontare le nostre idee\, di cantare il\nnostro vissuto.\nContinueremo a farlo finché avremo fiato\, perché la nostra musica è la nostra testimonianza\, la nostra\nmemoria\, la nostra resistenza. \nIL TOUR 2026\n“Reduci” da due anni in giro per i palchi dei piu importanti club\, dei festival e delle piazze con il progetto\nRIPORTANDO TUTTO A CASA TRENT’ANNI DOPO\, rimane la voglia e “l’intenzione” della GRANDE\nFAMIGLIA…sarà un tour per reincontrarvi\, con vecchie e nuove storie\, sul palco gli amici di\nsempre…Abbiamo combattuto le nostre battaglie artistiche e sociali e\, anche se il mondo musicale è\ncambiato\, noi siamo ancora qui.\nL’entusiasmo che incontriamo ai nostri concerti ci dà la forza di continuare e la speranza di arrivare fino in\nfondo a questa nuova avventura..
URL:https://www.ciscovox.it/event/torino-hiroshima-reduci-cisco-con-al-grande-famiglia-ritrovata-dal-vivo-in-tour/
LOCATION:Hiroshima mon amour\, Torino\, Torino\, Torino\, Italy
CATEGORIES:reduci
ATTACH;FMTTYPE=image/jpeg:https://www.ciscovox.it/wp-content/uploads/2025/12/597809021_1451282873030828_7921244950175160224_n.jpg
END:VEVENT
BEGIN:VEVENT
DTSTART;TZID=Europe/Rome:20260425T143000
DTEND;TZID=Europe/Rome:20260425T160000
DTSTAMP:20260421T065912
CREATED:20260306T153644Z
LAST-MODIFIED:20260419T061622Z
UID:95835-1777127400-1777132800@www.ciscovox.it
SUMMARY:Festa della Liberazione REDUCI live sul palco del Museo Cervi ! ore 14:30
DESCRIPTION:Anche quest’anno parteciperemo alla grande festa di Casa Museo Cervi a Campegine di RE. \nSarà un’altra ottima occasione per suonare dal vivo i brani di REDUCI dedicati alla resistenza e alla guerra ! \nLa grande festa vedrà la partecipazione di gruppi importanti della scena alternativa italiana \, come i Punkreas e i Tre Allegri Ragazzi Morti ! \nInutile dirvi che vi aspettiamo numerosi come sempre \, noi ci esibiremo per primi \, verso le 15:00 per poi spostarci presso il campo di concentramento di Fossoli a Carpi per un’altr0 concerto dedicato alla Liberazione ! \nCasa Museo Cervi\nCampegine RE\nInizio concerto ore 14:00\nScaletta giornata :\nCisco\nPunkreas\nTre allegri ragazzi morti \nBuona festa della Liberazione a tutti !
URL:https://www.ciscovox.it/event/festa-della-liberazione-reduci-live-sul-palco-del-museo-cervi/
LOCATION:Casa Museo Cervi\, Casa Museo Cervi\, Campegine RE\, Reggio Emilia\, Italy
CATEGORIES:reduci
END:VEVENT
BEGIN:VEVENT
DTSTART;TZID=Europe/Rome:20260425T180000
DTEND;TZID=Europe/Rome:20260425T193000
DTSTAMP:20260421T065912
CREATED:20260306T154640Z
LAST-MODIFIED:20260419T061522Z
UID:95837-1777140000-1777145400@www.ciscovox.it
SUMMARY:Campo di concentramento Fossoli Carpi MO - Festa della Liberazione REDUCI dal vivo! ore 18:00
DESCRIPTION:Per festeggiare a pieno la Liberazione il 25 aprile \, dopo aver suonato a Casa Cervi ci sposteremo al Campo di Concentramento di Fossoli a Carpi \, per continuare le celebrazioni della festa della Liberazione. \nSarà una festa che inizierà nel primo pomeriggio con vari interventi e l’esibizione dei mitici GANG e poi chiudere ci sarà la nostra esibizione dove suoneremo canzoni a tema e presenteremo anche il brani del nuovo album REDUCI . \nla nostra esibizione si terrà per le 18:00 circa ! \nCampo Fossoli Carpi MO \ninresso gratuito
URL:https://www.ciscovox.it/event/campo-di-concentramento-fossoli-carpi-mo-festa-della-liberazione-reduci-dal-vivo/
LOCATION:Campo concentramento Fossoli\, Fossoli\, Carpi\, Modena\, Italy
CATEGORIES:reduci
ATTACH;FMTTYPE=image/jpeg:https://www.ciscovox.it/wp-content/uploads/2026/03/campo-di-fossoli_storia__ScaleWidthWzkwMF0.jpg
END:VEVENT
BEGIN:VEVENT
DTSTART;TZID=Europe/Rome:20260426T170000
DTEND;TZID=Europe/Rome:20260426T190000
DTSTAMP:20260421T065912
CREATED:20260419T061430Z
LAST-MODIFIED:20260419T061430Z
UID:95952-1777222800-1777230000@www.ciscovox.it
SUMMARY:Empoli\, parco di Serravalle \, Reduci dal vivo inizio ore 17:00
DESCRIPTION:Domenica 26 aprile ci esibiremo dal vivo ad Empoli presso il Parco di Serravalle \, nei pressi dello stadio\, per un concerto pomeridiano\, dedicato alla Resistenza e alla Liberazione. \nSarà un evento speciale insieme alla Grande Familia Ritrovata\,  per festeggiare ancora un volta la festa della Liberazione e per suonare dal vivo le nuove canzoni del disco Reduci uscito poco tempo fa. \nVi aspettiamo numerosi come sempre\, inresso gratuito e inizio ore 17:00 !
URL:https://www.ciscovox.it/event/empoli-parco-di-serravalle-reduci-dal-vivo-inizio-ore-1700/
LOCATION:PARCO DI SERRAVALLE\, PArco di Serravalle\, Empoli\, Firenze\, Italy
CATEGORIES:reduci
ATTACH;FMTTYPE=image/jpeg:https://www.ciscovox.it/wp-content/uploads/2026/04/663225884_1255970943191461_5391192875373081336_n.jpg
END:VEVENT
END:VCALENDAR