BEGIN:VCALENDAR
VERSION:2.0
PRODID:-//Stefano &quot;Cisco&quot; Bellotti - ECPv6.15.17//NONSGML v1.0//EN
CALSCALE:GREGORIAN
METHOD:PUBLISH
X-ORIGINAL-URL:https://www.ciscovox.it
X-WR-CALDESC:Eventi per Stefano &quot;Cisco&quot; Bellotti
REFRESH-INTERVAL;VALUE=DURATION:PT1H
X-Robots-Tag:noindex
X-PUBLISHED-TTL:PT1H
BEGIN:VTIMEZONE
TZID:Europe/Rome
BEGIN:DAYLIGHT
TZOFFSETFROM:+0100
TZOFFSETTO:+0200
TZNAME:CEST
DTSTART:20240331T010000
END:DAYLIGHT
BEGIN:STANDARD
TZOFFSETFROM:+0200
TZOFFSETTO:+0100
TZNAME:CET
DTSTART:20241027T010000
END:STANDARD
BEGIN:DAYLIGHT
TZOFFSETFROM:+0100
TZOFFSETTO:+0200
TZNAME:CEST
DTSTART:20250330T010000
END:DAYLIGHT
BEGIN:STANDARD
TZOFFSETFROM:+0200
TZOFFSETTO:+0100
TZNAME:CET
DTSTART:20251026T010000
END:STANDARD
BEGIN:DAYLIGHT
TZOFFSETFROM:+0100
TZOFFSETTO:+0200
TZNAME:CEST
DTSTART:20260329T010000
END:DAYLIGHT
BEGIN:STANDARD
TZOFFSETFROM:+0200
TZOFFSETTO:+0100
TZNAME:CET
DTSTART:20261025T010000
END:STANDARD
END:VTIMEZONE
BEGIN:VEVENT
DTSTART;TZID=Europe/Rome:20250705T213000
DTEND;TZID=Europe/Rome:20250705T233000
DTSTAMP:20260422T093856
CREATED:20250510T151541Z
LAST-MODIFIED:20250527T173039Z
UID:95407-1751751000-1751758200@www.ciscovox.it
SUMMARY:Erbusco BS Baffest - Cisco dal vivo con il Riportando tutto a casa tour 30 anni dopo !
DESCRIPTION:Sabato 05 luglio  il “Riportando tutto a casa tour 30 anni dopo” arriverà ad Erbusco in provincia di Brescia per il festival Baffest! \nSarà un’ottima occasione per cantare e ballare insieme le canzoni storiche del primo albumm del MCR e molto altro! \nPresto tutte le info della data ! \n  \nCisco Bellotti e gli ex Modena City Ramblers presentano in un tour invernale il nuovo live \n“Riportando tutto a casa 30 anni dopo”\n \nDopo il clamoroso successo\, ricco di sold out\, del tour Riportando tutto a casa 30 anni dopo che ha visto Stefano “CISCO” Bellotti insieme ad alcuni ex MCR calcare i palchi dei maggiori club musicali e teatri italiani in una serie di date condensate nei mesi di marzo e aprile 2024 con una “coda” estiva\, arriva a grande richiesta anche un tour invernale. \nA inizio 2024\, per festeggiare e celebrare i trent’anni dell’uscita di quell’iconico lavoro targato MCR\, gruppo in cui ha militato come front mann per 15 anni\, Cisco ha deciso di “riportare a casa” alcuni dei suoi vecchi amici che avevano contribuito alla nascita di quel disco\, dimostrando con una partecipazione straordinaria di pubblico\, locali strapieni ed entusiasmo contagiante\, quanto sia ancora oggi amato. \nDa quei 23 memorabili concerti è nata l’idea di un disco live che è stato totalmente finanziato con un crowdfunding dall’adesione clamorosa\, una vera e propria colletta popolare\, con oltre 850 sostenitori e più di 40.000 euro raggiunti. Numeri raddoppiati rispetto all’obbiettivo iniziale prefissato. \nE quindi\, a grande richiesta Riportando tutto a casa 30 anni dopo tornerà dall’autunno\, con un secondo tour\, anche per presentare il nuovo disco live dal titolo omonimo in uscita a novembre 2024 \nLa formazione che si presenterà sul palco sarà ancora più importante rispetto al marzo scorso. Oltre a Cisco Bellotti\, a Luciano Gaetani\, colui che ha dato il via al progetto artistico\, Marco Michelini al violino\, da sempre braccio destro musicale di Luciano\, Roberto Zeno\, storico batterista del MCR e “Kaba” Cavazzuti\, produttore artistico e componente musicale dei MCR\, e ad alcuni compagni di viaggio degli ultimi anni di Cisco\, cioè Bruno Bonarrigo al basso\, Max Frignani alle chitarre ed Enrico Pasini alla fisarmonica e tromba\, per la “reprise” del tour saranno della partita altri componenti fondamentali per quello che fu il fenomeno MCR negli anni ‘90 e 2000\, cioè coloro che scrissero buona parte delle canzoni dei primi album\, Giovanni Rubbiani\, alla chitarra\, e Alberto Cottica\, alla fisarmonica\, oltre al “maestro di cerimonia” e quotatissimo a livello internazione suonatore di pipe e cornamuse Massimo Giuntini.
URL:https://www.ciscovox.it/event/erebusco-bs-baffest-cisco-dal-vivo-con-il-riportando-tutto-a-casa-tour-30-anni-dopo/
LOCATION:Baffest\, Erbusco\, Erbusco\, Brescia\, Italy
CATEGORIES:Riportando tutto a casa tour 30 dopo
ATTACH;FMTTYPE=image/jpeg:https://www.ciscovox.it/wp-content/uploads/2025/05/494742885_1283356746490109_3263928352887036114_n.jpg
END:VEVENT
BEGIN:VEVENT
DTSTART;TZID=Europe/Rome:20250710T213000
DTEND;TZID=Europe/Rome:20250710T233000
DTSTAMP:20260422T093856
CREATED:20250626T143709Z
LAST-MODIFIED:20250626T144820Z
UID:95513-1752183000-1752190200@www.ciscovox.it
SUMMARY:Legnano MI - Rugbysound Festival - Cisco dal vivo con il Riportando tutto a casa tour 30 anni dopo!
DESCRIPTION:Giovedì 10 luglio Cisco e il suo “Riportando tutto a casa tour 30 anni dopo” ritornerà  a Milano e per la precisione a Legnano per il prestigioso Festival Rugby Sound \nSarà un’altra ottima occasione per fare festa e cantare\, ballare insieme le canzoni storiche dei primi album dei MCR insieme ai musicisti che le hanno create e realizzate ! \nIngresso gratutio inizio ore 21:30  vi aspettiamo Numerosi come al solito ! \n  \nCisco Bellotti e gli ex Modena City Ramblers presentano in un tour invernale il nuovo live \n“Riportando tutto a casa 30 anni dopo”\n \nDopo il clamoroso successo\, ricco di sold out\, del tour Riportando tutto a casa 30 anni dopo che ha visto Stefano “CISCO” Bellotti insieme ad alcuni ex MCR calcare i palchi dei maggiori club musicali e teatri italiani in una serie di date condensate nei mesi di marzo e aprile 2024 con una “coda” estiva\, arriva a grande richiesta anche un tour invernale. \nA inizio 2024\, per festeggiare e celebrare i trent’anni dell’uscita di quell’iconico lavoro targato MCR\, gruppo in cui ha militato come front mann per 15 anni\, Cisco ha deciso di “riportare a casa” alcuni dei suoi vecchi amici che avevano contribuito alla nascita di quel disco\, dimostrando con una partecipazione straordinaria di pubblico\, locali strapieni ed entusiasmo contagiante\, quanto sia ancora oggi amato. \nDa quei 23 memorabili concerti è nata l’idea di un disco live che è stato totalmente finanziato con un crowdfunding dall’adesione clamorosa\, una vera e propria colletta popolare\, con oltre 850 sostenitori e più di 40.000 euro raggiunti. Numeri raddoppiati rispetto all’obbiettivo iniziale prefissato. \nE quindi\, a grande richiesta Riportando tutto a casa 30 anni dopo tornerà dall’autunno\, con un secondo tour\, anche per presentare il nuovo disco live dal titolo omonimo in uscita a novembre 2024 \nLa formazione che si presenterà sul palco sarà ancora più importante rispetto al marzo scorso. Oltre a Cisco Bellotti\, a Luciano Gaetani\, colui che ha dato il via al progetto artistico\, Marco Michelini al violino\, da sempre braccio destro musicale di Luciano\, Roberto Zeno\, storico batterista del MCR e “Kaba” Cavazzuti\, produttore artistico e componente musicale dei MCR\, e ad alcuni compagni di viaggio degli ultimi anni di Cisco\, cioè Bruno Bonarrigo al basso\, Max Frignani alle chitarre ed Enrico Pasini alla fisarmonica e tromba\, per la “reprise” del tour saranno della partita altri componenti fondamentali per quello che fu il fenomeno MCR negli anni ‘90 e 2000\, cioè coloro che scrissero buona parte delle canzoni dei primi album\, Giovanni Rubbiani\, alla chitarra\, e Alberto Cottica\, alla fisarmonica\, oltre al “maestro di cerimonia” e quotatissimo a livello internazione suonatore di pipe e cornamuse Massimo Giuntini.
URL:https://www.ciscovox.it/event/legnano-mi-rugbysound-festival-cisco-dal-vivo-con-il-riportando-tutto-a-casa-tour-30-anni-dopo/
LOCATION:rugbysound\, Isola del Castello\, Legnano\, Milano\, Italy
CATEGORIES:Riportando tutto a casa tour 30 dopo
ATTACH;FMTTYPE=image/png:https://www.ciscovox.it/wp-content/uploads/2025/06/kNa_EvtQ.png
END:VEVENT
BEGIN:VEVENT
DTSTART;TZID=Europe/Rome:20250711T100000
DTEND;TZID=Europe/Rome:20250711T233000
DTSTAMP:20260422T093856
CREATED:20250510T152459Z
LAST-MODIFIED:20250510T152459Z
UID:95410-1752228000-1752276600@www.ciscovox.it
SUMMARY:Bertinoro FC - Notte bianca - Cisco dal vivo con il Riportando tutto a casa tour 30 anni dopo!
DESCRIPTION:Venerdì 11 luglio  il “Riportando tutto a casa tour 30 anni dopo” arriverà in Romagna e per la precisione nello splendido comune di Bertinoro per la Notte Bianca . \nSarà un’altra ottima occasione per cantare e ballare insieme le canzoni storiche del primo album del MCR e molto altro! \nIngresso a pagamento Prevendite disponibili qui: https://www.boxol.it/Entroterre/it/event/frico/563644 \ninizio ore 22:00 circa ! \n  \nCisco Bellotti e gli ex Modena City Ramblers presentano in un tour invernale il nuovo live \n“Riportando tutto a casa 30 anni dopo”\n \nDopo il clamoroso successo\, ricco di sold out\, del tour Riportando tutto a casa 30 anni dopo che ha visto Stefano “CISCO” Bellotti insieme ad alcuni ex MCR calcare i palchi dei maggiori club musicali e teatri italiani in una serie di date condensate nei mesi di marzo e aprile 2024 con una “coda” estiva\, arriva a grande richiesta anche un tour invernale. \nA inizio 2024\, per festeggiare e celebrare i trent’anni dell’uscita di quell’iconico lavoro targato MCR\, gruppo in cui ha militato come front mann per 15 anni\, Cisco ha deciso di “riportare a casa” alcuni dei suoi vecchi amici che avevano contribuito alla nascita di quel disco\, dimostrando con una partecipazione straordinaria di pubblico\, locali strapieni ed entusiasmo contagiante\, quanto sia ancora oggi amato. \nDa quei 23 memorabili concerti è nata l’idea di un disco live che è stato totalmente finanziato con un crowdfunding dall’adesione clamorosa\, una vera e propria colletta popolare\, con oltre 850 sostenitori e più di 40.000 euro raggiunti. Numeri raddoppiati rispetto all’obbiettivo iniziale prefissato. \nE quindi\, a grande richiesta Riportando tutto a casa 30 anni dopo tornerà dall’autunno\, con un secondo tour\, anche per presentare il nuovo disco live dal titolo omonimo in uscita a novembre 2024 \nLa formazione che si presenterà sul palco sarà ancora più importante rispetto al marzo scorso. Oltre a Cisco Bellotti\, a Luciano Gaetani\, colui che ha dato il via al progetto artistico\, Marco Michelini al violino\, da sempre braccio destro musicale di Luciano\, Roberto Zeno\, storico batterista del MCR e “Kaba” Cavazzuti\, produttore artistico e componente musicale dei MCR\, e ad alcuni compagni di viaggio degli ultimi anni di Cisco\, cioè Bruno Bonarrigo al basso\, Max Frignani alle chitarre ed Enrico Pasini alla fisarmonica e tromba\, per la “reprise” del tour saranno della partita altri componenti fondamentali per quello che fu il fenomeno MCR negli anni ‘90 e 2000\, cioè coloro che scrissero buona parte delle canzoni dei primi album\, Giovanni Rubbiani\, alla chitarra\, e Alberto Cottica\, alla fisarmonica\, oltre al “maestro di cerimonia” e quotatissimo a livello internazione suonatore di pipe e cornamuse Massimo Giuntini.
URL:https://www.ciscovox.it/event/bertinoro-fc-notte-bianca-cisco-dal-vivo-con-il-riportando-tutto-a-casa-tour-30-anni-dopo/
LOCATION:Notte Bianca\, Piazza della Libertà\, Bertinoro\, Forlì Cesena\, Italy
CATEGORIES:Riportando tutto a casa tour 30 dopo
ATTACH;FMTTYPE=image/png:https://www.ciscovox.it/wp-content/uploads/2025/05/35e4c48bd9cc2e2257b929ea011618cbd95401ad.png
END:VEVENT
BEGIN:VEVENT
DTSTART;TZID=Europe/Rome:20250716T213000
DTEND;TZID=Europe/Rome:20250716T233000
DTSTAMP:20260422T093856
CREATED:20250510T153145Z
LAST-MODIFIED:20250630T194818Z
UID:95414-1752701400-1752708600@www.ciscovox.it
SUMMARY:Condove TO - Campo Sportivo - Cisco dal vivo con Riportando tutto a casa tour 30 anni dopo !
DESCRIPTION:Mercoledì 16 luglio  Cisco e il suo “Riportando tutto a casa tour 30 anni dopo” tornerà in Piemonte e per la precisione a Condove  in provincia di Torino per una nuova tappa del tour! \nSarà un’altra ottima occasione per cantare e ballare insieme le canzoni storiche dei primi album dei MCR insieme ai musicisti che le hanno create e realizzate ! \nIngresso a pagamento prevendite\nhttps://www.ticketone.it/event/cisco-riportando-tutto-a-casa-30-anni-dopo-campo-sportivo-di-condove-20150441/ \n  \nCisco Bellotti e gli ex Modena City Ramblers presentano in un tour invernale il nuovo live \n“Riportando tutto a casa 30 anni dopo”\n \nDopo il clamoroso successo\, ricco di sold out\, del tour Riportando tutto a casa 30 anni dopo che ha visto Stefano “CISCO” Bellotti insieme ad alcuni ex MCR calcare i palchi dei maggiori club musicali e teatri italiani in una serie di date condensate nei mesi di marzo e aprile 2024 con una “coda” estiva\, arriva a grande richiesta anche un tour invernale. \nA inizio 2024\, per festeggiare e celebrare i trent’anni dell’uscita di quell’iconico lavoro targato MCR\, gruppo in cui ha militato come front mann per 15 anni\, Cisco ha deciso di “riportare a casa” alcuni dei suoi vecchi amici che avevano contribuito alla nascita di quel disco\, dimostrando con una partecipazione straordinaria di pubblico\, locali strapieni ed entusiasmo contagiante\, quanto sia ancora oggi amato. \nDa quei 23 memorabili concerti è nata l’idea di un disco live che è stato totalmente finanziato con un crowdfunding dall’adesione clamorosa\, una vera e propria colletta popolare\, con oltre 850 sostenitori e più di 40.000 euro raggiunti. Numeri raddoppiati rispetto all’obbiettivo iniziale prefissato. \nE quindi\, a grande richiesta Riportando tutto a casa 30 anni dopo tornerà dall’autunno\, con un secondo tour\, anche per presentare il nuovo disco live dal titolo omonimo in uscita a novembre 2024 \nLa formazione che si presenterà sul palco sarà ancora più importante rispetto al marzo scorso. Oltre a Cisco Bellotti\, a Luciano Gaetani\, colui che ha dato il via al progetto artistico\, Marco Michelini al violino\, da sempre braccio destro musicale di Luciano\, Roberto Zeno\, storico batterista del MCR e “Kaba” Cavazzuti\, produttore artistico e componente musicale dei MCR\, e ad alcuni compagni di viaggio degli ultimi anni di Cisco\, cioè Bruno Bonarrigo al basso\, Max Frignani alle chitarre ed Enrico Pasini alla fisarmonica e tromba\, per la “reprise” del tour saranno della partita altri componenti fondamentali per quello che fu il fenomeno MCR negli anni ‘90 e 2000\, cioè coloro che scrissero buona parte delle canzoni dei primi album\, Giovanni Rubbiani\, alla chitarra\, e Alberto Cottica\, alla fisarmonica\, oltre al “maestro di cerimonia” e quotatissimo a livello internazione suonatore di pipe e cornamuse Massimo Giuntini.
URL:https://www.ciscovox.it/event/condove-to-campo-sportivo-cisco-dal-vivo-con-riportando-tutto-a-casa-tour-30-anni-dopo/
LOCATION:campo sportivo\, Condove\, Condove\, Torino\, Italy
CATEGORIES:Riportando tutto a casa tour 30 dopo
ATTACH;FMTTYPE=image/jpeg:https://www.ciscovox.it/wp-content/uploads/2025/06/Senza-titolo.jpg
END:VEVENT
BEGIN:VEVENT
DTSTART;TZID=Europe/Rome:20250718T213000
DTEND;TZID=Europe/Rome:20250718T233000
DTSTAMP:20260422T093856
CREATED:20250527T063009Z
LAST-MODIFIED:20250630T194733Z
UID:95469-1752874200-1752881400@www.ciscovox.it
SUMMARY:Piane di Montegiorgio - Fermo - Cisco dal vivo con il Riportando tutto a casa tour 30 anni dopo!
DESCRIPTION:Cisco Bellotti e gli ex Modena City Ramblers presentano in un tour invernale il nuovo live \n“Riportando tutto a casa 30 anni dopo”\n \nDopo il clamoroso successo\, ricco di sold out\, del tour Riportando tutto a casa 30 anni dopo che ha visto Stefano “CISCO” Bellotti insieme ad alcuni ex MCR calcare i palchi dei maggiori club musicali e teatri italiani in una serie di date condensate nei mesi di marzo e aprile 2024 con una “coda” estiva\, arriva a grande richiesta anche un tour invernale. \nA inizio 2024\, per festeggiare e celebrare i trent’anni dell’uscita di quell’iconico lavoro targato MCR\, gruppo in cui ha militato come front mann per 15 anni\, Cisco ha deciso di “riportare a casa” alcuni dei suoi vecchi amici che avevano contribuito alla nascita di quel disco\, dimostrando con una partecipazione straordinaria di pubblico\, locali strapieni ed entusiasmo contagiante\, quanto sia ancora oggi amato. \nDa quei 23 memorabili concerti è nata l’idea di un disco live che è stato totalmente finanziato con un crowdfunding dall’adesione clamorosa\, una vera e propria colletta popolare\, con oltre 850 sostenitori e più di 40.000 euro raggiunti. Numeri raddoppiati rispetto all’obbiettivo iniziale prefissato. \nE quindi\, a grande richiesta Riportando tutto a casa 30 anni dopo tornerà dall’autunno\, con un secondo tour\, anche per presentare il nuovo disco live dal titolo omonimo in uscita a novembre 2024 \nLa formazione che si presenterà sul palco sarà ancora più importante rispetto al marzo scorso. Oltre a Cisco Bellotti\, a Luciano Gaetani\, colui che ha dato il via al progetto artistico\, Marco Michelini al violino\, da sempre braccio destro musicale di Luciano\, Roberto Zeno\, storico batterista del MCR e “Kaba” Cavazzuti\, produttore artistico e componente musicale dei MCR\, e ad alcuni compagni di viaggio degli ultimi anni di Cisco\, cioè Bruno Bonarrigo al basso\, Max Frignani alle chitarre ed Enrico Pasini alla fisarmonica e tromba\, per la “reprise” del tour saranno della partita altri componenti fondamentali per quello che fu il fenomeno MCR negli anni ‘90 e 2000\, cioè coloro che scrissero buona parte delle canzoni dei primi album\, Giovanni Rubbiani\, alla chitarra\, e Alberto Cottica\, alla fisarmonica\, oltre al “maestro di cerimonia” e quotatissimo a livello internazione suonatore di pipe e cornamuse Massimo Giuntini.
URL:https://www.ciscovox.it/event/piane-di-monntegiorgio-fermo-cisco-dal-vivo-con-il-riportando-tutto-a-casa-tour-30-anni-dopo/
LOCATION:Festa\, Piane di Montegiorgio\, Piane di Montegiorgio\, Fermo\, Italy
CATEGORIES:Riportando tutto a casa tour 30 dopo
ATTACH;FMTTYPE=image/jpeg:https://www.ciscovox.it/wp-content/uploads/2025/06/Senza-titolo.jpg
END:VEVENT
BEGIN:VEVENT
DTSTART;TZID=Europe/Rome:20250719T213000
DTEND;TZID=Europe/Rome:20250719T233000
DTSTAMP:20260422T093856
CREATED:20250510T154231Z
LAST-MODIFIED:20250630T194541Z
UID:95420-1752960600-1752967800@www.ciscovox.it
SUMMARY:Gattatico RE - Praticio Rock - Cisco dal vivo con il Riportando tutto a casa tour 30 anni dopo !
DESCRIPTION:Sabato 19 luglio Cisco e il suo “Riportando tutto a casa tour 30 anni dopo” ritornerà in a Gattatico e per la precisione a Praticello di Gattatico al Praticio Rock per una nuova tappa del tour \nSarà un’altra ottima occasione per fare festa e cantare\, ballare insieme le canzoni storiche dei primi album dei MCR insieme ai musicisti che le hanno create e realizzate ! \nIngresso gratutio inizio ore 21:30  vi aspettiamo Numerosi come al solito ! \n  \nCisco Bellotti e gli ex Modena City Ramblers presentano in un tour invernale il nuovo live \n“Riportando tutto a casa 30 anni dopo”\n \nDopo il clamoroso successo\, ricco di sold out\, del tour Riportando tutto a casa 30 anni dopo che ha visto Stefano “CISCO” Bellotti insieme ad alcuni ex MCR calcare i palchi dei maggiori club musicali e teatri italiani in una serie di date condensate nei mesi di marzo e aprile 2024 con una “coda” estiva\, arriva a grande richiesta anche un tour invernale. \nA inizio 2024\, per festeggiare e celebrare i trent’anni dell’uscita di quell’iconico lavoro targato MCR\, gruppo in cui ha militato come front mann per 15 anni\, Cisco ha deciso di “riportare a casa” alcuni dei suoi vecchi amici che avevano contribuito alla nascita di quel disco\, dimostrando con una partecipazione straordinaria di pubblico\, locali strapieni ed entusiasmo contagiante\, quanto sia ancora oggi amato. \nDa quei 23 memorabili concerti è nata l’idea di un disco live che è stato totalmente finanziato con un crowdfunding dall’adesione clamorosa\, una vera e propria colletta popolare\, con oltre 850 sostenitori e più di 40.000 euro raggiunti. Numeri raddoppiati rispetto all’obbiettivo iniziale prefissato. \nE quindi\, a grande richiesta Riportando tutto a casa 30 anni dopo tornerà dall’autunno\, con un secondo tour\, anche per presentare il nuovo disco live dal titolo omonimo in uscita a novembre 2024 \nLa formazione che si presenterà sul palco sarà ancora più importante rispetto al marzo scorso. Oltre a Cisco Bellotti\, a Luciano Gaetani\, colui che ha dato il via al progetto artistico\, Marco Michelini al violino\, da sempre braccio destro musicale di Luciano\, Roberto Zeno\, storico batterista del MCR e “Kaba” Cavazzuti\, produttore artistico e componente musicale dei MCR\, e ad alcuni compagni di viaggio degli ultimi anni di Cisco\, cioè Bruno Bonarrigo al basso\, Max Frignani alle chitarre ed Enrico Pasini alla fisarmonica e tromba\, per la “reprise” del tour saranno della partita altri componenti fondamentali per quello che fu il fenomeno MCR negli anni ‘90 e 2000\, cioè coloro che scrissero buona parte delle canzoni dei primi album\, Giovanni Rubbiani\, alla chitarra\, e Alberto Cottica\, alla fisarmonica\, oltre al “maestro di cerimonia” e quotatissimo a livello internazione suonatore di pipe e cornamuse Massimo Giuntini.
URL:https://www.ciscovox.it/event/gattatico-re-praticcio-rock-cisco-dal-vivo-con-il-riportando-tutto-a-casa-tour-30-anni-dopo/
LOCATION:praticcio Rock\, Praticello di Gattatico\, Gattatico\, Reggio Emilia\, Italy
CATEGORIES:Riportando tutto a casa tour 30 dopo
ATTACH;FMTTYPE=image/jpeg:https://www.ciscovox.it/wp-content/uploads/2025/06/Senza-titolo.jpg
END:VEVENT
BEGIN:VEVENT
DTSTART;TZID=Europe/Rome:20250726T213000
DTEND;TZID=Europe/Rome:20250726T233000
DTSTAMP:20260422T093856
CREATED:20250510T154618Z
LAST-MODIFIED:20250630T194453Z
UID:95423-1753565400-1753572600@www.ciscovox.it
SUMMARY:Treviso - Suoni di Marca - Cisco dal vivo con il Riportando tutto a casa tour 30 anni dopo !
DESCRIPTION:Sabato 26 luglio Cisco e il suo “Riportando tutto a casa tour 30 anni dopo” arriverà in Veneto e per la precisione a Treviso per il festiva prestigioso di “Suoni di marca” per una nuova tappa del tour! \nSarà un’altra ottima occasione per fare festa cantare e ballare insieme le canzoni storiche dei primi album dei MCR insieme ai musicisti che le hanno create e realizzate ! \nIngresso gratutio inizio ore 21:30  vi aspettiamo Numerosi come al solito ! \n  \nCisco Bellotti e gli ex Modena City Ramblers presentano in un tour invernale il nuovo live \n“Riportando tutto a casa 30 anni dopo”\n \nDopo il clamoroso successo\, ricco di sold out\, del tour Riportando tutto a casa 30 anni dopo che ha visto Stefano “CISCO” Bellotti insieme ad alcuni ex MCR calcare i palchi dei maggiori club musicali e teatri italiani in una serie di date condensate nei mesi di marzo e aprile 2024 con una “coda” estiva\, arriva a grande richiesta anche un tour invernale. \nA inizio 2024\, per festeggiare e celebrare i trent’anni dell’uscita di quell’iconico lavoro targato MCR\, gruppo in cui ha militato come front mann per 15 anni\, Cisco ha deciso di “riportare a casa” alcuni dei suoi vecchi amici che avevano contribuito alla nascita di quel disco\, dimostrando con una partecipazione straordinaria di pubblico\, locali strapieni ed entusiasmo contagiante\, quanto sia ancora oggi amato. \nDa quei 23 memorabili concerti è nata l’idea di un disco live che è stato totalmente finanziato con un crowdfunding dall’adesione clamorosa\, una vera e propria colletta popolare\, con oltre 850 sostenitori e più di 40.000 euro raggiunti. Numeri raddoppiati rispetto all’obbiettivo iniziale prefissato. \nE quindi\, a grande richiesta Riportando tutto a casa 30 anni dopo tornerà dall’autunno\, con un secondo tour\, anche per presentare il nuovo disco live dal titolo omonimo in uscita a novembre 2024 \nLa formazione che si presenterà sul palco sarà ancora più importante rispetto al marzo scorso. Oltre a Cisco Bellotti\, a Luciano Gaetani\, colui che ha dato il via al progetto artistico\, Marco Michelini al violino\, da sempre braccio destro musicale di Luciano\, Roberto Zeno\, storico batterista del MCR e “Kaba” Cavazzuti\, produttore artistico e componente musicale dei MCR\, e ad alcuni compagni di viaggio degli ultimi anni di Cisco\, cioè Bruno Bonarrigo al basso\, Max Frignani alle chitarre ed Enrico Pasini alla fisarmonica e tromba\, per la “reprise” del tour saranno della partita altri componenti fondamentali per quello che fu il fenomeno MCR negli anni ‘90 e 2000\, cioè coloro che scrissero buona parte delle canzoni dei primi album\, Giovanni Rubbiani\, alla chitarra\, e Alberto Cottica\, alla fisarmonica\, oltre al “maestro di cerimonia” e quotatissimo a livello internazione suonatore di pipe e cornamuse Massimo Giuntini.
URL:https://www.ciscovox.it/event/treviso-suoni-di-marca-cisco-dal-vivo-con-il-riportando-tutto-a-casa-tour-30-anni-dopo/
LOCATION:suoni di Marca\, Treviso\, Treviso\, Treviso\, Italy
CATEGORIES:Riportando tutto a casa tour 30 dopo
ATTACH;FMTTYPE=image/jpeg:https://www.ciscovox.it/wp-content/uploads/2025/06/Senza-titolo.jpg
END:VEVENT
END:VCALENDAR