BEGIN:VCALENDAR
VERSION:2.0
PRODID:-//Stefano &quot;Cisco&quot; Bellotti - ECPv6.15.17//NONSGML v1.0//EN
CALSCALE:GREGORIAN
METHOD:PUBLISH
X-WR-CALNAME:Stefano &quot;Cisco&quot; Bellotti
X-ORIGINAL-URL:https://www.ciscovox.it
X-WR-CALDESC:Eventi per Stefano &quot;Cisco&quot; Bellotti
REFRESH-INTERVAL;VALUE=DURATION:PT1H
X-Robots-Tag:noindex
X-PUBLISHED-TTL:PT1H
BEGIN:VTIMEZONE
TZID:Europe/Rome
BEGIN:DAYLIGHT
TZOFFSETFROM:+0100
TZOFFSETTO:+0200
TZNAME:CEST
DTSTART:20180325T010000
END:DAYLIGHT
BEGIN:STANDARD
TZOFFSETFROM:+0200
TZOFFSETTO:+0100
TZNAME:CET
DTSTART:20181028T010000
END:STANDARD
BEGIN:DAYLIGHT
TZOFFSETFROM:+0100
TZOFFSETTO:+0200
TZNAME:CEST
DTSTART:20190331T010000
END:DAYLIGHT
BEGIN:STANDARD
TZOFFSETFROM:+0200
TZOFFSETTO:+0100
TZNAME:CET
DTSTART:20191027T010000
END:STANDARD
BEGIN:DAYLIGHT
TZOFFSETFROM:+0100
TZOFFSETTO:+0200
TZNAME:CEST
DTSTART:20200329T010000
END:DAYLIGHT
BEGIN:STANDARD
TZOFFSETFROM:+0200
TZOFFSETTO:+0100
TZNAME:CET
DTSTART:20201025T010000
END:STANDARD
END:VTIMEZONE
BEGIN:VEVENT
DTSTART;TZID=Europe/Rome:20190608T220000
DTEND;TZID=Europe/Rome:20190608T233000
DTSTAMP:20260421T111217
CREATED:20190419T125629Z
LAST-MODIFIED:20190527T155647Z
UID:12147-1560031200-1560036600@www.ciscovox.it
SUMMARY:Lesignana MO - Lesyinfest - Cisco dal vivo con Indiani e Cowboy Tour
DESCRIPTION:Sabato 8 giugno \, il tour di Indiani e Cowboy arriverà alla mitica festa Lesyinfest che si terrà per il 40 anno di fila a Lesignana alle porte di Modena ! \nIl nuovo concerto ovviamente vedrà impegnata tutta la band che ha lavorato al nuovo disco ovvero:\nSimone Copellini alla tromba\nMax Frignani alle chitarre\nBruno Bonarrigo al basso\nKaba Cavazzuti alla batteria. \nSarà un’ottima occasione per sentire un po di brani nuovi e vecchi cavalli di battaglia della nostra storia quasi trentennale \, prima coi Modena City Ramblers e poi da solo . \nSabato 8 maggio\nLesignana MOLesyinfesta\nInizio ore 21:30 ingresso gratuito
URL:https://www.ciscovox.it/event/lesignana-mo-lesinfest-cisco-dal-vivo-con-indiani-e-cowboy-tour/
LOCATION:lesignana\, lesignana MO\, Modena
CATEGORIES:Tour Indiani & Cowboy
END:VEVENT
BEGIN:VEVENT
DTSTART;TZID=Europe/Rome:20190518T213000
DTEND;TZID=Europe/Rome:20190518T230000
DTSTAMP:20260421T111217
CREATED:20190418T193742Z
LAST-MODIFIED:20190418T193742Z
UID:12142-1558215000-1558220400@www.ciscovox.it
SUMMARY:Firenze - Fest della legalità - Cisco dal vivo con Indiani e Cowboy Tour
DESCRIPTION:Sabato 18 maggio \, il tour di Indiani e Cowboy arriverà al festival della Legalità a Firenze presso Piazza delle Murate . \nIl nuovo concerto ovviamente vedrà impegnata tutta la band che ha lavorato al nuovo disco ovvero:\nSimone Copellini alla tromba\nMax Frignani alle chitarre\nBruno Bonarrigo al basso\nKaba Cavazzuti alla batteria. \nSarà un’ottima occasione per sentire un po di brani nuovi e vecchi cavalli di battaglia della nostra storia quasi trentennale \, prima coi Modena City Ramblers e poi da solo .
URL:https://www.ciscovox.it/event/firenze-fest-della-legalita-cisco-dal-vivo-con-indiani-e-cowboy-tour/
LOCATION:piazza delle murate\, firenze\, Italia
CATEGORIES:Tour Indiani & Cowboy
END:VEVENT
BEGIN:VEVENT
DTSTART;TZID=Europe/Rome:20190517T213000
DTEND;TZID=Europe/Rome:20190517T233000
DTSTAMP:20260421T111217
CREATED:20190418T143253Z
LAST-MODIFIED:20190506T164545Z
UID:12125-1558128600-1558135800@www.ciscovox.it
SUMMARY:Ferrandina (MT) Linea Gotica - Presentazione in trio acustico nuovo Album Indiani e Cowboy
DESCRIPTION:Presentazione del nuovo album “Indiani & cowboy” e set unplugged \nUna serata speciale\, quella con Stefano “Cisco” Bellotti\, fra parole e canzoni! Il cantautore folk rock\, che dopo la quindicinale avventura di successo con i Modena City Ramblers\, ha intrapreso la carriera solista \, sarà sul palco del mitico locale “Linea Gotica” a Ferrandina in provincia di Matera\, per un evento che lo vedrà dapprima presentare\, rispondendo alle nostre domande\, il suo nuovo album “Indiani & cowboy”\,uscito ad aprile\, e poi protagonista di un set unplugged in cui ci farà ascoltare alcune canzoni\, nuove e del suo repertorio. \nFerrandina Matera\nLinea Gotica\nInizio ore 22:00 Ingresso Gratuito!!!
URL:https://www.ciscovox.it/event/presentazione-in-trio-acustico-nuovo-album-indiani-e-cowboy/
LOCATION:Ferrandina\, Ferrandina\, Italia
CATEGORIES:Tour Indiani & Cowboy
END:VEVENT
BEGIN:VEVENT
DTSTART;TZID=Europe/Rome:20190501T211500
DTEND;TZID=Europe/Rome:20190501T230000
DTSTAMP:20260421T111217
CREATED:20190407T233548Z
LAST-MODIFIED:20190418T191054Z
UID:12020-1556745300-1556751600@www.ciscovox.it
SUMMARY:Muggiò MB - Festa del Primo Maggio – Cisco dal vivo con Indiani Cowboy Tour
DESCRIPTION:Mercoledì primo maggio\, festeggeremo la festa dei lavoratori \, in piazza in quel di Muggiò in provincia di Monza Brianza . \nIl nuovo concerto ovviamente vedrà impegnata tutta la band che ha lavorato al nuovo disco ovvero:\nSimone Copellini alla tromba\nMax Frignani alle chitarre\nBruno Bonarrigo al basso\nKaba Cavazzuti alla batteria. \nSarà un’ottima occasione per sentire un po di brani nuovi e vecchi cavalli di battaglia della nostra storia quasi trentennale \, prima coi Modena City Ramblers e poi da solo.
URL:https://www.ciscovox.it/event/festa-del-primo-maggio-cisco-dal-vivo-con-indiani-cowboy-tour-2/
LOCATION:Piazza Muggiò\, Muggiò\, 20835\, Italia
CATEGORIES:Tour Indiani & Cowboy
END:VEVENT
BEGIN:VEVENT
DTSTART;TZID=Europe/Rome:20190430T213000
DTEND;TZID=Europe/Rome:20190430T233000
DTSTAMP:20260421T111217
CREATED:20190407T232553Z
LAST-MODIFIED:20190418T191351Z
UID:12017-1556659800-1556667000@www.ciscovox.it
SUMMARY:Brentonico TN - Festa del primo maggio – Cisco dal vivo con Indiani & Cowboy Tour
DESCRIPTION:Martedì 30 aprile \, anticiperemo la festa del Primo Maggio a Brentonico in provincia di Trento. Infatti parteciperemo al festival di due giorni organizzata per festeggiare la festa dei lavoratori . \nIl nuovo concerto ovviamente vedrà impegnata tutta la band che ha lavorato al nuovo disco ovvero:\nSimone Copellini alla tromba\nMax Frignani alle chitarre\nBruno Bonarrigo al basso\nKaba Cavazzuti alla batteria. \nSarà un’ottima occasione per sentire un po di brani nuovi e vecchi cavalli di battaglia della nostra storia quasi trentennale \, prima coi Modena City Ramblers e poi da solo .
URL:https://www.ciscovox.it/event/festa-del-primo-maggio-cisco-dal-vivo-con-indiani-cowboy-tour/
LOCATION:Brentonico Trento\, Brentonico Trento\, Italia
CATEGORIES:Tour Indiani & Cowboy
END:VEVENT
BEGIN:VEVENT
DTSTART;TZID=Europe/Rome:20190428T180000
DTEND;TZID=Europe/Rome:20190428T193000
DTSTAMP:20260421T111217
CREATED:20190407T232217Z
LAST-MODIFIED:20190419T125055Z
UID:12014-1556474400-1556479800@www.ciscovox.it
SUMMARY:Terranova Bracciolini AR - Auditorium Le Fornaci - Presentazione del nuovo disco Indiani & Cowboy
DESCRIPTION:Presentazione del nuovo album “Indiani & cowboy” e set unplugged \nUn pomeriggio speciale\, quella con Stefano “Cisco” Bellotti\, fra parole e canzoni! Il cantautore folk rock\, che dopo la quindicinale avventura di successo con i Modena City Ramblers\, ha intrapreso una carriera solista di indubbia qualità\, sarà sul palco dell’ Auditorium Le Fornaci di Terranova Bracciolini in provincia di Arezzo\, per un evento che lo vedrà dapprima presentare\, rispondendo alle nostre domande\, il suo nuovo album “Indiani & cowboy”\, in uscita proprio ad aprile\, e poi protagonista di un set unplugged in cui ci farà ascoltare alcune canzoni\, nuove e del suo repertorio.
URL:https://www.ciscovox.it/event/presentazione-del-nuovo-disco-indiani-cowboy/
LOCATION:Auditorium Le Fornaci\, Via Vittorio Veneto\, 19\, Terranova Bracciolini AR\, Italia
CATEGORIES:Tour Indiani & Cowboy
END:VEVENT
BEGIN:VEVENT
DTSTART;TZID=Europe/Rome:20190427T211500
DTEND;TZID=Europe/Rome:20190427T233000
DTSTAMP:20260421T111217
CREATED:20190407T230958Z
LAST-MODIFIED:20190418T192006Z
UID:12006-1556399700-1556407800@www.ciscovox.it
SUMMARY:Fosdinovo MS - Museo della Resistenza - Cisco dal vivo con la presentazione di Indiani e Cowboy
DESCRIPTION:Presentazione del nuovo album “Indiani & cowboy” e set unplugged \nUna serata speciale\, quella con Stefano “Cisco” Bellotti\, fra parole e canzoni! Il cantautore folk rock\, che dopo la quindicinale avventura di successo con i Modena City Ramblers\, ha intrapreso una carriera solista\, sarà di nuovo al meravilgioso Museo della Resistenza di Fosdinovo in provincia di Massa\, per un evento che lo vedrà dapprima presentare\, rispondendo alle nostre domande\, il suo nuovo album “Indiani & cowboy”\, in uscita proprio ad aprile\, e poi protagonista di un set unplugged in cui ci farà ascoltare alcune canzoni\, nuove e del suo vecchio repertorio.\nSera con cena e posti da prenotare \nInfo su costi e orari della cena\, le inseriremo appena possibile !
URL:https://www.ciscovox.it/event/cisco-dal-vivo-con-la-presentazione-di-indiani-e-cowboy/
LOCATION:Museo della Resistenza\, Museo audio visivo della Resistenza\, Fosdinovo\, Massa\, Italy
CATEGORIES:Tour Indiani & Cowboy
END:VEVENT
BEGIN:VEVENT
DTSTART;TZID=Europe/Rome:20190425T153000
DTEND;TZID=Europe/Rome:20190425T180000
DTSTAMP:20260421T111217
CREATED:20190407T230537Z
LAST-MODIFIED:20190419T143627Z
UID:11999-1556206200-1556215200@www.ciscovox.it
SUMMARY:Villa Sorra Castelfranco Emilia MO - Festa della Liberazione\, con Vecchioni e Celestini – Cisco dal vivo!
DESCRIPTION:Il 25 aprile festeggeremo la festa della Liberazione nella splendida cornice del parco di Villa Sorra in provincia di Modena \, con un Festival molto importante e ricco di grandi nomi .\nInfatti oltre alla nostra partecipazione che ci vedrà al completo con tutta la band \, ci saranno in ordine sparso:\nRoberto Vecchioni\, Ascanio Celestini\, Il Banco del mutuo soccorso e molti altri ancora.\nIl festival inizierà al pomeriggio e terminerà prima di sera . La nostra esibizione dovrebbe tenersi pressapoco tra le 16:00 e le 18:00 saremo piu precisi più avanti.
URL:https://www.ciscovox.it/event/festa-della-liberazione-con-vecchioni-e-celestini-cisco-dal-vivo/
LOCATION:Villa Sorra Castelfranco Emilia MO\, Villa Sorra\, Castefranco Emilia MO\, MO\, Italia
CATEGORIES:Tour Indiani & Cowboy
END:VEVENT
BEGIN:VEVENT
DTSTART;TZID=Europe/Rome:20190413T213000
DTEND;TZID=Europe/Rome:20190413T213000
DTSTAMP:20260421T111217
CREATED:20190407T225916Z
LAST-MODIFIED:20190407T231026Z
UID:11990-1555191000-1555191000@www.ciscovox.it
SUMMARY:Festa dell’agricoltura – Cisco dal vivo con Indiani e Cowboy Tour
DESCRIPTION:Sabato 13 aprile \, partiremo con il nuovo tour dedicato al nuovo disco “Indiani & Cowboy” da Teramo \, in zona stadio a Piano d’Accio \, dove si terrà la festa dell’agricoltura !\nIl nuovo concerto ovviamente vedrà impegnata tutta la band che ha lavorato al nuovo disco ovvero:\nSimone Copellini alla tromba\nMax Frignani alle chitarre\nBruno Bonarrigo al basso\nKaba Cavazzuti alla batteria. \nSarà un’ottima occasione per sentire un po di brani nuovi e vecchi cavalli di battaglia della nostra storia quasi trentennale \, prima coi Modena City Ramblers e poi da solo.
URL:https://www.ciscovox.it/event/festa-dellagricoltura-cisco-dal-vivo-con-indiani-e-cowboy-tour/
LOCATION:Teramo Zona Stadio\, Piano d'Accio\, Teramo\, Italia
CATEGORIES:Tour Indiani & Cowboy
END:VEVENT
BEGIN:VEVENT
DTSTART;TZID=Europe/Rome:20190406T213000
DTEND;TZID=Europe/Rome:20190406T233000
DTSTAMP:20260421T111217
CREATED:20190406T130946Z
LAST-MODIFIED:20190408T013923Z
UID:11971-1554586200-1554593400@www.ciscovox.it
SUMMARY:Presentazione di "Indiani & cowboy" e set unplugged
DESCRIPTION:Una serata speciale\, quella con Stefano “Cisco” Bellotti\, fra parole e canzoni! Il cantautore folk rock\, che dopo la quindicinale avventura di successo con i Modena City Ramblers\, ha intrapreso una carriera solista di indubbia qualità\, sarà sul palco dell’ Orvettspace per un evento che lo vedrà dapprima presentare\, rispondendo alle nostre domande\, il suo nuovo album “Indiani & cowboy”\, in uscita proprio ad aprile\, e poi protagonista di un set unplugged in cui ci farà ascoltare alcune canzoni\, nuove e del suo repertorio.
URL:https://www.ciscovox.it/event/presentazione-di-indiani-cowboy-e-set-unplugged/
LOCATION:Orvettspace\, Via Vittoria 75\, Mussolente\, 36065\, Italia
CATEGORIES:Tour Indiani & Cowboy
END:VEVENT
END:VCALENDAR